Workbook
Name _Hlk20484147: 'M4 Checklist'!$J$15
Name _Hlk20484147: 'M5 Checklist'!$J$28
Name p: tracker_is!$B$8

Sheet M4 - Calculator
A1: M4 Exercise sheet - Calculator
A2: Welcome to the M4 exercise sheet! This is a simple calculator to help you define your sample, step by step. Follow the instructions and fill in the requested information in the blue cells. Grey cells should NOT be edited. The relevant results will appear in the yellow cells.
A4: Step 1. Describe your target population: Whom do you need answers from? | J4: Careful! Your desired sample size cannot be higher than the maximum reachable sample. Decrease the desired sample size, or find ways to increase the maxiumum reachable sample by improving the quality of your database (e.g. can you get updated contact details?) and/or increasing the response rate (e.g. pick a different survey methodology, combine 2 methodologies, offer incentives to answer, etc.)
A5: Our target population is people who have bought our ceramic filter from one of our sales agents. They are mostly living in rural areas. | J5: Please first address the issue above in order to obtain this value
J6: Your desired sample size is less than 100, which makes it hard to conduct meaningful analysis. If possible, increase your desired sample size so that it's at least 100.
A7: Step 2. Define your sample size with the calculator below. Fill in the blue cells on the right and the number of people you will have to contact will appear in the yellow cell below. | J7: Since your target population is less than 200, it is recommended to set your desired sample size equal to your maximum reachable sample size (i.e. you try to target all the population with the survey)
A9: Size of the target population | C9: 1000
A10: Indicate the size of your target population. Have a look at the theory if you do not remember what we mean by target population.
A12: Quality of contact database (%) | C12: 0.9
A13: Enter the estimated accuracy of your contact database. It should be a value between 0 - 100%. 50% means that your database is very bad and that its information is not reliable, while 95% means that it is up to date and accurate.
A15: Response rate (%) | C15: 0.6
A16: Enter your estimated response rate. It should be a value between 0 - 100% and will depend on your survey method. Have a look at the table in the theory document if you are not sure.
A18: Maximum reachable sample size | C18: =IF(OR(C9=0,C12=0,C15=0),"",C9*C12*C15) -> 540
A19: This is the estimated maximum number of responses you would get if you try to reach the full target population, based on the quality of your database and the expected response rate
A21: Desired sample size | C21: 300 | D21: =IF(C21>C18,J4,IF(AND(C9<201,C9>0),J7,IF(AND(C21<100,C21>0.001),J6,"")))
A22: Indicate the desired size of your sample. The number should be between 100 (minimum recommended sample size) and the maximum reachable sample size calculated above.
A24: Desired sample as % of total target population | C24: =IF(OR(C9=0,C21=0),"",C21/C9) -> 0.3 | D24: =IF(AND(C9<2001,C24<0.3),#REF!,"")
A25: This is your desired sample size as % of your target population. It should be at least 30% to ensure representativeness. If it is less, please increase the desired sample size above if possible
A27: Number of contacts to target | C27: =IF(OR(C21=0,C9=0),"",IF(C21>C18,"",C21/C12/C15)) -> 555.55556 | D27: =IF(C21>C18,J5,"")
A28: This is the number of people you need to pull from your database and try to contact, in order to achieve your desired sample size.
A30: Step 3: Calibrate your sample. Fill in the blue cells with the most relevant characteristics of your target population, and the % distribution across categories. In the yellow cells you will see how many contacts with those characteristics you need to select (roughly) to have a representative sample.
A32: Characteristic | B32: Justification: why is this characteristic important? | C32: Categories | D32: % in target population | E32: Number of contacts you need to select in your database
A33: Gender | B33: Men and women value different aspects of or product and use it in different contexts | C33: Female | D33: 0.8 | E33: =IF(OR(D33="",$C$27="",$C$21=""),"",$C$27*D33) -> 444.44444
C34: Male | D34: 0.2 | E34: =IF(OR(D34="",$C$27="",$C$21=""),"",$C$27*D34) -> 111.11111
E35: =IF(OR(D35="",$C$27="",$C$21=""),"",$C$27*D35)
E36: =IF(OR(D36="",$C$27="",$C$21=""),"",$C$27*D36)
E37: =IF(OR(D37="",$C$27="",$C$21=""),"",$C$27*D37)
C38: TOTAL | D38: =SUM(D33:D37) -> 1 | E38: =SUM(E33:E37) -> 555.55556 | F38: =IF(OR(A33="Pick from the dropdown or write your own:",A33=""),"",IF(D38<1,"The percentages across the categories must add up to 100%",""))
A39: Location | B39: Different villages may have different purchasing behavior and be served by different community sales people | C39: North | D39: 0.1 | E39: =IF(OR(D39="",$C$27="",$C$21=""),"",$C$27*D39) -> 55.555556
C40: East | D40: 0.4 | E40: =IF(OR(D40="",$C$27="",$C$21=""),"",$C$27*D40) -> 222.22222
C41: Central | D41: 0.1 | E41: =IF(OR(D41="",$C$27="",$C$21=""),"",$C$27*D41) -> 55.555556
C42: South | D42: 0.2 | E42: =IF(OR(D42="",$C$27="",$C$21=""),"",$C$27*D42) -> 111.11111
C43: West | D43: 0.2 | E43: =IF(OR(D43="",$C$27="",$C$21=""),"",$C$27*D43) -> 111.11111
C44: TOTAL | D44: =SUM(D39:D43) -> 1 | E44: =SUM(E39:E43) -> 555.55556 | F44: =IF(OR(A39="Pick from the dropdown or write your own:",A39=""),"",IF(D44<1,"The percentages across the categories must add up to 100%",""))
A45: n/a | E45: =IF(OR(D45="",$C$27="",$C$21=""),"",$C$27*D45)
E46: =IF(OR(D46="",$C$27="",$C$21=""),"",$C$27*D46)
E47: =IF(OR(D47="",$C$27="",$C$21=""),"",$C$27*D47)
E48: =IF(OR(D48="",$C$27="",$C$21=""),"",$C$27*D48)
E49: =IF(OR(D49="",$C$27="",$C$21=""),"",$C$27*D49)
C50: TOTAL | D50: =SUM(D45:D49) -> 0 | E50: =SUM(E45:E49) -> 0 | F50: =IF(OR(A45="Pick from the dropdown or write your own:",A45=""),"",IF(D50<1,"The percentages across the categories must add up to 100%","")) -> The percentages across the categories must add up to 100%
...

Sheet tracker_is
A1: This is the number of completed surveys you are aiming for | B1: =IF('M4 - Calculator'!C9="Sample",'M4 - Calculator'!F21,'M4 - Calculator'!C27) -> 555.55556
A3: This is the number of contacts you want to reach out to | B3: =IF('M4 - Calculator'!C9="Sample",'M4 - Calculator'!C27,'M4 - Calculator'!F21) -> 0
F5: 1.96
F6: 0.03
F7: 0.5
F8: =1-F7 -> 0.5

Sheet M4 Checklist
A1: M4 Checklist
A2: As you complete Module 4 exercise, make sure that:
B3: Your desired sample size is big enough to give you reliable and representative results (usually at least 100 and at least 30% of the target population), but not too ambitious either, to allow you to complete the survey within the allocated time and resources
B4: Your contact database contains the right number of contacts to allow you to achieve your desired sample size (i.e. the number obtained on Step 2 of the Calculator)
B5: Your contact database contains only the targeted group of respondents, i.e. people who will be able to answer all the question defined in Module 3
B6: Your contact list is as complete and clean as possibile, i.e.:
C7: It doesn't contain the same contact more than once
C8: It contains, for each contact, information about the characteristics chosen to calibrate the sample
C9: All the data is written in a uniform way (e.g. all phone numbers include the country code)
B10: Your contact database is representative, i.e. it roughly replicates the same proportions of the target population for all characteristics chosen to calibrate the sample.

Sheet Contact database
A1: Caution: do not paste here your full database, but only the number of contacts you need to reach your desired sample size (i.e. the result in cell C28 of the Calculator)
A2: Module 4 | J2: Module 5
A3: ID number (make sure to be able to link this database to your existing one, in order to cross-check information that you have in your existing database) | B3: First name | C3: Last name | D3: Phone or email address (make sure all entries are in the same format; phone numbers should all have the number of digits that is common in your country) | E3: =IF(OR('M4 - Calculator'!A33=0,'M4 - Calculator'!A33="Pick from the dropdown or write your own:"), "Characteristic 1", 'M4 - Calculator'!A33) -> Gender | F3: =IF(OR('M4 - Calculator'!A39=0,'M4 - Calculator'!A39="Pick from the dropdown or write your own:"), "Characteristic 2", 'M4 - Calculator'!A39) -> Location | G3: =IF(OR('M4 - Calculator'!A45=0,'M4 - Calculator'!A45="Pick from the dropdown or write your own:"), "Characteristic 3", 'M4 - Calculator'!A45) -> n/a | H3: =IF(OR('M4 - Calculator'!A51=0,'M4 - Calculator'!A51="Pick from the dropdown or write your own:"), "Characteristic 4", 'M4 - Calculator'!A51) -> n/a | I3: =IF(OR('M4 - Calculator'!A57=0,'M4 - Calculator'!A57="Pick from the dropdown or write your own:"), "Characteristic 5", 'M4 - Calculator'!A57) -> n/a | J3: Survey status | M3: Survey status legend:
A4: 1 | B4: Fabiola | C4: Aguilar | D4: 967-602-5887 | E4: Female | F4: West | J4: Completed | M4: Completed | N4: Questionnaire completed
A5: 2 | B5: Lucrecia | C5: Rey | D5: 914-713-9760 | E5: Female | F5: East | J5: Wrong contact | M5: Wrong contact | N5: Wrong phone nr or email
A6: 3 | B6: Valeriano | C6: Gómez | D6: 248-672-9339 | E6: Male | F6: West | J6: Completed | M6: Declined | N6: Did not agree to participate
A7: 4 | B7: Hildegarda | C7: Martínez | D7: 236-955-5702 | E7: Female | F7: West | J7: Completed | M7: Drop-off | N7: Started questionnaire but did not complete
A8: 5 | B8: Calixto | C8: Calvo | D8: 331-250-8964 | E8: Male | F8: Central | J8: Completed | M8: Pending | N8: Agreed to participate but postponed
A9: 6 | B9: Consuelo | C9: Aguilar | D9: 880-835-7232 | E9: Female | F9: East | J9: Completed | M9: No answer | N9: Could not reach the respondent
A10: 7 | B10: Liduvina | C10: Carrasco | D10: 524-710-5492 | E10: Female | F10: East | J10: Completed
A11: 8 | B11: Celina | C11: Suárez | D11: 362-273-2684 | E11: Female | F11: East | J11: No answer
A12: 9 | B12: Eugenia | C12: Márquez | D12: 802-216-7790 | E12: Female | F12: North | J12: Completed
A13: 10 | B13: Luisa | C13: Díaz | D13: 262-816-4295 | E13: Female | F13: East | J13: Completed
A14: 11 | B14: Purificación | C14: Jiménez | D14: 420-961-9031 | E14: Female | F14: East | J14: Completed
A15: 12 | B15: Sara | C15: Arias | D15: 837-527-1629 | E15: Female | F15: East | J15: Completed
A16: 13 | B16: Carolina | C16: Gallardo | D16: 535-435-6511 | E16: Female | F16: East | J16: Completed
A17: 14 | B17: Elena | C17: Morales | D17: 271-323-8175 | E17: Female | F17: West | J17: Completed
A18: 15 | B18: Sonia | C18: Torres | D18: 397-318-6560 | E18: Female | F18: Central | J18: No answer
A19: 16 | B19: Esther | C19: Navarro | D19: 342-540-1933 | E19: Female | F19: North | J19: Completed
A20: 17 | B20: Encarnación | C20: Santos | D20: 246-846-8608 | E20: Female | F20: East | J20: Drop-off
A21: 18 | B21: Remedios | C21: Ortiz | D21: 949-244-8898 | E21: Female | F21: North | J21: Wrong contact
... A559: 556 | B559: Natalia | C559: Delgado | D559: 817-416-8199 | E559: Female | F559: Central | J559: Completed

Sheet M5 - Tracker
A1: M5 Exercise sheet - Tracker
A2: Welcome to the M5 exercise sheet! This is a tracking tool to help you monitor your progress. It is mostly designed for phone or face-to-face surveys, but it can be used for SMS and online surveys too. Follow the instructions and fill in the requested information in the blue cells. Grey cells should NOT be edited. The relevant results will appear in the yellow cell. Note: this is just an example! You can set up your own tracking system, but make sure to include all relevant metrics.
A4: Step 1. Fill in the requested information about survey dates in the blue cells.
A6: Date of survey launch | B6: 44256
A7: Please indicate the date you launched (or plan to launch) the survey (dd.mm.yyyy)
A9: Date of survey end | B9: 44277
A10: Please indicate the date the survey should end (dd.mm.yyyy)
A12: Step 2. Once your survey has been launched, fill in the outcome of your surveying activities in the blue cells. Make sure to update this regularly. The grey cells will then display progress tracking metrics. Note: you can also update column J of the 'Contact database' tab to track the status of each respondent. If you do so, the cells in this Tracker will automatically populate
A14: Current date | B14: 44277
A15: Please indicate the current date - make sure to update it whenever you update the numbers below
A17: Number of people attempted to reach so far | B17: =IF(COUNTA('Contact database'!$J$4:$J$1048576)=0,"",COUNTA('Contact database'!$J$4:$J$1048576)) -> 556
A18: How many people you have reached out to, regardless if the contact details were correct, or if they responded to the survey?
A20: Number of completed surveys | B20: =IF(COUNTA('Contact database'!$J$4:$J$1048576)=0,"",COUNTIF('Contact database'!$J$4:$J$1048576,'Contact database'!$M$4)) -> 396
A21: How many of the people you contacted actually completed the survey?
A23: Number of wrong contacts | B23: =IF(COUNTA('Contact database'!$J$4:$J$1048576)=0,"",COUNTIF('Contact database'!$J$4:$J$1048576,'Contact database'!$M$5)) -> 48
A24: How many of the people you attempted to reach had wrong contact details (e.g. non-existent phone number, bounced email)?
A26: Number of people who declined to participate | B26: =IF(COUNTA('Contact database'!$J$4:$J$1048576)=0,"",COUNTIF('Contact database'!$J$4:$J$1048576,'Contact database'!$M$6)) -> 35
A27: How many people did not agree to participate in the survey?
A29: Number of drop-offs | B29: =IF(COUNTA('Contact database'!$J$4:$J$1048576)=0,"",COUNTIF('Contact database'!$J$4:$J$1048576,'Contact database'!$M$7)) -> 22
A30: How many people started the survey but did not complete it?
A32: Number of pending surveys | B32: =IF(COUNTA('Contact database'!$J$4:$J$1048576)=0,"",COUNTIF('Contact database'!$J$4:$J$1048576,'Contact database'!$M$8)) -> 0
A33: How many people agreed to complete the survey, but have not done so yet (e.g. call postponed due to time constraints)?
A35: Number of people with no answer | B35: =IF(COUNTA('Contact database'!$J$4:$J$1048576)=0,"",COUNTIF('Contact database'!$J$4:$J$1048576,'Contact database'!$M$9)) -> 55
A36: How many people have you not received any answer from (for reasons other than wrong contact details)?
A38: Actual database quality | B38: =IF(B17="","",(1-B23/B17)) -> 0.91366906 | C38: =IF(B38="","",IF(B38<'M4 - Calculator'!C12,"Careful, your database quality is lower than anticipated in Module 4. Make sure to monitor this carefully and intervene if necessary",""))
A39: Percentage of contacts details that were correct
A41: Actual response rate | B41: =IF(B17="","",B20/(B17-B23)) -> 0.77952756 | C41: =IF(B41="","",IF(B41<'M4 - Calculator'!C15,"Careful, your response rate is lower than anticipated in Module 4. Make sure to monitor this carefully and intervene if necessary",""))
A42: Percentage of people contacted (excluding those with wrong contacts) who actually completed the survey
A44: Remaining surveys to complete by end of survey period | B44: =IF(B17="","",IF(B20>='M4 - Calculator'!C21,0,'M4 - Calculator'!C21-B20)) -> 0
A45: This is the number of people who still must complete the survey in order for you to reach your desired sample size defined in Module 4
A47: Step 3. Check the profile of your respondents and fill in the number of completed surveys for each group, in the blue cells. On the right, you will see if some options are over- or underrepresented in the sample you interviewed so far.
A49: Characteristic | B49: Categories | C49: Number of completed surveys | D49: % in actual sample | E49: Representativeness (Considered representative if it is within +/- 10% of the targeted percentage)
A50: =IF('M4 - Calculator'!A33="","",'M4 - Calculator'!A33) -> Gender | B50: =IF('M4 - Calculator'!C33="","",'M4 - Calculator'!C33) -> Female | C50: =COUNTIFS('Contact database'!$E$4:$E$559,B50,'Contact database'!$J$4:$J$559,"Completed") -> 315 | D50: =IF(C50="","",C50/$B$20) -> 0.79545455 | E50: =IF(D50="","",IF(D50>('M4 - Calculator'!D33+10%),"Overrepresented",IF(D50<('M4 - Calculator'!D33-10%),"Underrepresented","Representative"))) -> Representative
B51: =IF('M4 - Calculator'!C34="","",'M4 - Calculator'!C34) -> Male | C51: =COUNTIFS('Contact database'!$E$4:$E$559,B51,'Contact database'!$J$4:$J$559,"Completed") -> 81 | D51: =IF(C51="","",C51/$B$20) -> 0.20454545 | E51: =IF(D51="","",IF(D51>('M4 - Calculator'!D34+10%),"Overrepresented",IF(D51<('M4 - Calculator'!D34-10%),"Underrepresented","Representative"))) -> Representative
B52: =IF('M4 - Calculator'!C35="","",'M4 - Calculator'!C35) | D52: =IF(C52="","",C52/$B$20) | E52: =IF(D52="","",IF(D52>('M4 - Calculator'!D35+10%),"Overrepresented",IF(D52<('M4 - Calculator'!D35-10%),"Underrepresented","Representative")))
B53: =IF('M4 - Calculator'!C36="","",'M4 - Calculator'!C36) | D53: =IF(C53="","",C53/$B$20) | E53: =IF(D53="","",IF(D53>('M4 - Calculator'!D36+10%),"Overrepresented",IF(D53<('M4 - Calculator'!D36-10%),"Underrepresented","Representative")))
B54: =IF('M4 - Calculator'!C37="","",'M4 - Calculator'!C37) | D54: =IF(C54="","",C54/$B$20) | E54: =IF(D54="","",IF(D54>('M4 - Calculator'!D37+10%),"Overrepresented",IF(D54<('M4 - Calculator'!D37-10%),"Underrepresented","Representative")))
B55: =IF('M4 - Calculator'!C38="","",'M4 - Calculator'!C38) -> TOTAL | C55: =SUM(C50:C54) -> 396 | D55: =SUM(D50:D54) -> 1
A56: =IF('M4 - Calculator'!A39="","",'M4 - Calculator'!A39) -> Location | B56: =IF('M4 - Calculator'!C39="","",'M4 - Calculator'!C39) -> North | C56: =COUNTIFS('Contact database'!$F$4:$F$559,B56,'Contact database'!$J$4:$J$559,"Completed") -> 33 | D56: =IF(C56="","",C56/$B$20) -> 0.083333333 | E56: =IF(D56="","",IF(D56>('M4 - Calculator'!D39+10%),"Overrepresented",IF(D56<('M4 - Calculator'!D39-10%),"Underrepresented","Representative"))) -> Representative
B57: =IF('M4 - Calculator'!C40="","",'M4 - Calculator'!C40) -> East | C57: =COUNTIFS('Contact database'!$F$4:$F$559,B57,'Contact database'!$J$4:$J$559,"Completed") -> 164 | D57: =IF(C57="","",C57/$B$20) -> 0.41414141 | E57: =IF(D57="","",IF(D57>('M4 - Calculator'!D40+10%),"Overrepresented",IF(D57<('M4 - Calculator'!D40-10%),"Underrepresented","Representative"))) -> Representative
...

Sheet M5 Checklist
A1: M5 Checklist
A2: Before rolling out the survey, make sure that:
B3: You have tested your survey on a few people to make sure that:
C4: All questions are clear
C5: There are no technical problems in filling out or submitting the questionnaire
C6: Responses are recorded in the right format
B7: You have set up a team in charge of the survey:
C8: Responsibilities and deadlines are known to all
C9: The team has been given the necessary bandwidth to focus on the survey during the surveying period
C10: For face-to-face or phone surveys, interviewers have been trained to understand all questions and record answers properly
C11: If an external provider is involved, it has been properly onboarded and is ready to start at the agreed date
B12: You set a clear survey workplan, including:
C13: Start and end date
C14: For face-to-face and phone surveys, precise schedule for the interviews
C15: Intermediate targets (e.g. number of surveys completed per week)
C16: Frequency of monitoring progress
C17: Plan for following up with non-respondents
A18: During survey rollout, make sure that:
B19: You monitor the progress regularly to make sure your survey is on track. You check in particular:
C20: The actual quality of your contact database
C21: Your actual response rate
C22: The representativeness of your actual sample against the sampling characteristics selected in Module 4
B23: If you detect any problem or delay, you intervene quickly to try and correct it

Sheet M5 Cheat sheet
L3: Have not reviewed that yet. Will do with M5. But essentially, the tracker is for M5
