Workbook
Name _ftn1: 'Referencias fórmulas'!$A$72
Name _ftn2: 'Referencias fórmulas'!$A$73
Name _ftn3: 'Referencias fórmulas'!$A$74
Name _ftnref1: 'Referencias fórmulas'!$C$61
Name _ftnref2: 'Referencias fórmulas'!$C$65
Name _ftnref3: 'Referencias fórmulas'!$C$66

Sheet Herramienta de selección de KPI
B1: Herramienta de selección de indicadores clave (KPI) de género
B2: ¡Descubra qué métricas debe seguir en función del tipo de iniciativa de integración de la perspectiva de género que tenga previsto poner en marcha! Instrucciones: Marque la casilla correspondiente al tipo o tipos de iniciativas de género que le gustaría poner en marcha para descubrir nuestras sugerencias sobre los parámetros de los que debe hacer un seguimiento y los puntos de referencia sugeridos. Notas: - Los puntos de referencia son cifras medias recopiladas de 78 empresas sociales de múltiples sectores en América Latina tras haber puesto en marcha iniciativas de integración de la perspectiva de género. Por lo tanto, pueden servir como valores objetivo para las organizaciones que pretendan mejorar su rendimiento mediante iniciativas de integración de la perspectiva de género. - Las métricas se sugieren sobre la base de resultados reales y medidos, es decir, identificamos los KPI en los que las empresas obtuvieron mejores resultados después de implementar diferentes tipos de iniciativas, y basamos nuestras recomendaciones en ello. - Si todavía no está seguro de qué tipos de iniciativas podrían ser más eficaces para su organización, utilice primero nuestro "Cuestionario de evaluación de género" y la "Herramienta de evaluación comparativa de los KPI de género", que le ayudarán a diagnosticar dónde tiene su organización las mayores oportunidades de mejora y qué tipos de iniciativas de género tienen más sentido.
B4: Área de intervención | C4: Tipo de iniciativa de género | D4: Casilla | E4: Métricas propuestas | F4: Valor de referencia
B5: Diversidad del personal y del liderazgo | C5: Contratación equilibrada entre géneros | D5: FALSE | E5: =IF($D$5,'Referencias fórmulas'!$A$2,"") | F5: =IF($D$5,'Referencias fórmulas'!$B$2,"")
E6: =IF($D$5,'Referencias fórmulas'!$A$3,"") | F6: =IF($D$5,'Referencias fórmulas'!$B$3,"")
E7: =IF($D$5,'Referencias fórmulas'!$A$4,"") | F7: =IF($D$5,'Referencias fórmulas'!$B$4,"")
E8: =IF($D$5,'Referencias fórmulas'!$A$5,"") | F8: =IF($D$5,'Referencias fórmulas'!$B$5,"")
E9: =IF($D$5,'Referencias fórmulas'!$A$6,"") | F9: =IF($D$5,'Referencias fórmulas'!$B$6,"")
E10: =IF($D$5,'Referencias fórmulas'!$A$7,"") | F10: =IF($D$5,'Referencias fórmulas'!$B$7,"")
C11: Promoción y retención equilibradas entre géneros | D11: FALSE | E11: =IF($D$11,'Referencias fórmulas'!$A$3,"") | F11: =IF($D$11,'Referencias fórmulas'!$B$3,"")
E12: =IF($D$11,'Referencias fórmulas'!$A$8,"") | F12: =IF($D$11,'Referencias fórmulas'!$B$8,"")
E13: =IF($D$11,'Referencias fórmulas'!$A$9,"") | F13: =IF($D$11,'Referencias fórmulas'!$B$9,"")
E14: =IF($D$11,'Referencias fórmulas'!$A$2,"") | F14: =IF($D$11,'Referencias fórmulas'!$B$2,"")
E15: =IF($D$11,'Referencias fórmulas'!$A$5,"") | F15: =IF($D$11,'Referencias fórmulas'!$B$5,"")
E16: =IF($D$11,'Referencias fórmulas'!$A$7,"") | F16: =IF($D$11,'Referencias fórmulas'!$B$7,"")
E17: =IF($D$11,'Referencias fórmulas'!$A$10,"") | F17: =IF($D$11,'Referencias fórmulas'!$B$10,"")
E18: =IF($D$11,'Referencias fórmulas'!$A$11,"") | F18: =IF($D$11,'Referencias fórmulas'!$B$11,"")
E19: =IF($D$11,'Referencias fórmulas'!$A$6,"") | F19: =IF($D$11,'Referencias fórmulas'!$B$6,"")
C20: Políticas y prácticas de RRHH con perspectiva de género | D20: FALSE | E20: =IF($D$20,'Referencias fórmulas'!$A$2,"") | F20: =IF($D$20,'Referencias fórmulas'!$B$2,"")
E21: =IF($D$20,'Referencias fórmulas'!$A$5,"") | F21: =IF($D$20,'Referencias fórmulas'!$B$5,"")
E22: =IF($D$20,'Referencias fórmulas'!$A$10,"") | F22: =IF($D$20,'Referencias fórmulas'!$B$10,"")
E23: =IF($D$20,'Referencias fórmulas'!$A$12,"") | F23: =IF($D$20,'Referencias fórmulas'!$B$12,"")
E24: =IF($D$20,'Referencias fórmulas'!$A$7,"") | F24: =IF($D$20,'Referencias fórmulas'!$B$7,"")
C25: Diversidad en el Consejo de administración | D25: FALSE | E25: =IF($D$25,'Referencias fórmulas'!$A$13,"") | F25: =IF($D$25,'Referencias fórmulas'!$B$13,"")
E26: =IF($D$25,'Referencias fórmulas'!$A$4,"") | F26: =IF($D$25,'Referencias fórmulas'!$B$4,"")
E27: =IF($D$25,'Referencias fórmulas'!$A$14,"") | F27: =IF($D$25,'Referencias fórmulas'!$B$14,"")
B29: Producto o servicio con perspectiva de género | C29: Diseño de productos y estudios de mercado con perspectiva de género | D29: FALSE | E29: =IF($D$29,'Referencias fórmulas'!$A$15,"") | F29: =IF($D$29,'Referencias fórmulas'!$B$15,"")
E30: =IF($D$29,'Referencias fórmulas'!$A$16,"") | F30: =IF($D$29,'Referencias fórmulas'!$B$16,"")
E31: =IF($D$29,'Referencias fórmulas'!$A$17,"") | F31: =IF($D$29,'Referencias fórmulas'!$B$17,"")
E32: =IF($D$29,'Referencias fórmulas'!$A$4,"") | F32: =IF($D$29,'Referencias fórmulas'!$B$4,"")
E33: =IF($D$29,'Referencias fórmulas'!$A$18,"") | F33: =IF($D$29,'Referencias fórmulas'!$B$18,"")
E34: =IF($D$29,'Referencias fórmulas'!$A$5,"") | F34: =IF($D$29,'Referencias fórmulas'!$B$5,"")
E35: =IF($D$29,'Referencias fórmulas'!$A$7,"") | F35: =IF($D$29,'Referencias fórmulas'!$B$7,"")
E36: =IF($D$29,'Referencias fórmulas'!$A$19,"") | F36: =IF($D$29,'Referencias fórmulas'!$B$19,"")
E37: =IF($D$29,'Referencias fórmulas'!$A$20,"") | F37: =IF($D$29,'Referencias fórmulas'!$B$20,"")
E38: =IF($D$29,'Referencias fórmulas'!$A$11,"") | F38: =IF($D$29,'Referencias fórmulas'!$B$11,"")
E39: =IF($D$29,'Referencias fórmulas'!$A$6,"") | F39: =IF($D$29,'Referencias fórmulas'!$B$6,"")
C40: Marketing y comunicación con perspectiva de género | D40: FALSE | E40: =IF($D$40,'Referencias fórmulas'!$A$4,"") | F40: =IF($D$40,'Referencias fórmulas'!$B$4,"")
E41: =IF($D$40,'Referencias fórmulas'!$A$18,"") | F41: =IF($D$40,'Referencias fórmulas'!$B$18,"")
E42: =IF($D$40,'Referencias fórmulas'!$A$15,"") | F42: =IF($D$40,'Referencias fórmulas'!$B$15,"")
...

Sheet Referencias fórmulas
A1: Métricas propuestas | B1: Valor de referencia
A2: Proporción de mujeres en el personal de su organización | B2: 0.42
A3: Proporción de mujeres en el liderazgo de su organización | B3: 0.38
A4: Tasa anual de crecimiento de los ingresos de su organización | B4: 0.71
A5: Proporción de personal (muy) satisfecho con el trabajo en su organización | B5: 0.82
A6: Proporción del personal de su organización formado en integración de la perspectiva de género | B6: 0.59
A7: Nivel de productividad media alcanzado por el personal de su organización (en métricas de productividad específicas y predefinidas) | B7: NA
A8: Tasa de rotación de directivos/as en su organización | B8: NA
A9: Tasa de rotación del personal (mujeres y hombres) en su organización | B9: NA
A10: Brecha salarial entre hombres y mujeres en su organización | B10: NA
A11: Importe de la inversión/financiación anual obtenida por su organización gracias a/para su labor en materia de género (en USD) | B11: NA
A12: Proporción del personal de su organización que califica de (muy) bueno el equilibrio entre vida profesional y vida privada | B12: NA
A13: Proporción de miembros del Consejo de su organización (muy) satisfechos con el funcionamiento y la eficacia del Consejo | B13: 1
A14: Proporción de mujeres en el Consejo de Administración de su organización | B14: NA
A15: Proporción de mujeres entre los clientes/usuarios/beneficiarios/as finales atendidos/as por su organización | B15: 0.4
A16: Proporción de clientes/usuarios/beneficiarios/as finales (muy) satisfechos/as con el producto/servicio de su organización | B16: 0.81
A17: Proporción de clientas/usuarias/beneficiarias finales de su organización que se sienten (muy) empoderadas por su producto/servicio | B17: 0.62
A18: Incremento porcentual anual del número de clientes/usuarios/beneficiarios/as finales atendidos/as por su organización | B18: 0.81
A19: Coste medio de adquisición de clientes/usuarios/beneficiarios/as finales para su organización (USD) | B19: NA
A20: Facturación media anual de los/as clientes/usuarios/beneficiarios/as finales de su organización | B20: NA
A21: Eficacia de las herramientas/actividades de comunicación de su organización dirigidas a los/as clientes/usuarios/beneficiarios/as finales | B21: NA
A22: Proporción de proveedores/as estratégicos/as de su organización que logran una mayor inclusión y diversidad de género entre su personal, liderazgo o Consejos de Administración | B22: 0.43
A23: Nivel medio de producción/productividad de los/as proveedores/as estratégicos/as, como resultado de la aplicación de políticas de inclusión de género (en métricas específicas y predefinidas de producción/productividad) | B23: NA
A24: Proporción de proveedores/as estratégicos/as de su organización formados/as para mejorar la inclusión de género y la diversidad | B24: 0.31
