Workbook

Sheet Gender KPI tool
B1: Gender KPI benchmarking tool
B2: Assess your performance against our benchmarks and identify which types of gender initiatives can help you achieve better success for specific metrics! Instructions: For each metric, insert the current data for your organisation in column C to see how you are currently performing against the benchmark and unlock our recommendations on what types of gender initiatives could help you improve, and valuable resources for implementation. Notes: - The benchmarks used to compute the "Performance evaluation" are average figures collected from 78 social entreprises across multiple sectors in Latam after having implemented gender mainstreaming initiatives. Therefore, they serve as a reference to determine whether a venture might be underperforming on a given metric. - The initiative types are suggested based on actual, measured results, i.e. we identified which initiatives led to best results in the various KPIs, and based on our recommendations on that. - This tool focuses on selected, quantifiable metrics; for a broader and more qualitative assessment of how your organization fares on gender inclusion, please also use our "Gender assessment questionnaire". If you already know which types of gender initiatives you want to implement, and are rather looking for suggestions on which metrics are most relevant to track, please use our "Gender KPI selection tool" instead.
B4: KPI #1 | C4: Your value | E4: Performance evaluation | G4: Suggested types of gender initiatives | H4: Resources
B6: Proportion of women in your organisation's staff | C6: Enter your value here | E6: =IF(C6="","",IF(C6='Formulas references'!$A$2,"",IF(C6='Formulas references'!$A$3,'Formulas references'!$B$2,IF(ISNUMBER(C6)=FALSE,'Formulas references'!$B$6,IF(C6<='Formulas references'!$F$3,'Formulas references'!$B$3,IF(AND(C6>'Formulas references'!$F$3,C6<'Formulas references'!$F$2),'Formulas references'!$B$4,IF(C6>='Formulas references'!$F$2,'Formulas references'!$B$5,""))))))) | G6: =IF(C6='Formulas references'!$A$2,"",IF(E6='Formulas references'!$B$2,'Formulas references'!$C$3,IF(E6='Formulas references'!$B$5,'Formulas references'!$C$4,IF(OR(E6='Formulas references'!$B$3,E6='Formulas references'!$B$4),'Formulas references'!$C$2,""))))
C7: ='Formulas references'!$A$4 -> Note: if no data available, enter "NA" | E7: =IF(C6="","",IF(C6='Formulas references'!$A$3,'Formulas references'!$F$2,IF(C6='Formulas references'!$A$2,"",IF(C6>='Formulas references'!$F$2,"",'Formulas references'!$F$2-C6)))) | G7: =IF(OR(G6='Formulas references'!$C$2,G6='Formulas references'!$C$3),'Formulas references'!$P$2,"") | H7: =IF(OR(G6='Formulas references'!$C$2,G6='Formulas references'!$C$3),'Formulas references'!$Q$2,"")
G8: =IF(OR(G6='Formulas references'!$C$2,G6='Formulas references'!$C$3),'Formulas references'!$P$3,"") | H8: =IF(OR(G6='Formulas references'!$C$2,G6='Formulas references'!$C$3),'Formulas references'!$Q$3,"")
G9: =IF(OR(G6='Formulas references'!$C$2,G6='Formulas references'!$C$3),'Formulas references'!$P$4,"") | H9: =IF(OR(G6='Formulas references'!$C$2,G6='Formulas references'!$C$3),'Formulas references'!$Q$4,"")
G10: =IF(OR(G6='Formulas references'!$C$2,G6='Formulas references'!$C$3),'Formulas references'!$P$8,"") | H10: =IF(OR(G6='Formulas references'!$C$2,G6='Formulas references'!$C$3),'Formulas references'!$Q$8,"")
B13: KPI #2 | C13: Your value | E13: Performance evaluation | G13: Suggested types of gender initiatives | H13: Resources
B15: Proportion of women in your organisation's leadership | C15: Enter your value here | E15: =IF(C15="","",IF(C15='Formulas references'!$A$2,"",IF(C15='Formulas references'!$A$3,'Formulas references'!$B$2,IF(ISNUMBER(C15)=FALSE,'Formulas references'!$B$6,IF(C15<='Formulas references'!$G$3,'Formulas references'!$B$3,IF(AND(C15>'Formulas references'!$G$3,C15<'Formulas references'!$G$2),'Formulas references'!$B$4,IF(C15>='Formulas references'!$G$2,'Formulas references'!$B$5,""))))))) | G15: =IF(C15='Formulas references'!$A$2,"",IF(E15='Formulas references'!$B$2,'Formulas references'!$C$3,IF(E15='Formulas references'!$B$5,'Formulas references'!$C$4,IF(OR(E15='Formulas references'!$B$3,E15='Formulas references'!$B$4),'Formulas references'!$C$2,""))))
C16: ='Formulas references'!$A$4 -> Note: if no data available, enter "NA" | E16: =IF(C15="","",IF(C15='Formulas references'!$A$3,'Formulas references'!$G$2,IF(C15='Formulas references'!$A$2,"",IF(C15>='Formulas references'!$G$2,"",'Formulas references'!$N$2-C15)))) | G16: =IF(OR(G15='Formulas references'!$C$2,G15='Formulas references'!$C$3),'Formulas references'!$P$2,"") | H16: =IF(OR(G15='Formulas references'!$C$2,G15='Formulas references'!$C$3),'Formulas references'!$Q$2,"")
G17: =IF(OR(G15='Formulas references'!$C$2,G15='Formulas references'!$C$3),'Formulas references'!$P$3,"") | H17: =IF(OR(G15='Formulas references'!$C$2,G15='Formulas references'!$C$3),'Formulas references'!$Q$3,"")
B20: KPI #3 | C20: Your value | E20: Performance evaluation | G20: Suggested types of gender initiatives | H20: Resources
B22: Proportion of staff (very) satisfied with work in your organisation | C22: Enter your value here | E22: =IF(C22="","",IF(C22='Formulas references'!$A$2,"",IF(C22='Formulas references'!$A$3,'Formulas references'!$B$2,IF(ISNUMBER(C22)=FALSE,'Formulas references'!$B$6,IF(C22<='Formulas references'!$H$3,'Formulas references'!$B$3,IF(AND(C22>'Formulas references'!$H$3,C22<'Formulas references'!$H$2),'Formulas references'!$B$4,IF(C22>='Formulas references'!$H$2,'Formulas references'!$B$5,""))))))) | G22: =IF(C22='Formulas references'!$A$2,"",IF(E22='Formulas references'!$B$2,'Formulas references'!$C$3,IF(E22='Formulas references'!$B$5,'Formulas references'!$C$4,IF(OR(E22='Formulas references'!$B$3,E22='Formulas references'!$B$4),'Formulas references'!$C$2,""))))
C23: ='Formulas references'!$A$4 -> Note: if no data available, enter "NA" | E23: =IF(C22="","",IF(C22='Formulas references'!$A$3,'Formulas references'!$H$2,IF(C22='Formulas references'!$A$2,"",IF(C22>='Formulas references'!$H$2,"",'Formulas references'!$H$2-C22)))) | G23: =IF(OR(G22='Formulas references'!$C$2,G22='Formulas references'!$C$3),'Formulas references'!$P$2,"") | H23: =IF(OR(G22='Formulas references'!$C$2,G22='Formulas references'!$C$3),'Formulas references'!$Q$2,"")
G24: =IF(OR(G22='Formulas references'!$C$2,G22='Formulas references'!$C$3),'Formulas references'!$P$3,"") | H24: =IF(OR(G22='Formulas references'!$C$2,G22='Formulas references'!$C$3),'Formulas references'!$Q$3,"")
G25: =IF(OR(G22='Formulas references'!$C$2,G22='Formulas references'!$C$3),'Formulas references'!$P$4,"") | H25: =IF(OR(G22='Formulas references'!$C$2,G22='Formulas references'!$C$3),'Formulas references'!$Q$11,"")
G26: =IF(OR(G22='Formulas references'!$C$2,G22='Formulas references'!$C$3),'Formulas references'!$P$6,"") | H26: =IF(OR(G22='Formulas references'!$C$2,G22='Formulas references'!$C$3),'Formulas references'!$Q$4,"")
G27: =IF(OR(G22='Formulas references'!$C$2,G22='Formulas references'!$C$3),'Formulas references'!$P$8,"") | H27: =IF(OR(G22='Formulas references'!$C$2,G22='Formulas references'!$C$3),'Formulas references'!$Q$3,"")
B30: KPI #4 | C30: Your value | E30: Performance evaluation | G30: Suggested types of gender initiatives | H30: Resources
B32: Annual growth rate in earned revenue of your organisation | C32: Enter your value here | E32: =IF(C32="","",IF(C32='Formulas references'!$A$2,"",IF(C32='Formulas references'!$A$3,'Formulas references'!$B$2,IF(ISNUMBER(C32)=FALSE,'Formulas references'!$B$6,IF(C32<='Formulas references'!$I$3,'Formulas references'!$B$3,IF(AND(C32>'Formulas references'!$I$3,C32<'Formulas references'!$I$2),'Formulas references'!$B$4,IF(C32>='Formulas references'!$I$2,'Formulas references'!$B$5,""))))))) | G32: =IF(C32='Formulas references'!$A$2,"",IF(E32='Formulas references'!$B$2,'Formulas references'!$C$3,IF(E32='Formulas references'!$B$5,'Formulas references'!$C$4,IF(OR(E32='Formulas references'!$B$3,E32='Formulas references'!$B$4),'Formulas references'!$C$2,""))))
C33: ='Formulas references'!$A$4 -> Note: if no data available, enter "NA" | E33: =IF(C32="","",IF(C32='Formulas references'!$A$3,'Formulas references'!$I$2,IF(C32='Formulas references'!$A$2,"",IF(C32>='Formulas references'!$I$2,"",'Formulas references'!$I$2-C32)))) | G33: =IF(OR(G32='Formulas references'!$C$2,G32='Formulas references'!$C$3),'Formulas references'!$P$2,"") | H33: =IF(OR(G32='Formulas references'!$C$2,G32='Formulas references'!$C$3),'Formulas references'!$Q$2,"")
G34: =IF(OR(G32='Formulas references'!$C$2,G32='Formulas references'!$C$3),'Formulas references'!$P$3,"") | H34: =IF(OR(G32='Formulas references'!$C$2,G32='Formulas references'!$C$3),'Formulas references'!$Q$3,"")
G35: =IF(OR(G32='Formulas references'!$C$2,G32='Formulas references'!$C$3),'Formulas references'!$P$5,"") | H35: =IF(OR(G32='Formulas references'!$C$2,G32='Formulas references'!$C$3),'Formulas references'!$Q$5,"")
G36: =IF(OR(G32='Formulas references'!$C$2,G32='Formulas references'!$C$3),'Formulas references'!$P$6,"") | H36: =IF(OR(G32='Formulas references'!$C$2,G32='Formulas references'!$C$3),'Formulas references'!$Q$4,"")
G37: =IF(OR(G32='Formulas references'!$C$2,G32='Formulas references'!$C$3),'Formulas references'!$P$7,"") | H37: =IF(OR(G32='Formulas references'!$C$2,G32='Formulas references'!$C$3),'Formulas references'!$Q$8,"")
G38: =IF(OR(G32='Formulas references'!$C$2,G32='Formulas references'!$C$3),'Formulas references'!$P$8,"") | H38: =IF(OR(G32='Formulas references'!$C$2,G32='Formulas references'!$C$3),'Formulas references'!$Q$3,"")
G39: =IF(OR(G32='Formulas references'!$C$2,G32='Formulas references'!$C$3),'Formulas references'!$P$9,"") | H39: =IF(OR(G32='Formulas references'!$C$2,G32='Formulas references'!$C$3),'Formulas references'!$Q$7,"")
G40: =IF(OR(G32='Formulas references'!$C$2,G32='Formulas references'!$C$3),'Formulas references'!$P$10,"") | H40: =IF(OR(G32='Formulas references'!$C$2,G32='Formulas references'!$C$3),'Formulas references'!$Q$10,"")
G41: =IF(OR(G32='Formulas references'!$C$2,G32='Formulas references'!$C$3),'Formulas references'!$P$11,"") | H41: =IF(OR(G32='Formulas references'!$C$2,G32='Formulas references'!$C$3),'Formulas references'!$Q$6,"")
B44: KPI #5 | C44: Your value | E44: Performance evaluation | G44: Suggested types of gender initiatives | H44: Resources
B46: Annual percentage increase in the number of customers/ users/ beneficiaries served by your organisation | C46: Enter your value here | E46: =IF(C46="","",IF(C46='Formulas references'!$A$2,"",IF(C46='Formulas references'!$A$3,'Formulas references'!$B$2,IF(ISNUMBER(C46)=FALSE,'Formulas references'!$B$6,IF(C46<='Formulas references'!$J$3,'Formulas references'!$B$3,IF(AND(C46>'Formulas references'!$J$3,C46<'Formulas references'!$J$2),'Formulas references'!$B$4,IF(C46>='Formulas references'!$J$2,'Formulas references'!$B$5,""))))))) | G46: =IF(C46='Formulas references'!$A$2,"",IF(E46='Formulas references'!$B$2,'Formulas references'!$C$3,IF(E46='Formulas references'!$B$5,'Formulas references'!$C$4,IF(OR(E46='Formulas references'!$B$3,E46='Formulas references'!$B$4),'Formulas references'!$C$2,""))))
C47: ='Formulas references'!$A$4 -> Note: if no data available, enter "NA" | E47: =IF(C46="","",IF(C46='Formulas references'!$A$3,'Formulas references'!$J$2,IF(C46='Formulas references'!$A$2,"",IF(C46>='Formulas references'!$J$2,"",'Formulas references'!$J$2-C46)))) | G47: =IF(OR(G46='Formulas references'!$C$2,G46='Formulas references'!$C$3),'Formulas references'!$P$6,"") | H47: =IF(OR(G46='Formulas references'!$C$2,G46='Formulas references'!$C$3),'Formulas references'!$Q$4,"")
G48: =IF(OR(G46='Formulas references'!$C$2,G46='Formulas references'!$C$3),'Formulas references'!$P$7,"") | H48: =IF(OR(G46='Formulas references'!$C$2,G46='Formulas references'!$C$3),'Formulas references'!$Q$8,"")
G49: =IF(OR(G46='Formulas references'!$C$2,G46='Formulas references'!$C$3),'Formulas references'!$P$8,"") | H49: =IF(OR(G46='Formulas references'!$C$2,G46='Formulas references'!$C$3),'Formulas references'!$Q$3,"")
G50: =IF(OR(G46='Formulas references'!$C$2,G46='Formulas references'!$C$3),'Formulas references'!$P$11,"") | H50: =IF(OR(G46='Formulas references'!$C$2,G46='Formulas references'!$C$3),'Formulas references'!$Q$6,"")
B53: KPI #6 | C53: Your value | E53: Performance evaluation | G53: Suggested types of gender initiatives | H53: Resources
B55: Proportion of women among customers/ users/ end beneficiaries served by your organisation | C55: Enter your value here | E55: =IF(C55="","",IF(C55='Formulas references'!$A$2,"",IF(C55='Formulas references'!$A$3,'Formulas references'!$B$2,IF(ISNUMBER(C55)=FALSE,'Formulas references'!$B$6,IF(C55<='Formulas references'!$K$3,'Formulas references'!$B$3,IF(AND(C55>'Formulas references'!$K$3,C55<'Formulas references'!$K$2),'Formulas references'!$B$4,IF(C55>='Formulas references'!$K$2,'Formulas references'!$B$5,""))))))) | G55: =IF(C55='Formulas references'!$A$2,"",IF(E55='Formulas references'!$B$2,'Formulas references'!$C$3,IF(E55='Formulas references'!$B$5,'Formulas references'!$C$4,IF(OR(E55='Formulas references'!$B$3,E55='Formulas references'!$B$4),'Formulas references'!$C$2,""))))
C56: ='Formulas references'!$A$4 -> Note: if no data available, enter "NA" | E56: =IF(C55="","",IF(C55='Formulas references'!$A$3,'Formulas references'!$K$2,IF(C55='Formulas references'!$A$2,"",IF(C55>='Formulas references'!$K$2,"",'Formulas references'!$K$2-C55)))) | G56: =IF(OR(G55='Formulas references'!$C$2,G55='Formulas references'!$C$3),'Formulas references'!$P$6,"") | H56: =IF(OR(G55='Formulas references'!$C$2,G55='Formulas references'!$C$3),'Formulas references'!$Q$4,"")
G57: =IF(OR(G55='Formulas references'!$C$2,G55='Formulas references'!$C$3),'Formulas references'!$P$7,"") | H57: =IF(OR(G55='Formulas references'!$C$2,G55='Formulas references'!$C$3),'Formulas references'!$Q$8,"")
...

Sheet Formulas references
A1: Column C options | B1: Column E options | C1: Column G options | F1: KPI 1 thresholds | G1: KPI 2 thresholds | H1: KPI 3 thresholds | I1: KPI 4 thresholds | J1: KPI 5 thresholds | K1: KPI 6 thresholds | L1: KPI 7 thresholds | M1: KPI 8 thresholds | N1: KPI 9 thresholds | P1: Intervention areas | Q1: Related links
A2: Enter your value here | B2: Your organisation could be underperforming on this KPI. The benchmark value for this KPI is: | C2: To improve, you can focus on the following types of gender initiatives: | E2: Baseline | F2: 0.42 | G2: 0.38 | H2: 0.82 | I2: 0.71 | J2: 0.81 | K2: 0.4 | L2: 0.81 | M2: 0.62 | N2: 0.43 | P2: Gender-balanced hiring | Q2: Link
A3: NA | B3: Compared to the benchmark, your organisation is underperforming on this KPI by: | C3: If after measurement your KPI is below the benchmark, you can focus on the following types of gender initiatives to improve it: | E3: 1st threshold | F3: 0.25 | G3: 0.2 | H3: 0.5 | I3: 0.45 | J3: 0.5 | K3: 0.2 | L3: 0.5 | M3: 0.45 | N3: 0.25 | P3: Gender-balanced promotion and retention | Q3: Link
A4: Note: if no data available, enter "NA" | B4: Compared to the benchmark, your organisation is slightly underperforming on this KPI by: | C4: Your performance on this KPI is already above average, therefore we recommend focusing on improving other metrics. | P4: Gender-sensitive HR policies and practices | Q4: Link
B5: Your organisation's performance on this KPI is on par or exceeding the benchmark. Good job! | P5: Diversity in the Board of Directors | Q5: Link
B6: Please enter a valid value! | P6: Gender-sensitive product design and market research | Q6: Link
P7: Gender-inclusive marketing and communication | Q7: Link
P8: Diversity in distribution and sales' teams | Q8: Link
P9: Gender-inclusive customer service | Q9: Link
P10: Gender-inclusive selection of strategic suppliers | Q10: Link
P11: Gender-sensitive training of strategic suppliers | Q11: Link
