Workbook
Name TypeIntervention: [1]Lists!$B$57:$B$59

Sheet M2 - Assessment tool
B1: GENDER MAINSTREAMING ASSESSMENT TOOL FOR VENTURES
B2: Objective: This assessment will help you understand the level of gender mainstreaming in your organization and it will allow you to discover areas to improve! Instructions: 1) There are 10 sections in this assessment, covering 3 main organizational areas: I) staff and leadership diversity, II) gender-inclusive product or service, and III) diversity and equity in the supply chain 2) For each question there are 5 or 8 possible answers to choose from. Choose the option that is closer to your organization's situation or, if you think that none of the options is applicable to your organization, choose "Not applicable" 3) To select an answer, enter an "X" either manually or using the drop-down menu: Please, select only one answer 4) Once you have answered all the questions, move to the "M2 - Assessment results" page to see the current level of gender mainstreaming of your organization and discover areas that may need improvement Note: The word "women" is used to designate persons who identify as women, and the word "men" to designate persons who identify as men.
C4: STAFF AND LEADERSHIP DIVERSITY
B5: Section 1: Gender-balanced hiring
C8: 1.1 What proportion (%) of your organization's employees are women? | M8: delete
M9: remain split for the venture
E10: 0-15%
E11: 15-30%
E12: 30-45%
E13: 45-55%
E14: 55-70%
E15: 70-85%
E16: 85%-100%
E17: NA
C19: Question points: | E19: =IF(OR(C10="X",C16="X"),1,IF(OR(C11="X",C15="X"),2,IF(OR(C12="X",C14="X"),3,IF(C13="X",4,0)))) -> 0
C21: 1.2 Does your organization employ women/men beyond “stereotyped” roles? (e.g. women are generally expected to be supportive while men are expected to be competitive, resulting in women being overrepresented in administrative positions and men in sales positions)
E23: We (almost) do not have women or men in our team in general
E24: Women in our team are mostly employed in women-dominated roles (e.g. administration, communication, HR, etc) while men are mainly employed in male-dominated roles (e.g. technical jobs, manual labour, sales, etc.)
E25: Our team has a good representation of women/men in non-stereotyped roles, but mostly in junior positions
E26: Our team has a good representation of women/men across seniority and job types
E27: NA
C29: Question points: | E29: =IF(C23="X",1,IF(C24="X",2,IF(C25="X",3,IF(C26="X",4,0)))) -> 0
C31: 1.3 Does your organization actively try to recruit employees of the gender that is under-represented in your team?
E33: We do not make any specific effort to ensure equal gender representation in our team, nor have objectives to do so
E34: We would like to improve equal gender representation in our team but we do not have specific initiatives to ensure that. Our recruiting materials are designed to communicate to candidates of all genders (e.g. text and visuals refer to both men and women)
E35: We actively search for candidates of the under-represented gender in our team by promoting opportunities in a way that is appealing to them (e.g. by putting forward elements that candidates of the under-represented gender typically value, e.g. for women mentioning working environment, flexibility, benefits for working mothers, etc.)
E36: We have a robust process to find candidates of the under-represented gender in our team (e.g. hosting recruiting events targeting candidates of the under-represented gender, promoting positions through non-traditional channels, expanding our pool of candidates to non-traditional profiles), attract them (e.g. pitch adjusted to what candidates of the under-represented gender value) and support them in the recruiting process
E37: NA
C39: Question points: | E39: =IF(C33="X",1,IF(C34="X",2,IF(C35="X",3,IF(C36="X",4,0)))) -> 0
C41: 1.4 Does your organization have processes in place to ensure that you give equal opportunities to candidates of all genders as a recruiter?
E43: We do not have specific processes in place to ensure equal opportunities in our recruiting process
E44: We are mindful of biases and try to be fair in our recruiting process
E45: We have several initiatives to ensure that candidates are given equal opportunities in our recruiting process. We use blind CVs (i.e. removing name, photo) and our recruiters have gone through an unconscious bias training
E46: We have several initiatives to ensure that candidates are given equal opportunities in our recruiting process. We use blind CVs, our recruiters have gone through an unconscious bias training, and we have a process in which shortlisted candidates are discussed by a gender-diverse committee
E47: NA
C49: Question points: | E49: =IF(C43="X",1,IF(C44="X",2,IF(C45="X",3,IF(C46="X",4,0)))) -> 0
C51: 1.5 What proportion (%) of your organization's top management are women?
E53: 0-15%
E54: 15-30%
E55: 30-45%
...

Sheet M2 - Assessment results
B1: RESULTS TABLE
B2: Instructions to read your results: 1) You have one result per section and one total result, that is the average of your scores in every section. The scale goes from 1 (low) to 4 (high) 2) Now that you have your results, move to the "M2 - Idea prioritization" page to see all potential gender mainstreaming initiatives to be implemented in your organization and prioritize them 3) You can also move to the "M2 - Library of resources" page for more ideas on how to improve gender mainstreaming in your organization.
B4: Area | D4: Section | E4: Result
B5: Staff and leadership diversity | D5: ='M2 - Assessment tool'!B5 -> Section 1: Gender-balanced hiring | E5: =IFERROR(AVERAGEIF('Assessment answers'!B7:B12,"<>0"),"NA") -> NA
D6: ='M2 - Assessment tool'!C75 -> Section 2: Gender-balanced promotion and retention | E6: =IFERROR(AVERAGEIF('Assessment answers'!B14:B16,"<>0"),"NA") -> NA
D7: ='M2 - Assessment tool'!C109 -> Section 3: Gender-sensitive HR policies and practices | E7: =IFERROR(AVERAGEIF('Assessment answers'!B18:B28,"<>0"),"NA") -> NA
D8: ='M2 - Assessment tool'!C223 -> Section 4: Board of Directors' diversity | E8: =IFERROR(AVERAGEIF('Assessment answers'!B30:B31,"<>0"),"NA") -> NA
B9: Gender-inclusive product or service | D9: ='M2 - Assessment tool'!C250 -> Section 5: Gender-sensitive product design and market research | E9: =IFERROR(AVERAGEIF('Assessment answers'!B33:B35,"<>0"),"NA") -> NA
D10: ='M2 - Assessment tool'!C284 -> Section 6: Gender-inclusive marketing and communication | E10: =IFERROR(AVERAGEIF('Assessment answers'!B37:B40,"<>0"),"NA") -> NA
D11: ='M2 - Assessment tool'!C328 -> Section 7: Diversity in distribution and sales teams | E11: =IFERROR(AVERAGEIF('Assessment answers'!B42:B44,"<>0"),"NA") -> NA
D12: ='M2 - Assessment tool'!C365 -> Section 8: Gender-sensitive customer service | E12: =IFERROR(AVERAGEIF('Assessment answers'!B46,"<>0"),"NA") -> NA
B13: Diversity and equity in the supply chain | D13: ='M2 - Assessment tool'!C379 -> Section 9: Gender-inclusive selection of strategic suppliers | E13: =IFERROR(AVERAGEIF('Assessment answers'!B48:B51,"<>0"),"NA") -> NA
D14: ='M2 - Assessment tool'!C426 -> Section 10: Gender-sensitive training of strategic suppliers | E14: =IFERROR(AVERAGEIF('Assessment answers'!B53:B54,"<>0"),"NA") -> NA
D15: Total | E15: =IFERROR(AVERAGEIF(E5:E14,"<>0"),"NA") -> NA

Sheet Assessment answers
B2: ANSWERS
B3: X
B5: RANGES FOR AVERAGE
A6: Sub-section | B6: Section 1 | C6: =IF(B6=0,"NA",B6) -> Section 1
A7: 1.1 | B7: ='M2 - Assessment tool'!E19 -> 0 | C7: =IF(B7=0,"NA",B7) -> NA
A8: 1.2 | B8: ='M2 - Assessment tool'!E29 -> 0 | C8: =IF(B8=0,"NA",B8) -> NA
A9: 1.3 | B9: ='M2 - Assessment tool'!E39 -> 0 | C9: =IF(B9=0,"NA",B9) -> NA
A10: 1.4 | B10: ='M2 - Assessment tool'!E49 -> 0 | C10: =IF(B10=0,"NA",B10) -> NA
A11: 1.5 | B11: ='M2 - Assessment tool'!E62 -> 0 | C11: =IF(B11=0,"NA",B11) -> NA
A12: 1.6 | B12: ='M2 - Assessment tool'!E72 -> 0 | C12: =IF(B12=0,"NA",B12) -> NA
A13: - | B13: Section 2 | C13: =IF(B13=0,"NA",B13) -> Section 2
A14: 2.1 | B14: ='M2 - Assessment tool'!E86 -> 0 | C14: =IF(B14=0,"NA",B14) -> NA
A15: 2.2 | B15: ='M2 - Assessment tool'!E96 -> 0 | C15: =IF(B15=0,"NA",B15) -> NA
A16: 2.3 | B16: ='M2 - Assessment tool'!E106 -> 0 | C16: =IF(B16=0,"NA",B16) -> NA
A17: - | B17: Section 3 | C17: =IF(B17=0,"NA",B17) -> Section 3
A18: 3.1 | B18: ='M2 - Assessment tool'!E120 -> 0 | C18: =IF(B18=0,"NA",B18) -> NA
A19: 3.2 | B19: ='M2 - Assessment tool'!E130 -> 0 | C19: =IF(B19=0,"NA",B19) -> NA
A20: 3.3 | B20: ='M2 - Assessment tool'!E140 -> 0 | C20: =IF(B20=0,"NA",B20) -> NA
A21: 3.4 | B21: ='M2 - Assessment tool'!E150 -> 0 | C21: =IF(B21=0,"NA",B21) -> NA
A22: 3.5 | B22: ='M2 - Assessment tool'!E160 -> 0 | C22: =IF(B22=0,"NA",B22) -> NA
A23: 3.6 | B23: ='M2 - Assessment tool'!E170 -> 0 | C23: =IF(B23=0,"NA",B23) -> NA
A24: 3.7 | B24: ='M2 - Assessment tool'!E180 -> 0 | C24: =IF(B24=0,"NA",B24) -> NA
A25: 3.8 | B25: ='M2 - Assessment tool'!E190 -> 0 | C25: =IF(B25=0,"NA",B25) -> NA
A26: 3.9 | B26: ='M2 - Assessment tool'!E200 -> 0 | C26: =IF(B26=0,"NA",B26) -> NA
A27: 3.1* | B27: ='M2 - Assessment tool'!E210 -> 0 | C27: =IF(B27=0,"NA",B27) -> NA
A28: 3.11 | B28: ='M2 - Assessment tool'!E220 -> 0 | C28: =IF(B28=0,"NA",B28) -> NA
A29: - | B29: Section 4 | C29: =IF(B29=0,"NA",B29) -> Section 4
A30: 4.1 | B30: ='M2 - Assessment tool'!E237 -> 0 | C30: =IF(B30=0,"NA",B30) -> NA
A31: 4.2 | B31: ='M2 - Assessment tool'!E247 -> 0 | C31: =IF(B31=0,"NA",B31) -> NA
A32: - | B32: Section 5 | C32: =IF(B32=0,"NA",B32) -> Section 5
A33: 5.1 | B33: ='M2 - Assessment tool'!E261 -> 0 | C33: =IF(B33=0,"NA",B33) -> NA
A34: 5.2 | B34: ='M2 - Assessment tool'!E271 -> 0 | C34: =IF(B34=0,"NA",B34) -> NA
A35: 5.3 | B35: ='M2 - Assessment tool'!E281 -> 0 | C35: =IF(B35=0,"NA",B35) -> NA
A36: - | B36: Section 6 | C36: =IF(B36=0,"NA",B36) -> Section 6
A37: 6.1 | B37: ='M2 - Assessment tool'!E295 -> 0 | C37: =IF(B37=0,"NA",B37) -> NA
A38: 6.2 | B38: ='M2 - Assessment tool'!E305 -> 0 | C38: =IF(B38=0,"NA",B38) -> NA
A39: 6.3 | B39: ='M2 - Assessment tool'!E315 -> 0 | C39: =IF(B39=0,"NA",B39) -> NA
A40: 6.4 | B40: ='M2 - Assessment tool'!E325 -> 0 | C40: =IF(B40=0,"NA",B40) -> NA
A41: - | B41: Section 7 | C41: =IF(B41=0,"NA",B41) -> Section 7
A42: 7.1 | B42: ='M2 - Assessment tool'!E342 -> 0 | C42: =IF(B42=0,"NA",B42) -> NA
...

Sheet M2 - Idea prioritization
D1: IDEA PRIORITIZATION TEMPLATE
D2: Objective: Identify the areas requiring immediate attention in terms of gender mainstreaming. Instructions: 1) Review your results for each question of the assessment tool in Column D. The score can be low, below average or high. Questions that did not apply to your organization appear as "non applicable". 2) For low and below-average scores, examine the related gaps and potential solutions for your organization. 3) Once you have read them all, assess their business impact, social impact and feasibility. The assessment can be low, medium or high. 4) Identify the areas that have a higher prioritization level in column K. High priority shows in dark green, middle priority in orange and low priority in red. 5) In column L, explain how you rated the initiative (in terms of business impact, social impact, and feasibility), and why you chose to prioritize—or not prioritize—the initiative. For example, clarify why you did not prioritize initiatives in areas where you have significant gaps, outlining factors such as limitations due to your specific organizational context, high costs, complexity, etc. Note: The word "women" is used to designate persons who identify as women, and the word "men" to designate persons who identify as men. Column M is for LeFil's use.
B4: Question | C4: Score | D4: Assessment result | E4: Opportunity area | F4: Description of the gap | G4: Description of the solution | H4: Business impact: increase in revenues, reduction of costs, helps with fundraising, etc. | I4: Social impact: promotion of gender equality and equity | J4: Feasibility | K4: Prioritization score | L4: Please explain your rating and why you chose to prioritize - or not prioritize - the initiative | M4: Remarks from LeFil prior workshop
B5: 1.1 What proportion (%) of your organization's employees are women? | C5: ='Assessment answers'!B7 -> 0 | D5: =IF(C5>=3,"Your scored well in this area. Focus your efforts on other problem areas.",IF(AND(C5<3,C5>=2),"You scored below average in this area. We suggest you work on this problem area. Please fill in columns H-J",IF(AND(C5<2,C5>0),"You scored low in this area. We strongly suggest you work on this problem area. Please fill in columns H-J",IF(C5=0,"This area is not applicable for your venture.","")))) -> This area is not applicable for your venture. | E5: 1. Gender-balanced hiring | F5: One gender is under-represented in the team | G5: Create a robust process to find candidates of the under-represented gender in the team (e.g. hosting recruiting events targeting candidates of the under-represented gender, promoting positions through non-traditional channels, expanding the pool of candidates to non-traditional profiles), attract them (e.g. pitch adjusted to what candidates of the under-represented gender value) and support them in the recruiting process | K5: =IFERROR(VLOOKUP($I5,'Idea prioritization list'!$D$1:$E$3,2,0),0)+IFERROR(VLOOKUP($H5,'Idea prioritization list'!$D$1:$E$3,2,0),0)+IFERROR(VLOOKUP($J5,'Idea prioritization list'!$D$1:$E$3,2,0),0) -> 0
B6: 1.2 Does organization employ women/men beyond “stereotyped” roles? (e.g. women are generally expected to be supportive while men are expected to be competitive, resulting in women being overrepresented in administrative positions and men in sales positions) | C6: ='Assessment answers'!B8 -> 0 | D6: =IF(C6>=3,"Your scored well in this area. Focus your efforts on other problem areas.",IF(AND(C6<3,C6>=2),"You scored below average in this area. We suggest you work on this problem area. Please fill in columns H-J",IF(AND(C6<2,C6>0),"You scored low in this area. We strongly suggest you work on this problem area. Please fill in columns H-J",IF(C6=0,"This area is not applicable for your venture.","")))) -> This area is not applicable for your venture. | E6: 1. Gender-balanced hiring | F6: Women and/or men are employed in stereotyped roles (e.g. women are generally expected to be supportive while men are expected to be competitive, resulting in women being overrepresented in administrative positions and men in sales positions) | G6: Create a robust hiring process to find, attract and support candidates of the under-represented gender across seniority levels and job types (eg.: targeting men for secretary positions or women for field positions) | K6: =IFERROR(VLOOKUP($I6,'Idea prioritization list'!$D$1:$E$3,2,0),0)+IFERROR(VLOOKUP($H6,'Idea prioritization list'!$D$1:$E$3,2,0),0)+IFERROR(VLOOKUP($J6,'Idea prioritization list'!$D$1:$E$3,2,0),0) -> 0
B7: 1.3 Does your organization actively try to recruit employees of the gender that is under-represented in your team? | C7: ='Assessment answers'!B9 -> 0 | D7: =IF(C7>=3,"Your scored well in this area. Focus your efforts on other problem areas.",IF(AND(C7<3,C7>=2),"You scored below average in this area. We suggest you work on this problem area. Please fill in columns H-J",IF(AND(C7<2,C7>0),"You scored low in this area. We strongly suggest you work on this problem area. Please fill in columns H-J",IF(C7=0,"This area is not applicable for your venture.","")))) -> This area is not applicable for your venture. | E7: 1. Gender-balanced hiring | F7: The organization does not try to recruit employees of the gender that is under-represented in the team | G7: Create a robust process to find candidates of the under-represented gender in the team (e.g. hosting recruiting events targeting candidates of the under-represented gender, promoting positions through non-traditional channels, expanding the pool of candidates to non-traditional profiles), attract them (e.g. pitch adjusted to what candidates of the under-represented gender value) and support them in the recruiting process | K7: =IFERROR(VLOOKUP($I7,'Idea prioritization list'!$D$1:$E$3,2,0),0)+IFERROR(VLOOKUP($H7,'Idea prioritization list'!$D$1:$E$3,2,0),0)+IFERROR(VLOOKUP($J7,'Idea prioritization list'!$D$1:$E$3,2,0),0) -> 0
B8: 1.4 Does your organization have processes in place to ensure that you give equal opportunities to candidates of all genders as a recruiter? | C8: ='Assessment answers'!B10 -> 0 | D8: =IF(C8>=3,"Your scored well in this area. Focus your efforts on other problem areas.",IF(AND(C8<3,C8>=2),"You scored below average in this area. We suggest you work on this problem area. Please fill in columns H-J",IF(AND(C8<2,C8>0),"You scored low in this area. We strongly suggest you work on this problem area. Please fill in columns H-J",IF(C8=0,"This area is not applicable for your venture.","")))) -> This area is not applicable for your venture. | E8: 1. Gender-balanced hiring | F8: The organization does not have processes in place to ensure equal opportunities to candidates of all genders as a recruiter | G8: Design initiatives to ensure that candidates are given equal opportunities in the recruiting process. Use blind CVs, train the recruiters on unconscious bias, and create a process in which shortlisted candidates are discussed by a gender-diverse committee | K8: =IFERROR(VLOOKUP($I8,'Idea prioritization list'!$D$1:$E$3,2,0),0)+IFERROR(VLOOKUP($H8,'Idea prioritization list'!$D$1:$E$3,2,0),0)+IFERROR(VLOOKUP($J8,'Idea prioritization list'!$D$1:$E$3,2,0),0) -> 0
B9: 1.5 What proportion (%) of your organization's top management are women? | C9: ='Assessment answers'!B11 -> 0 | D9: =IF(C9>=3,"Your scored well in this area. Focus your efforts on other problem areas.",IF(AND(C9<3,C9>=2),"You scored below average in this area. We suggest you work on this problem area. Please fill in columns H-J",IF(AND(C9<2,C9>0),"You scored low in this area. We strongly suggest you work on this problem area. Please fill in columns H-J",IF(C9=0,"This area is not applicable for your venture.","")))) -> This area is not applicable for your venture. | E9: 1. Gender-balanced hiring | F9: One gender is under-represented in the leadership team | G9: Create a robust process to find candidates of the under-represented gender for the leadership team (e.g. hosting recruiting events targeting candidates of the under-represented gender, promoting positions through non-traditional channels, expanding the pool of candidates to non-traditional profiles), attract them (e.g. pitch adjusted to what candidates of the under-represented gender value) and support them in the recruiting process | K9: =IFERROR(VLOOKUP($I9,'Idea prioritization list'!$D$1:$E$3,2,0),0)+IFERROR(VLOOKUP($H9,'Idea prioritization list'!$D$1:$E$3,2,0),0)+IFERROR(VLOOKUP($J9,'Idea prioritization list'!$D$1:$E$3,2,0),0) -> 0
B10: 1.6 Does your organization actively try to recruit managers of the gender that is under-represented in top management positions? | C10: ='Assessment answers'!B12 -> 0 | D10: =IF(C10>=3,"Your scored well in this area. Focus your efforts on other problem areas.",IF(AND(C10<3,C10>=2),"You scored below average in this area. We suggest you work on this problem area. Please fill in columns H-J",IF(AND(C10<2,C10>0),"You scored low in this area. We strongly suggest you work on this problem area. Please fill in columns H-J",IF(C10=0,"This area is not applicable for your venture.","")))) -> This area is not applicable for your venture. | E10: 1. Gender-balanced hiring | F10: The organization does not try to recruit managers of the gender that is under-represented in top management positions | G10: Create a robust process to find candidates of the under-represented gender for top management positions (e.g. hosting recruiting events targeting candidates of the under-represented gender, promoting positions through non-traditional channels, expanding the pool of candidates to non-traditional profiles), attract them (e.g. pitch adjusted to what candidates of the under-represented gender value) and support them in the recruiting process | K10: =IFERROR(VLOOKUP($I10,'Idea prioritization list'!$D$1:$E$3,2,0),0)+IFERROR(VLOOKUP($H10,'Idea prioritization list'!$D$1:$E$3,2,0),0)+IFERROR(VLOOKUP($J10,'Idea prioritization list'!$D$1:$E$3,2,0),0) -> 0
B11: 2.1 On average, do employees of all genders progress on their career at the same pace in your organization? | C11: ='Assessment answers'!B14 -> 0 | D11: =IF(C11>=3,"Your scored well in this area. Focus your efforts on other problem areas.",IF(AND(C11<3,C11>=2),"You scored below average in this area. We suggest you work on this problem area. Please fill in columns H-J",IF(AND(C11<2,C11>0),"You scored low in this area. We strongly suggest you work on this problem area. Please fill in columns H-J",IF(C11=0,"This area is not applicable for your venture.","")))) -> This area is not applicable for your venture. | E11: 2. Gender-balanced promotion and retention | F11: The organization does not measure the pace of career progression | G11: Measure and address frequently the pace of career progression by gender and ensure that all employees of all genders progress at the same pace | K11: =IFERROR(VLOOKUP($I11,'Idea prioritization list'!$D$1:$E$3,2,0),0)+IFERROR(VLOOKUP($H11,'Idea prioritization list'!$D$1:$E$3,2,0),0)+IFERROR(VLOOKUP($J11,'Idea prioritization list'!$D$1:$E$3,2,0),0) -> 0
B12: 2.2 Does your organization actively try to promote employees of the gender that is under-represented in top management positions? | C12: ='Assessment answers'!B15 -> 0 | D12: =IF(C12>=3,"Your scored well in this area. Focus your efforts on other problem areas.",IF(AND(C12<3,C12>=2),"You scored below average in this area. We suggest you work on this problem area. Please fill in columns H-J",IF(AND(C12<2,C12>0),"You scored low in this area. We strongly suggest you work on this problem area. Please fill in columns H-J",IF(C12=0,"This area is not applicable for your venture.","")))) -> This area is not applicable for your venture. | E12: 2. Gender-balanced promotion and retention | F12: The organization does not do any specific effort to ensure equal gender representation in top management positions, nor has objectives to do so | G12: Create a robust process to encourage and facilitate the promotion of employees of the under-represented gender in top management positions (e.g. allow for flexibility, objective promotions policies) | K12: =IFERROR(VLOOKUP($I12,'Idea prioritization list'!$D$1:$E$3,2,0),0)+IFERROR(VLOOKUP($H12,'Idea prioritization list'!$D$1:$E$3,2,0),0)+IFERROR(VLOOKUP($J12,'Idea prioritization list'!$D$1:$E$3,2,0),0) -> 0
B13: 2.3 Does your organization offer women-to-women/men-to-men mentorship programs? | C13: ='Assessment answers'!B16 -> 0 | D13: =IF(C13>=3,"Your scored well in this area. Focus your efforts on other problem areas.",IF(AND(C13<3,C13>=2),"You scored below average in this area. We suggest you work on this problem area. Please fill in columns H-J",IF(AND(C13<2,C13>0),"You scored low in this area. We strongly suggest you work on this problem area. Please fill in columns H-J",IF(C13=0,"This area is not applicable for your venture.","")))) -> This area is not applicable for your venture. | E13: 2. Gender-balanced promotion and retention | F13: The organization does not offer gender-specific mentorships | G13: Offer specific women-to-women/men-to-men mentorship program for employees | K13: =IFERROR(VLOOKUP($I13,'Idea prioritization list'!$D$1:$E$3,2,0),0)+IFERROR(VLOOKUP($H13,'Idea prioritization list'!$D$1:$E$3,2,0),0)+IFERROR(VLOOKUP($J13,'Idea prioritization list'!$D$1:$E$3,2,0),0) -> 0
B14: 3.1 Does you organization provide the same salary for employees of all genders at the same level of responsibility? | C14: ='Assessment answers'!B18 -> 0 | D14: =IF(C14>=3,"Your scored well in this area. Focus your efforts on other problem areas.",IF(AND(C14<3,C14>=2),"You scored below average in this area. We suggest you work on this problem area. Please fill in columns H-J",IF(AND(C14<2,C14>0),"You scored low in this area. We strongly suggest you work on this problem area. Please fill in columns H-J",IF(C14=0,"This area is not applicable for your venture.","")))) -> This area is not applicable for your venture. | E14: 3. Gender sensitive HR policies and practices | F14: Salaries are negotiated on a case by case basis, regardless of gender | G14: Create a process to ensure that employees at equivalent level of responsability have the same salary regardless of gender, at every level of the organization | K14: =IFERROR(VLOOKUP($I14,'Idea prioritization list'!$D$1:$E$3,2,0),0)+IFERROR(VLOOKUP($H14,'Idea prioritization list'!$D$1:$E$3,2,0),0)+IFERROR(VLOOKUP($J14,'Idea prioritization list'!$D$1:$E$3,2,0),0) -> 0
B15: 3.2 Does your organization provide transparency on salary levels and gender pay gap ratio? | C15: ='Assessment answers'!B19 -> 0 | D15: =IF(C15>=3,"Your scored well in this area. Focus your efforts on other problem areas.",IF(AND(C15<3,C15>=2),"You scored below average in this area. We suggest you work on this problem area. Please fill in columns H-J",IF(AND(C15<2,C15>0),"You scored low in this area. We strongly suggest you work on this problem area. Please fill in columns H-J",IF(C15=0,"This area is not applicable for your venture.","")))) -> This area is not applicable for your venture. | E15: 3. Gender sensitive HR policies and practices | F15: There is no transparency on the salary levels of employees | G15: Communicate transparently on salary levels, disaggregated by gender, and discuss salary policies with the team to ensure that there is no discrimination based on gender (or perception thereof) | K15: =IFERROR(VLOOKUP($I15,'Idea prioritization list'!$D$1:$E$3,2,0),0)+IFERROR(VLOOKUP($H15,'Idea prioritization list'!$D$1:$E$3,2,0),0)+IFERROR(VLOOKUP($J15,'Idea prioritization list'!$D$1:$E$3,2,0),0) -> 0
B16: 3.3 Does your organization ensure clear and objective criteria for salary increases and promotions, taking into account differences between genders in approaching these discussions/ negotiations? | C16: ='Assessment answers'!B20 -> 0 | D16: =IF(C16>=3,"Your scored well in this area. Focus your efforts on other problem areas.",IF(AND(C16<3,C16>=2),"You scored below average in this area. We suggest you work on this problem area. Please fill in columns H-J",IF(AND(C16<2,C16>0),"You scored low in this area. We strongly suggest you work on this problem area. Please fill in columns H-J",IF(C16=0,"This area is not applicable for your venture.","")))) -> This area is not applicable for your venture. | E16: 3. Gender sensitive HR policies and practices | F16: There are no clear and objective criteria for salary increases and promortions taking into account gender dynamics | G16: Communicate transparently about what level of salary can be expected for various levels of responsibility, and offer salary increases based on objective, well-defined criteria. Salary increases are discussed in a gender-diverse committee. If applicable, employees (especially women) are made aware of their tendency to be less vocal about their demands | K16: =IFERROR(VLOOKUP($I16,'Idea prioritization list'!$D$1:$E$3,2,0),0)+IFERROR(VLOOKUP($H16,'Idea prioritization list'!$D$1:$E$3,2,0),0)+IFERROR(VLOOKUP($J16,'Idea prioritization list'!$D$1:$E$3,2,0),0) -> 0
B17: 3.4 Does your organization have a paid parental leave policy? | C17: ='Assessment answers'!B21 -> 0 | D17: =IF(C17>=3,"Your scored well in this area. Focus your efforts on other problem areas.",IF(AND(C17<3,C17>=2),"You scored below average in this area. We suggest you work on this problem area. Please fill in columns H-J",IF(AND(C17<2,C17>0),"You scored low in this area. We strongly suggest you work on this problem area. Please fill in columns H-J",IF(C17=0,"This area is not applicable for your venture.","")))) -> This area is not applicable for your venture. | E17: 3. Gender sensitive HR policies and practices | F17: The organization only offers unpaid maternity leave for new mothers | G17: Provide paid parental leave that goes beyond what is mandated by law (i.e. for a longer period and/or at a higher pay), with equal conditions for both biological and non-biological mothers and fathers, and actively encourage fathers to take advantage of such policy to the same extent as mothers | K17: =IFERROR(VLOOKUP($I17,'Idea prioritization list'!$D$1:$E$3,2,0),0)+IFERROR(VLOOKUP($H17,'Idea prioritization list'!$D$1:$E$3,2,0),0)+IFERROR(VLOOKUP($J17,'Idea prioritization list'!$D$1:$E$3,2,0),0) -> 0
B18: 3.5 Does your organization provide working conditions take into account the specific needs of (expecting) mothers and fathers? | C18: ='Assessment answers'!B22 -> 0 | D18: =IF(C18>=3,"Your scored well in this area. Focus your efforts on other problem areas.",IF(AND(C18<3,C18>=2),"You scored below average in this area. We suggest you work on this problem area. Please fill in columns H-J",IF(AND(C18<2,C18>0),"You scored low in this area. We strongly suggest you work on this problem area. Please fill in columns H-J",IF(C18=0,"This area is not applicable for your venture.","")))) -> This area is not applicable for your venture. | E18: 3. Gender sensitive HR policies and practices | F18: (Expecting) parents and caregivers have the same working conditions as everyone else | G18: Create robust initiatives to facilitate working conditions for (expecting) parents and caregivers in addition to part-time work, remote work, and flexible working hours. For example, offer breastfeeding rooms, on-site day care, additional personal time off for caregiving responsibilities, etc. | K18: =IFERROR(VLOOKUP($I18,'Idea prioritization list'!$D$1:$E$3,2,0),0)+IFERROR(VLOOKUP($H18,'Idea prioritization list'!$D$1:$E$3,2,0),0)+IFERROR(VLOOKUP($J18,'Idea prioritization list'!$D$1:$E$3,2,0),0) -> 0
B19: 3.6 Does your organization generally allow working part-time for both women and men? | C19: ='Assessment answers'!B23 -> 0 | D19: =IF(C19>=3,"Your scored well in this area. Focus your efforts on other problem areas.",IF(AND(C19<3,C19>=2),"You scored below average in this area. We suggest you work on this problem area. Please fill in columns H-J",IF(AND(C19<2,C19>0),"You scored low in this area. We strongly suggest you work on this problem area. Please fill in columns H-J",IF(C19=0,"This area is not applicable for your venture.","")))) -> This area is not applicable for your venture. | E19: 3. Gender sensitive HR policies and practices | F19: Part-time is not allowed | G19: Allow part-time work for all employees, regardless of their gender or personal situation | K19: =IFERROR(VLOOKUP($I19,'Idea prioritization list'!$D$1:$E$3,2,0),0)+IFERROR(VLOOKUP($H19,'Idea prioritization list'!$D$1:$E$3,2,0),0)+IFERROR(VLOOKUP($J19,'Idea prioritization list'!$D$1:$E$3,2,0),0) -> 0
B20: 3.7 Does your organization offer flexibility to work remotely (excluding COVID-19 regulations)? | C20: ='Assessment answers'!B24 -> 0 | D20: =IF(C20>=3,"Your scored well in this area. Focus your efforts on other problem areas.",IF(AND(C20<3,C20>=2),"You scored below average in this area. We suggest you work on this problem area. Please fill in columns H-J",IF(AND(C20<2,C20>0),"You scored low in this area. We strongly suggest you work on this problem area. Please fill in columns H-J",IF(C20=0,"This area is not applicable for your venture.","")))) -> This area is not applicable for your venture. | E20: 3. Gender sensitive HR policies and practices | F20: Remote work is not allowed | G20: Encourage employees to work remotely whenever needed and/or allow remote work at least 1 day per week | K20: =IFERROR(VLOOKUP($I20,'Idea prioritization list'!$D$1:$E$3,2,0),0)+IFERROR(VLOOKUP($H20,'Idea prioritization list'!$D$1:$E$3,2,0),0)+IFERROR(VLOOKUP($J20,'Idea prioritization list'!$D$1:$E$3,2,0),0) -> 0
B21: 3.8 Does your organization have policies to prevent and address sexual harassment? (e.g. where/ how to report, consequences, etc.) | C21: ='Assessment answers'!B25 -> 0 | D21: =IF(C21>=3,"Your scored well in this area. Focus your efforts on other problem areas.",IF(AND(C21<3,C21>=2),"You scored below average in this area. We suggest you work on this problem area. Please fill in columns H-J",IF(AND(C21<2,C21>0),"You scored low in this area. We strongly suggest you work on this problem area. Please fill in columns H-J",IF(C21=0,"This area is not applicable for your venture.","")))) -> This area is not applicable for your venture. | E21: 3. Gender sensitive HR policies and practices | F21: There are no policies on sexual harassment | G21: Design a policy against sexual harassment that includes a specific process/channel to report cases to a dedicated and knowledgeable person (e.g. ombudsman, mediator), who is available for employees who want to discuss any type of situation, maintaining confidentiality. The process to handle cases is also clearly defined | K21: =IFERROR(VLOOKUP($I21,'Idea prioritization list'!$D$1:$E$3,2,0),0)+IFERROR(VLOOKUP($H21,'Idea prioritization list'!$D$1:$E$3,2,0),0)+IFERROR(VLOOKUP($J21,'Idea prioritization list'!$D$1:$E$3,2,0),0) -> 0
B22: 3.9 Does your organization offer gender bias trainings to employees and leadership (i.e. for everyone to understand that they have a bias and how to address or mitigate it)? | C22: ='Assessment answers'!B26 -> 0 | D22: =IF(C22>=3,"Your scored well in this area. Focus your efforts on other problem areas.",IF(AND(C22<3,C22>=2),"You scored below average in this area. We suggest you work on this problem area. Please fill in columns H-J",IF(AND(C22<2,C22>0),"You scored low in this area. We strongly suggest you work on this problem area. Please fill in columns H-J",IF(C22=0,"This area is not applicable for your venture.","")))) -> This area is not applicable for your venture. | E22: 3. Gender sensitive HR policies and practices | F22: The team is unaware of their own gender bias and/or how to mitigate it | G22: Offer a mandatory gender training for employees across all functions and seniority levels | K22: =IFERROR(VLOOKUP($I22,'Idea prioritization list'!$D$1:$E$3,2,0),0)+IFERROR(VLOOKUP($H22,'Idea prioritization list'!$D$1:$E$3,2,0),0)+IFERROR(VLOOKUP($J22,'Idea prioritization list'!$D$1:$E$3,2,0),0) -> 0
B23: 3.10 Does your organization deliver feedback in a gender-differentiated way based on gender-related specific needs and preferences? | C23: ='Assessment answers'!B27 -> 0 | D23: =IF(C23>=3,"Your scored well in this area. Focus your efforts on other problem areas.",IF(AND(C23<3,C23>=2),"You scored below average in this area. We suggest you work on this problem area. Please fill in columns H-J",IF(AND(C23<2,C23>0),"You scored low in this area. We strongly suggest you work on this problem area. Please fill in columns H-J",IF(C23=0,"This area is not applicable for your venture.","")))) -> This area is not applicable for your venture. | E23: 3. Gender sensitive HR policies and practices | F23: Feedback is given in the same way to men and women, not taking into account gender-related specific needs and preferences | G23: All supervisors are trained to deliver feedback in a gender-differentiated way, depending on the employees' gender (e.g. using strength-focused feedback with more unsecure employees) | K23: =IFERROR(VLOOKUP($I23,'Idea prioritization list'!$D$1:$E$3,2,0),0)+IFERROR(VLOOKUP($H23,'Idea prioritization list'!$D$1:$E$3,2,0),0)+IFERROR(VLOOKUP($J23,'Idea prioritization list'!$D$1:$E$3,2,0),0) -> 0
B24: 3.11 Does your organization collect, analyze and act upon gender-disaggregated data related to human resources? | C24: ='Assessment answers'!B28 -> 0 | D24: =IF(C24>=3,"Your scored well in this area. Focus your efforts on other problem areas.",IF(AND(C24<3,C24>=2),"You scored below average in this area. We suggest you work on this problem area. Please fill in columns H-J",IF(AND(C24<2,C24>0),"You scored low in this area. We strongly suggest you work on this problem area. Please fill in columns H-J",IF(C24=0,"This area is not applicable for your venture.","")))) -> This area is not applicable for your venture. | E24: 3. Gender sensitive HR policies and practices | F24: The organization does not collect, analyze and/or act upon gender-disaggregated data related to human resources | G24: Collect and analyze systematically gender-disaggregated data related to all human resources procedures, with the view to improve the workplace for all employees | K24: =IFERROR(VLOOKUP($I24,'Idea prioritization list'!$D$1:$E$3,2,0),0)+IFERROR(VLOOKUP($H24,'Idea prioritization list'!$D$1:$E$3,2,0),0)+IFERROR(VLOOKUP($J24,'Idea prioritization list'!$D$1:$E$3,2,0),0) -> 0
B25: 4.1 What proportion (%) of your organization's board members are women? | C25: ='Assessment answers'!B30 -> 0 | D25: =IF(C25>=3,"Your scored well in this area. Focus your efforts on other problem areas.",IF(AND(C25<3,C25>=2),"You scored below average in this area. We suggest you work on this problem area. Please fill in columns H-J",IF(AND(C25<2,C25>0),"You scored low in this area. We strongly suggest you work on this problem area. Please fill in columns H-J",IF(C25=0,"This area is not applicable for your venture.","")))) -> This area is not applicable for your venture. | E25: 4. Board of Directors' diversity | F25: One gender is under-represented in the board of directors | G25: Create a robust process to search and enroll members of the under-represented gender on the board (e.g. expanding the pool of candidates to non-traditional profiles, pitch adjusted to what candidates of the under-represented gender value) | K25: =IFERROR(VLOOKUP($I25,'Idea prioritization list'!$D$1:$E$3,2,0),0)+IFERROR(VLOOKUP($H25,'Idea prioritization list'!$D$1:$E$3,2,0),0)+IFERROR(VLOOKUP($J25,'Idea prioritization list'!$D$1:$E$3,2,0),0) -> 0
B26: 4.2 Does your organization actively try to add board members of the gender that is under-represented on the board? | C26: ='Assessment answers'!B31 -> 0 | D26: =IF(C26>=3,"Your scored well in this area. Focus your efforts on other problem areas.",IF(AND(C26<3,C26>=2),"You scored below average in this area. We suggest you work on this problem area. Please fill in columns H-J",IF(AND(C26<2,C26>0),"You scored low in this area. We strongly suggest you work on this problem area. Please fill in columns H-J",IF(C26=0,"This area is not applicable for your venture.","")))) -> This area is not applicable for your venture. | E26: 4. Board of Directors' diversity | F26: The organization does not do any specific effort to ensure equal gender representation on the board of directors, nor have objectives to do so | G26: Create a robust process to search and enroll members of the under-represented gender on the board (e.g. expanding the pool of candidates to non-traditional profiles, pitch adjusted to what candidates of the under-represented gender value) | K26: =IFERROR(VLOOKUP($I26,'Idea prioritization list'!$D$1:$E$3,2,0),0)+IFERROR(VLOOKUP($H26,'Idea prioritization list'!$D$1:$E$3,2,0),0)+IFERROR(VLOOKUP($J26,'Idea prioritization list'!$D$1:$E$3,2,0),0) -> 0
B27: 5.1 Does your organization conduct customer research to understand customer preferences and needs in a gender-disaggregated way? | C27: ='Assessment answers'!B33 -> 0 | D27: =IF(C27>=3,"Your scored well in this area. Focus your efforts on other problem areas.",IF(AND(C27<3,C27>=2),"You scored below average in this area. We suggest you work on this problem area. Please fill in columns H-J",IF(AND(C27<2,C27>0),"You scored low in this area. We strongly suggest you work on this problem area. Please fill in columns H-J",IF(C27=0,"This area is not applicable for your venture.","")))) -> This area is not applicable for your venture. | E27: 5. Gender-sensitive product design and market research | F27: The organization does not conduct customer research to understand customer preferences and needs in a gender-disaggregated way | G27: Conduct systematically customer research to understand needs and preferences in a gender-disaggregated way across all producuts/services | K27: =IFERROR(VLOOKUP($I27,'Idea prioritization list'!$D$1:$E$3,2,0),0)+IFERROR(VLOOKUP($H27,'Idea prioritization list'!$D$1:$E$3,2,0),0)+IFERROR(VLOOKUP($J27,'Idea prioritization list'!$D$1:$E$3,2,0),0) -> 0
B28: 5.2 Does your organization take gender-related aspects into consideration in your core product/service development? | C28: ='Assessment answers'!B34 -> 0 | D28: =IF(C28>=3,"Your scored well in this area. Focus your efforts on other problem areas.",IF(AND(C28<3,C28>=2),"You scored below average in this area. We suggest you work on this problem area. Please fill in columns H-J",IF(AND(C28<2,C28>0),"You scored low in this area. We strongly suggest you work on this problem area. Please fill in columns H-J",IF(C28=0,"This area is not applicable for your venture.","")))) -> This area is not applicable for your venture. | E28: 5. Gender-sensitive product design and market research | F28: The organization does not take gender-related aspects into consideration in the core product/service development | G28: Integrate systematically women's and men's specific needs and preferences in the product/service development, looking for new untapped market opportunities | K28: =IFERROR(VLOOKUP($I28,'Idea prioritization list'!$D$1:$E$3,2,0),0)+IFERROR(VLOOKUP($H28,'Idea prioritization list'!$D$1:$E$3,2,0),0)+IFERROR(VLOOKUP($J28,'Idea prioritization list'!$D$1:$E$3,2,0),0) -> 0
B29: 5.3 Does your organization customize the features of your products/services to respond to women’s/men’s specific needs? (e.g. change size, colour, terms and conditions) | C29: ='Assessment answers'!B35 -> 0 | D29: =IF(C29>=3,"Your scored well in this area. Focus your efforts on other problem areas.",IF(AND(C29<3,C29>=2),"You scored below average in this area. We suggest you work on this problem area. Please fill in columns H-J",IF(AND(C29<2,C29>0),"You scored low in this area. We strongly suggest you work on this problem area. Please fill in columns H-J",IF(C29=0,"This area is not applicable for your venture.","")))) -> This area is not applicable for your venture. | E29: 5. Gender-sensitive product design and market research | F29: The organization does not customize the features of the products/services to respond to women’s/men’s specific needs (e.g. change size, colour, terms and conditions) | G29: Try to systematically integrate women's or men's needs and preferences in products/services' features (e.g. change size, color, terms and conditions), in a way that is informed by direct customer input | K29: =IFERROR(VLOOKUP($I29,'Idea prioritization list'!$D$1:$E$3,2,0),0)+IFERROR(VLOOKUP($H29,'Idea prioritization list'!$D$1:$E$3,2,0),0)+IFERROR(VLOOKUP($J29,'Idea prioritization list'!$D$1:$E$3,2,0),0) -> 0
B30: 6.1 Are your organization's marketing materials gender-biased (e.g. mostly targeting one gender or reinforcing traditional gender stereotypes)? | C30: ='Assessment answers'!B37 -> 0 | D30: =IF(C30>=3,"Your scored well in this area. Focus your efforts on other problem areas.",IF(AND(C30<3,C30>=2),"You scored below average in this area. We suggest you work on this problem area. Please fill in columns H-J",IF(AND(C30<2,C30>0),"You scored low in this area. We strongly suggest you work on this problem area. Please fill in columns H-J",IF(C30=0,"This area is not applicable for your venture.","")))) -> This area is not applicable for your venture. | E30: 6. Gender-inclusive marketing and commmunication | F30: The organization is not aware of how its marketing material could be gender-biased | G30: Try consciously to counter gender stereotypes, and appeal to a wide range of aspirations and lifestyles in marketing materials | K30: =IFERROR(VLOOKUP($I30,'Idea prioritization list'!$D$1:$E$3,2,0),0)+IFERROR(VLOOKUP($H30,'Idea prioritization list'!$D$1:$E$3,2,0),0)+IFERROR(VLOOKUP($J30,'Idea prioritization list'!$D$1:$E$3,2,0),0) -> 0
B31: 6.2 If your organization targets customers of all genders, does it have gender-differentiated marketing materials? (e.g. different marketing messages reflecting different reasons for purchase between women and men) | C31: ='Assessment answers'!B38 -> 0 | D31: =IF(C31>=3,"Your scored well in this area. Focus your efforts on other problem areas.",IF(AND(C31<3,C31>=2),"You scored below average in this area. We suggest you work on this problem area. Please fill in columns H-J",IF(AND(C31<2,C31>0),"You scored low in this area. We strongly suggest you work on this problem area. Please fill in columns H-J",IF(C31=0,"This area is not applicable for your venture.","")))) -> This area is not applicable for your venture. | E31: 6. Gender-inclusive marketing and commmunication | F31: Although the organization has customers of all genders, the marketing is targeted mostly at one gender | G31: Consider men's and women's buying habits and preferences when creating marketing materials. When applicable, develop differentiated marketing strategies to appeal to women/men (e.g. adapting message, channels and visuals) | K31: =IFERROR(VLOOKUP($I31,'Idea prioritization list'!$D$1:$E$3,2,0),0)+IFERROR(VLOOKUP($H31,'Idea prioritization list'!$D$1:$E$3,2,0),0)+IFERROR(VLOOKUP($J31,'Idea prioritization list'!$D$1:$E$3,2,0),0) -> 0
B32: 6.3 If your organization targets customers of all genders, does it have a gender-differentiated sales strategy? (e.g. different outreach locations/approaches, differentiated selling points) | C32: ='Assessment answers'!B39 -> 0 | D32: =IF(C32>=3,"Your scored well in this area. Focus your efforts on other problem areas.",IF(AND(C32<3,C32>=2),"You scored below average in this area. We suggest you work on this problem area. Please fill in columns H-J",IF(AND(C32<2,C32>0),"You scored low in this area. We strongly suggest you work on this problem area. Please fill in columns H-J",IF(C32=0,"This area is not applicable for your venture.","")))) -> This area is not applicable for your venture. | E32: 6. Gender-inclusive marketing and commmunication | F32: Although the organization has customers of all genders, the sales efforts are targeted mostly at one gender | G32: Consider men's and women's buying habits and preferences when crafting and implementing the sales strategies (e.g. different outreach locations/approaches, differentiated selling points) | K32: =IFERROR(VLOOKUP($I32,'Idea prioritization list'!$D$1:$E$3,2,0),0)+IFERROR(VLOOKUP($H32,'Idea prioritization list'!$D$1:$E$3,2,0),0)+IFERROR(VLOOKUP($J32,'Idea prioritization list'!$D$1:$E$3,2,0),0) -> 0
B33: 6.4 If your organization targets customers of all genders, does it collect, analyze and act upon your business' impact in a gender-disaggregated way? | C33: ='Assessment answers'!B40 -> 0 | D33: =IF(C33>=3,"Your scored well in this area. Focus your efforts on other problem areas.",IF(AND(C33<3,C33>=2),"You scored below average in this area. We suggest you work on this problem area. Please fill in columns H-J",IF(AND(C33<2,C33>0),"You scored low in this area. We strongly suggest you work on this problem area. Please fill in columns H-J",IF(C33=0,"This area is not applicable for your venture.","")))) -> This area is not applicable for your venture. | E33: 6. Gender-inclusive marketing and commmunication | F33: Although the organization has customers of all genders, it does not collect, analyze and act upon business' impact in a gender-disaggregated way | G33: Collect and analyze systematically gender-disaggregated data in the market and business impact studies, with the view to improve the product/service for all customers | K33: =IFERROR(VLOOKUP($I33,'Idea prioritization list'!$D$1:$E$3,2,0),0)+IFERROR(VLOOKUP($H33,'Idea prioritization list'!$D$1:$E$3,2,0),0)+IFERROR(VLOOKUP($J33,'Idea prioritization list'!$D$1:$E$3,2,0),0) -> 0
B34: 7.1 What proportion (%) of your organization's sales force (both internal and outsourced sales agents/intermediaries) are women? | C34: ='Assessment answers'!B42 -> 0 | D34: =IF(C34>=3,"Your scored well in this area. Focus your efforts on other problem areas.",IF(AND(C34<3,C34>=2),"You scored below average in this area. We suggest you work on this problem area. Please fill in columns H-J",IF(AND(C34<2,C34>0),"You scored low in this area. We strongly suggest you work on this problem area. Please fill in columns H-J",IF(C34=0,"This area is not applicable for your venture.","")))) -> This area is not applicable for your venture. | E34: 7. Diversity in distribution and sales' teams | F34: One gender is under-represented in the sales team | G34: Create a robust process to recruit sales people of the under-represented gender in the sales force (e.g. innovative enrollment approaches, expanding the pool of candidates to non-traditional profiles), and consistently strive to retain them | K34: =IFERROR(VLOOKUP($I34,'Idea prioritization list'!$D$1:$E$3,2,0),0)+IFERROR(VLOOKUP($H34,'Idea prioritization list'!$D$1:$E$3,2,0),0)+IFERROR(VLOOKUP($J34,'Idea prioritization list'!$D$1:$E$3,2,0),0) -> 0
B35: 7.2 Does your organization actively try to recruit and retain sales people of the gender that is under-represented in your sales force? | C35: ='Assessment answers'!B43 -> 0 | D35: =IF(C35>=3,"Your scored well in this area. Focus your efforts on other problem areas.",IF(AND(C35<3,C35>=2),"You scored below average in this area. We suggest you work on this problem area. Please fill in columns H-J",IF(AND(C35<2,C35>0),"You scored low in this area. We strongly suggest you work on this problem area. Please fill in columns H-J",IF(C35=0,"This area is not applicable for your venture.","")))) -> This area is not applicable for your venture. | E35: 7. Diversity in distribution and sales' teams | F35: The organization does not make any specific effort to ensure equal gender representation in the sales force, nor have objectives to do so | G35: Create a robust process to recruit sales people of the under-represented gender in the sales force (e.g. innovative enrollment approaches, expanding the pool of candidates to non-traditional profiles), and consistently strive to retain them | K35: =IFERROR(VLOOKUP($I35,'Idea prioritization list'!$D$1:$E$3,2,0),0)+IFERROR(VLOOKUP($H35,'Idea prioritization list'!$D$1:$E$3,2,0),0)+IFERROR(VLOOKUP($J35,'Idea prioritization list'!$D$1:$E$3,2,0),0) -> 0
B36: 7.3 Does your organization have special policies to ensure that sales people can perform their job safely and productively considering gender-specific issues? (e.g. transportation at night, cash management policies) | C36: ='Assessment answers'!B44 -> 0 | D36: =IF(C36>=3,"Your scored well in this area. Focus your efforts on other problem areas.",IF(AND(C36<3,C36>=2),"You scored below average in this area. We suggest you work on this problem area. Please fill in columns H-J",IF(AND(C36<2,C36>0),"You scored low in this area. We strongly suggest you work on this problem area. Please fill in columns H-J",IF(C36=0,"This area is not applicable for your venture.","")))) -> This area is not applicable for your venture. | E36: 7. Diversity in distribution and sales' teams | F36: There are no policies to ensure that sales people can perform their job safely and productively considering gender-specific issues | G36: Design a robust process to ensure the productivity and safety of the sales force considering gender-specific issues, and seek to improve their working conditions based on continuous feedback and suggestions | K36: =IFERROR(VLOOKUP($I36,'Idea prioritization list'!$D$1:$E$3,2,0),0)+IFERROR(VLOOKUP($H36,'Idea prioritization list'!$D$1:$E$3,2,0),0)+IFERROR(VLOOKUP($J36,'Idea prioritization list'!$D$1:$E$3,2,0),0) -> 0
B37: 8.1 Does your organization collect, analyze and act upon gender-disaggregated customer data (e.g. customer satisfaction by gender) to better understand and serve your customers? | C37: ='Assessment answers'!B46 -> 0 | D37: =IF(C37>=3,"Your scored well in this area. Focus your efforts on other problem areas.",IF(AND(C37<3,C37>=2),"You scored below average in this area. We suggest you work on this problem area. Please fill in columns H-J",IF(AND(C37<2,C37>0),"You scored low in this area. We strongly suggest you work on this problem area. Please fill in columns H-J",IF(C37=0,"This area is not applicable for your venture.","")))) -> This area is not applicable for your venture. | E37: 8. Gender-sensitive customer service | F37: The organization's customer data is not disaggregated by gender | G37: Collect and analyze systematically gender-disaggregated customer data, with the view to provide a better customer service | K37: =IFERROR(VLOOKUP($I37,'Idea prioritization list'!$D$1:$E$3,2,0),0)+IFERROR(VLOOKUP($H37,'Idea prioritization list'!$D$1:$E$3,2,0),0)+IFERROR(VLOOKUP($J37,'Idea prioritization list'!$D$1:$E$3,2,0),0) -> 0
B38: 9.1 If your organization works with strategic suppliers (eg. a farmer cooperative for a food producer, small artisans for a handicraft retailer), what proportion (%) of these suppliers are women or women-led organizations? | C38: ='Assessment answers'!B48 -> 0 | D38: =IF(C38>=3,"Your scored well in this area. Focus your efforts on other problem areas.",IF(AND(C38<3,C38>=2),"You scored below average in this area. We suggest you work on this problem area. Please fill in columns H-J",IF(AND(C38<2,C38>0),"You scored low in this area. We strongly suggest you work on this problem area. Please fill in columns H-J",IF(C38=0,"This area is not applicable for your venture.","")))) -> This area is not applicable for your venture. | E38: 9. Gender-inclusive selection of strategic suppliers | F38: One gender is under-represented in the team and/or leadership of the organization's strategic suppliers | G38: Track systematically various gender indicators (eg. gender mainstreaming policies implemented) and consider those in the selection | K38: =IFERROR(VLOOKUP($I38,'Idea prioritization list'!$D$1:$E$3,2,0),0)+IFERROR(VLOOKUP($H38,'Idea prioritization list'!$D$1:$E$3,2,0),0)+IFERROR(VLOOKUP($J38,'Idea prioritization list'!$D$1:$E$3,2,0),0) -> 0
B39: 9.2 If your organization works with strategic suppliers, does your organization track the level of commitment to gender inclusion of its strategic suppliers? | C39: ='Assessment answers'!B49 -> 0 | D39: =IF(C39>=3,"Your scored well in this area. Focus your efforts on other problem areas.",IF(AND(C39<3,C39>=2),"You scored below average in this area. We suggest you work on this problem area. Please fill in columns H-J",IF(AND(C39<2,C39>0),"You scored low in this area. We strongly suggest you work on this problem area. Please fill in columns H-J",IF(C39=0,"This area is not applicable for your venture.","")))) -> This area is not applicable for your venture. | E39: 9. Gender-inclusive selection of strategic suppliers | F39: The organization does not track the level of commitment to gender inclusion of its strategic suppliers | G39: Track systematically various gender indicators (eg. gender mainstreaming policies implemented) and consider those in the selection | K39: =IFERROR(VLOOKUP($I39,'Idea prioritization list'!$D$1:$E$3,2,0),0)+IFERROR(VLOOKUP($H39,'Idea prioritization list'!$D$1:$E$3,2,0),0)+IFERROR(VLOOKUP($J39,'Idea prioritization list'!$D$1:$E$3,2,0),0) -> 0
B40: 9.3 If your organization works with strategic suppliers, does it actively try to select suppliers that are committed to gender inclusion (e.g. have a gender-balanced workforce, gender mainstreaming policies)? | C40: ='Assessment answers'!B50 -> 0 | D40: =IF(C40>=3,"Your scored well in this area. Focus your efforts on other problem areas.",IF(AND(C40<3,C40>=2),"You scored below average in this area. We suggest you work on this problem area. Please fill in columns H-J",IF(AND(C40<2,C40>0),"You scored low in this area. We strongly suggest you work on this problem area. Please fill in columns H-J",IF(C40=0,"This area is not applicable for your venture.","")))) -> This area is not applicable for your venture. | E40: 9. Gender-inclusive selection of strategic suppliers | F40: The organization does not make any specific effort to ensure that its strategic suppliers are committed to gender inclusion, nor have objectives to do so | G40: Create a robust process to find strategic suppliers who are committed to gender inclusion (e.g. expanding the pool of suppliers) and attract them (e.g. adjusting the pitch) | K40: =IFERROR(VLOOKUP($I40,'Idea prioritization list'!$D$1:$E$3,2,0),0)+IFERROR(VLOOKUP($H40,'Idea prioritization list'!$D$1:$E$3,2,0),0)+IFERROR(VLOOKUP($J40,'Idea prioritization list'!$D$1:$E$3,2,0),0) -> 0
B41: 9.4 If your organization works with strategic suppliers, does it track their performance in a gender-disaggregated way? | C41: ='Assessment answers'!B51 -> 0 | D41: =IF(C41>=3,"Your scored well in this area. Focus your efforts on other problem areas.",IF(AND(C41<3,C41>=2),"You scored below average in this area. We suggest you work on this problem area. Please fill in columns H-J",IF(AND(C41<2,C41>0),"You scored low in this area. We strongly suggest you work on this problem area. Please fill in columns H-J",IF(C41=0,"This area is not applicable for your venture.","")))) -> This area is not applicable for your venture. | E41: 9. Gender-inclusive selection of strategic suppliers | F41: The supplier performance data is not disaggregated by gender | G41: Collect and analyze systematically gender-disaggregated data on supplier performance, with the view to improve the selection of strategic suppliers | K41: =IFERROR(VLOOKUP($I41,'Idea prioritization list'!$D$1:$E$3,2,0),0)+IFERROR(VLOOKUP($H41,'Idea prioritization list'!$D$1:$E$3,2,0),0)+IFERROR(VLOOKUP($J41,'Idea prioritization list'!$D$1:$E$3,2,0),0) -> 0
...

Sheet Idea prioritization list
D1: High | E1: 3
A2: 1. Gender-balanced hiring | D2: Medium | E2: 2 | H2: Yes
A3: 2. Gender-balanced promotion and retention | D3: Low | E3: 1 | H3: No
A4: 3. Gender sensitive HR policies and practices | H4: Maybe
A5: 4. Board of Directors' diversity
A6: 5. Gender-sensitive product design and market research
A7: 6. Gender-inclusive marketing and commmunication
A8: 7. Diversity in distribution and sales' teams
A9: 8. Gender-sensitive customer service
A10: 9. Gender-inclusive selection of strategic suppliers
A11: 10. Gender-sensitive training of strategic suppliers
A12: Overall
A14: Section 1: Gender-balanced hiring
A15: Section 2: Gender-balanced promotion and retention
A16: Section 3: Gender-sensitive HR policies and practices
A17: Section 4: Board of Directors' diversity
... A24: Total

Sheet M2 - Library of resources
B1: LIBRARY OF RESOURCES
