Workbook
Name TypeIntervention: [1]Lists!$B$57:$B$59

Sheet M2 - Assessment tool
B1: GENDER MAINSTREAMING ASSESSMENT TOOL FOR ESOs
B2: Objective: This assessment will help you understand the level of gender mainstreaming in your organization and it will allow you to discover areas to improve! Instructions: 1) There are 16 sections in this assessment, covering 4 main organizational areas: I) staff and leadership diversity, II) gender-focused programming, financing and positioning, III) gender-inclusive venture selection, and IV) gender-sensitive program design and delivery 2) For each question there are 5 or 8 possible answers to choose from. Choose the option that is closer to your organization's situation or, if you think that none of the options is applicable to your organization, choose "Not applicable" 3) To select an answer, enter an "X" either manually or using the drop-down menu: Please, select only one answer 4) Once you have answered all the questions, move to the "M2 - Assessment results" page to see the current level of gender mainstreaming of your organization and discover areas that may need improvement Note: The word "women" is used to designate persons who identify as women, and the word "men" to designate persons who identify as men.
B4: STAFF AND LEADERSHIP DIVERSITY
B5: Section 1: Gender-balanced hiring
C8: 1.1 What proportion (%) of your organization's employees are women? | M8: delete
M9: remain split for the venture
E10: 0-15%
E11: 15-30%
E12: 30-45%
E13: 45-55%
E14: 55-70%
E15: 70-85%
E16: 85%-100%
E17: NA
C19: Question points: | E19: =IF(OR(C10="X",C16="X"),1,IF(OR(C11="X",C15="X"),2,IF(OR(C12="X",C14="X"),3,IF(C13="X",4,0)))) -> 0
C21: 1.2 What proportion (%) of your organization's top management are women?
E23: 0-15%
E24: 15-30%
E25: 30-45%
E26: 45-55%
E27: 55-70%
E28: 70-85%
E29: 85%-100%
E30: NA
C32: Question points: | E32: =IF(OR(C23="X",C29="X"),1,IF(OR(C24="X",C28="X"),2,IF(OR(C25="X",C27="X"),3,IF(C26="X",4,0)))) -> 0
C34: 1.3 Does your organization actively try to recruit employees of the gender that is under-represented in your team?
E36: We do not make any specific effort to ensure equal gender representation in our team, nor have objectives to do so
E37: We would like to improve equal gender representation in our team but we do not have specific initiatives to ensure that. Our recruiting materials are designed to communicate to candidates of all genders (e.g. text and visuals refer to both men and women)
E38: We actively search for candidates of the under-represented gender by promoting opportunities in a way that is appealing to them (e.g. by putting forward elements that candidates of the under-represented gender typically value, e.g. for women mentioning working environment, flexibility, benefits for working mothers, etc.)
E39: We have a robust process to find candidates of the under-represented gender (e.g. hosting recruiting events targeting candidates of the under-represented gender, promoting positions through non-traditional channels, expanding our pool of candidates to non-traditional profiles), attract them (e.g. pitch adjusted to what candidates of the under-represented gender value) and support them in the recruiting process
E40: NA
C42: Question points: | E42: =IF(C36="X",1,IF(C37="X",2,IF(C38="X",3,IF(C39="X",4,0)))) -> 0
C44: 1.4 Does your organization actively try to recruit managers of the gender that is under-represented in top management?
E46: We do not make any specific effort to ensure equal gender representation in top management positions, nor have objectives to do so
E47: We would like to improve equal gender representation in our team but we do not have specific initiatives to ensure that. Our recruiting materials are designed to communicate to candidates of all genders (e.g. text and visuals refer to both men and women)
E48: We actively search for candidates of the under-represented gender to fill top management by promoting opportunities in a way that is appealing to them (e.g. by putting forward elements that candidates of the under-represented gender typically value, e.g. for women mentioning working environment, flexibility, benefits for working mothers, etc.)
E49: We have a robust process to find candidates of the under-represented gender (e.g. hosting recruiting events targeting candidates of the under-represented gender, promoting positions through non-traditional channels, expanding our pool of candidates to non-traditional profiles), attract them (e.g. pitch adjusted to what candidates of the under-represented gender value) and support them in the recruiting process
E50: NA
C52: Question points: | E52: =IF(C46="X",1,IF(C47="X",2,IF(C48="X",3,IF(C49="X",4,0)))) -> 0
C54: 1.5 Does your organization have processes in place to ensure that you give equal opportunities to candidates of all genders as a recruiter?
...

Sheet Assessment answers
B2: ANSWERS
B3: X
B5: RANGES FOR AVERAGE
A6: Sub-section | B6: Section 1 | C6: =IF(B6=0,"NA",B6) -> Section 1
A7: 1.1 | B7: ='M2 - Assessment tool'!E19 -> 0 | C7: =IF(B7=0,"NA",B7) -> NA
A8: 1.2 | B8: ='M2 - Assessment tool'!E32 -> 0 | C8: =IF(B8=0,"NA",B8) -> NA
A9: 1.3 | B9: ='M2 - Assessment tool'!E42 -> 0 | C9: =IF(B9=0,"NA",B9) -> NA
A10: 1.4 | B10: ='M2 - Assessment tool'!E52 -> 0 | C10: =IF(B10=0,"NA",B10) -> NA
A11: 1.5 | B11: ='M2 - Assessment tool'!E62 -> 0 | C11: =IF(B11=0,"NA",B11) -> NA
A12: - | B12: Section 2 | C12: =IF(B12=0,"NA",B12) -> Section 2
A13: 2.1 | B13: ='M2 - Assessment tool'!E76 -> 0 | C13: =IF(B13=0,"NA",B13) -> NA
A14: 2.2 | B14: ='M2 - Assessment tool'!E86 -> 0 | C14: =IF(B14=0,"NA",B14) -> NA
A15: - | B15: Section 3 | C15: =IF(B15=0,"NA",B15) -> Section 3
A16: 3.1 | B16: ='M2 - Assessment tool'!E100 -> 0 | C16: =IF(B16=0,"NA",B16) -> NA
A17: 3.2 | B17: ='M2 - Assessment tool'!E110 -> 0 | C17: =IF(B17=0,"NA",B17) -> NA
A18: 3.3 | B18: ='M2 - Assessment tool'!E120 -> 0 | C18: =IF(B18=0,"NA",B18) -> NA
A19: 3.4 | B19: ='M2 - Assessment tool'!E130 -> 0 | C19: =IF(B19=0,"NA",B19) -> NA
A20: 3.5 | B20: ='M2 - Assessment tool'!E140 -> 0 | C20: =IF(B20=0,"NA",B20) -> NA
A21: 3.6 | B21: ='M2 - Assessment tool'!E150 -> 0 | C21: =IF(B21=0,"NA",B21) -> NA
A22: 3.7 | B22: ='M2 - Assessment tool'!E160 -> 0 | C22: =IF(B22=0,"NA",B22) -> NA
A23: 3.8 | B23: ='M2 - Assessment tool'!E170 -> 0 | C23: =IF(B23=0,"NA",B23) -> NA
A24: - | B24: Section 4 | C24: =IF(B24=0,"NA",B24) -> Section 4
A25: 4.1 | B25: ='M2 - Assessment tool'!E187 -> 0 | C25: =IF(B25=0,"NA",B25) -> NA
A26: 4.2 | B26: ='M2 - Assessment tool'!E197 -> 0 | C26: =IF(B26=0,"NA",B26) -> NA
A27: - | B27: Section 5 | C27: =IF(B27=0,"NA",B27) -> Section 5
A28: 5.1 | B28: ='M2 - Assessment tool'!E211 -> 0 | C28: =IF(B28=0,"NA",B28) -> NA
B29: Section 6 | C29: =IF(B29=0,"NA",B29) -> Section 6
A30: 6.1 | B30: ='M2 - Assessment tool'!E225 -> 0 | C30: =IF(B30=0,"NA",B30) -> NA
A31: 6.2 | B31: ='M2 - Assessment tool'!E235 -> 0 | C31: =IF(B31=0,"NA",B31) -> NA
A32: 6.3 | B32: ='M2 - Assessment tool'!E245 -> 0 | C32: =IF(B32=0,"NA",B32) -> NA
B33: Section 7 | C33: =IF(B33=0,"NA",B33) -> Section 7
A34: 7.1 | B34: ='M2 - Assessment tool'!E259 -> 0 | C34: =IF(B34=0,"NA",B34) -> NA
A35: 7.2 | B35: ='M2 - Assessment tool'!E269 -> 0 | C35: =IF(B35=0,"NA",B35) -> NA
B36: Section 8 | C36: =IF(B36=0,"NA",B36) -> Section 8
A37: 8.1 | B37: ='M2 - Assessment tool'!E283 -> 0 | C37: =IF(B37=0,"NA",B37) -> NA
A38: 8.2 | B38: ='M2 - Assessment tool'!E293 -> 0 | C38: =IF(B38=0,"NA",B38) -> NA
B39: Section 9 | C39: =IF(B39=0,"NA",B39) -> Section 9
A40: 9.1 | B40: ='M2 - Assessment tool'!E307 -> 0 | C40: =IF(B40=0,"NA",B40) -> NA
A41: 9.2 | B41: ='M2 - Assessment tool'!E320 -> 0 | C41: =IF(B41=0,"NA",B41) -> NA
A42: 9.3 | B42: ='M2 - Assessment tool'!E330 -> 0 | C42: =IF(B42=0,"NA",B42) -> NA
...

Sheet M2 - Assessment results
B1: RESULTS TABLE
B2: Instructions to read your results: 1) You have one result per section and one total result, that is the average of your scores in every section. The scale goes from 1 (low) to 4 (high) 2) Now that you have your results, move to the "M2 - Idea prioritization" page to see all potential gender mainstreaming initiatives to be implemented in your organization and prioritize them 3) You can also move to the "M2 - Library of resources" page for more ideas on how to improve gender mainstreaming in your organization.
B4: Area | D4: Section | E4: Result
B5: Staff and leadership diversity | D5: ='M2 - Assessment tool'!B5 -> Section 1: Gender-balanced hiring | E5: =IFERROR(AVERAGEIF('Assessment answers'!B7:B11,"<>0"),"NA") -> NA
D6: ='M2 - Assessment tool'!C65 -> Section 2: Gender-balanced promotion and retention | E6: =IFERROR(AVERAGEIF('Assessment answers'!B13:B14,"<>0"),"NA") -> NA
D7: ='M2 - Assessment tool'!C89 -> Section 3: Gender-sensitive HR policies and practices | E7: =IFERROR(AVERAGEIF('Assessment answers'!B16:B23,"<>0"),"NA") -> NA
D8: ='M2 - Assessment tool'!C173 -> Section 4: Board of Advisors' diversity | E8: =IFERROR(AVERAGEIF('Assessment answers'!B25:B26,"<>0"),"NA") -> NA
D9: ='M2 - Assessment tool'!C200 -> Section 5: Gender-related internal target setting and reporting | E9: =IFERROR(AVERAGEIF('Assessment answers'!B28,"<>0"),"NA") -> NA
B10: Gender-focused programming, financing and positioning | D10: ='M2 - Assessment tool'!C214 -> Section 6: Gender-inclusive strategic focus/positioning | E10: =IFERROR(AVERAGEIF('Assessment answers'!B30:B32,"<>0"),"NA") -> NA
D11: ='M2 - Assessment tool'!C248 -> Section 7: Gender-focused fundraising | E11: =IFERROR(AVERAGEIF('Assessment answers'!B34:B35,"<>0"),"NA") -> NA
D12: ='M2 - Assessment tool'!C272 -> Section 8: Gender-related target setting and reporting to funders | E12: =IFERROR(AVERAGEIF('Assessment answers'!B37:B38,"<>0"),"NA") -> NA
B13: Gender-inclusive venture selection | D13: ='M2 - Assessment tool'!C296 -> Section 9: Gender-inclusive pipeline identification | E13: =IFERROR(AVERAGEIF('Assessment answers'!B40:B42,"<>0"),"NA") -> NA
D14: ='M2 - Assessment tool'!C333 -> Section 10: Gender-inclusive pipeline pre-selection | E14: =IFERROR(AVERAGEIF('Assessment answers'!B44,"<>0"),"NA") -> NA
D15: ='M2 - Assessment tool'!C347 -> Section 11: Gender-sensitive due diligence | E15: =IFERROR(AVERAGEIF('Assessment answers'!B46:B47,"<>0"),"NA") -> NA
D16: ='M2 - Assessment tool'!C371 -> Section 12: Gender-sensitive venture selection | E16: =IFERROR(AVERAGEIF('Assessment answers'!B49:B52,"<>0"),"NA") -> NA
B17: Gender-sensitive program design and delivery | D17: ='M2 - Assessment tool'!C421 -> Section 13: Gender-sensitive program content design | E17: =IFERROR(AVERAGEIF('Assessment answers'!B54:B56,"<>0"),"NA") -> NA
D18: ='M2 - Assessment tool'!C455 -> Section 14: Gender-sensitive program delivery approach | E18: =IFERROR(AVERAGEIF('Assessment answers'!B58:B59,"<>0"),"NA") -> NA
D19: ='M2 - Assessment tool'!C479 -> Section 15: Gender-balanced program delivery team | E19: =IFERROR(AVERAGEIF('Assessment answers'!B61,"<>0"),"NA") -> NA
D20: ='M2 - Assessment tool'!C493 -> Section 16: Gender-related program target setting and reporting | E20: =IFERROR(AVERAGEIF('Assessment answers'!B63:B65,"<>0"),"NA") -> NA
D21: Total | E21: =IFERROR(AVERAGEIF(E5:E20,"<>0"),"NA") -> NA

Sheet M2 - Idea prioritization
D1: IDEA PRIORITIZATION TEMPLATE
D2: Objective: Identify the areas requiring immediate attention in terms of gender mainstreaming. Instructions: 1) Review your results for each question of the assessment tool in Column D. The score can be low, below average or high. Questions that did not apply to your organization appear as "non applicable". 2) For low and below-average scores, examine the related gaps and potential solutions for your organization. 3) Once you have read them all, assess their business impact, social impact and feasibility. The assessment can be low, medium or high. 4) Identify the areas that have a higher prioritization level in column K. High priority shows in dark green, middle priority in orange and low priority in red. 5) In column L, explain how you rated the initiative (in terms of business impact, social impact, and feasibility), and why you chose to prioritize—or not prioritize—the initiative. For example, clarify why you did not prioritize initiatives in areas where you have significant gaps, outlining factors such as limitations due to your specific organizational context, high costs, complexity, etc. Note: The word "women" is used to designate persons who identify as women, and the word "men" to designate persons who identify as men. Column M is for LeFil's use.
B4: Question | C4: Score | D4: Assessment result | E4: Opportunity area | F4: Description of the gap | G4: Description of the solution | H4: Business impact: increase in revenues, reduction of costs, helps with fundraising, etc. | I4: Social impact: promotion of gender equality and equity | J4: Feasibility | K4: Prioritization score | L4: Please explain your rating and why you chose to prioritize - or not prioritize - the initiative | M4: Remarks from LeFil prior workshop
B5: 1.1 What proportion (%) of your organization's employees are women? | C5: ='Assessment answers'!B7 -> 0 | D5: =IF(C5>=3,"Your scored well in this area. Focus your efforts on other problem areas.",IF(AND(C5<3,C5>=2),"You scored below average in this area. We suggest you work on this problem area. Please fill in columns H-J",IF(AND(C5<2,C5>0),"You scored low in this area. We strongly suggest you work on this problem area. Please fill in columns H-J",IF(C5=0,"This area is not applicable for your venture.","")))) -> This area is not applicable for your venture. | E5: 1. Gender-balanced hiring | F5: One gender is under-represented in the team | G5: Create a robust process to find candidates of the under-represented gender in the team (e.g. hosting recruiting events targeting candidates of the under-represented gender, promoting positions through non-traditional channels, expanding the pool of candidates to non-traditional profiles), attract them (e.g. pitch adjusted to what candidates of the under-represented gender value) and support them in the recruiting process | K5: =IFERROR(VLOOKUP($I5,'Idea prioritization list'!$D$1:$E$3,2,0),0)+IFERROR(VLOOKUP($H5,'Idea prioritization list'!$D$1:$E$3,2,0),0)+IFERROR(VLOOKUP($J5,'Idea prioritization list'!$D$1:$E$3,2,0),0) -> 0
B6: 1.2 What proportion (%) of your organization's top management are women? | C6: ='Assessment answers'!B8 -> 0 | D6: =IF(C6>=3,"Your scored well in this area. Focus your efforts on other problem areas.",IF(AND(C6<3,C6>=2),"You scored below average in this area. We suggest you work on this problem area. Please fill in columns H-J",IF(AND(C6<2,C6>0),"You scored low in this area. We strongly suggest you work on this problem area. Please fill in columns H-J",IF(C6=0,"This area is not applicable for your venture.","")))) -> This area is not applicable for your venture. | E6: 1. Gender-balanced hiring | F6: One gender is under-represented in the leadership team | G6: Create a robust process to find candidates of the under-represented gender for the leadership team (e.g. hosting recruiting events targeting candidates of the under-represented gender, promoting positions through non-traditional channels, expanding the pool of candidates to non-traditional profiles), attract them (e.g. pitch adjusted to what candidates of the under-represented gender value) and support them in the recruiting process | K6: =IFERROR(VLOOKUP($I6,'Idea prioritization list'!$D$1:$E$3,2,0),0)+IFERROR(VLOOKUP($H6,'Idea prioritization list'!$D$1:$E$3,2,0),0)+IFERROR(VLOOKUP($J6,'Idea prioritization list'!$D$1:$E$3,2,0),0) -> 0
B7: 1.3 Does your organization actively try to recruit employees of the gender that is under-represented in your team? | C7: ='Assessment answers'!B9 -> 0 | D7: =IF(C7>=3,"Your scored well in this area. Focus your efforts on other problem areas.",IF(AND(C7<3,C7>=2),"You scored below average in this area. We suggest you work on this problem area. Please fill in columns H-J",IF(AND(C7<2,C7>0),"You scored low in this area. We strongly suggest you work on this problem area. Please fill in columns H-J",IF(C7=0,"This area is not applicable for your venture.","")))) -> This area is not applicable for your venture. | E7: 1. Gender-balanced hiring | F7: The organization does not try to recruit employees of the gender that is under-represented in the team | G7: Create a robust process to find candidates of the under-represented gender in the team (e.g. hosting recruiting events targeting candidates of the under-represented gender, promoting positions through non-traditional channels, expanding the pool of candidates to non-traditional profiles), attract them (e.g. pitch adjusted to what candidates of the under-represented gender value) and support them in the recruiting process | K7: =IFERROR(VLOOKUP($I7,'Idea prioritization list'!$D$1:$E$3,2,0),0)+IFERROR(VLOOKUP($H7,'Idea prioritization list'!$D$1:$E$3,2,0),0)+IFERROR(VLOOKUP($J7,'Idea prioritization list'!$D$1:$E$3,2,0),0) -> 0
B8: 1.4 Does your organization actively try to recruit managers of the gender that is under-represented in top management? | C8: ='Assessment answers'!B10 -> 0 | D8: =IF(C8>=3,"Your scored well in this area. Focus your efforts on other problem areas.",IF(AND(C8<3,C8>=2),"You scored below average in this area. We suggest you work on this problem area. Please fill in columns H-J",IF(AND(C8<2,C8>0),"You scored low in this area. We strongly suggest you work on this problem area. Please fill in columns H-J",IF(C8=0,"This area is not applicable for your venture.","")))) -> This area is not applicable for your venture. | E8: 1. Gender-balanced hiring | F8: The organization does not try to recruit managers of the gender that is under-represented in top management positions | G8: Create a robust process to find candidates of the under-represented gender for top management positions (e.g. hosting recruiting events targeting candidates of the under-represented gender, promoting positions through non-traditional channels, expanding the pool of candidates to non-traditional profiles), attract them (e.g. pitch adjusted to what candidates of the under-represented gender value) and support them in the recruiting process | K8: =IFERROR(VLOOKUP($I8,'Idea prioritization list'!$D$1:$E$3,2,0),0)+IFERROR(VLOOKUP($H8,'Idea prioritization list'!$D$1:$E$3,2,0),0)+IFERROR(VLOOKUP($J8,'Idea prioritization list'!$D$1:$E$3,2,0),0) -> 0
B9: 1.5 Does your organization have processes in place to ensure that you give equal opportunities to candidates of all genders as a recruiter? | C9: ='Assessment answers'!B11 -> 0 | D9: =IF(C9>=3,"Your scored well in this area. Focus your efforts on other problem areas.",IF(AND(C9<3,C9>=2),"You scored below average in this area. We suggest you work on this problem area. Please fill in columns H-J",IF(AND(C9<2,C9>0),"You scored low in this area. We strongly suggest you work on this problem area. Please fill in columns H-J",IF(C9=0,"This area is not applicable for your venture.","")))) -> This area is not applicable for your venture. | E9: 1. Gender-balanced hiring | F9: The organization does not have processes in place to ensure equal opportunities to candidates of all genders as a recruiter | G9: Design initiatives to ensure that candidates are given equal opportunities in the recruiting process. Use blind CVs, train the recruiters on unconscious bias, and create a process in which shortlisted candidates are discussed by a gender-diverse committee | K9: =IFERROR(VLOOKUP($I9,'Idea prioritization list'!$D$1:$E$3,2,0),0)+IFERROR(VLOOKUP($H9,'Idea prioritization list'!$D$1:$E$3,2,0),0)+IFERROR(VLOOKUP($J9,'Idea prioritization list'!$D$1:$E$3,2,0),0) -> 0
B10: 2.1 On average, do employees of all genders progress on their career at the same pace in your organization? | C10: ='Assessment answers'!B13 -> 0 | D10: =IF(C10>=3,"Your scored well in this area. Focus your efforts on other problem areas.",IF(AND(C10<3,C10>=2),"You scored below average in this area. We suggest you work on this problem area. Please fill in columns H-J",IF(AND(C10<2,C10>0),"You scored low in this area. We strongly suggest you work on this problem area. Please fill in columns H-J",IF(C10=0,"This area is not applicable for your venture.","")))) -> This area is not applicable for your venture. | E10: 2. Gender-balanced promotion and retention | F10: The organization does not measure the pace of career progression | G10: Measure and address frequently the pace of career progression by gender and ensure that all employees of all genders progress at the same pace | K10: =IFERROR(VLOOKUP($I10,'Idea prioritization list'!$D$1:$E$3,2,0),0)+IFERROR(VLOOKUP($H10,'Idea prioritization list'!$D$1:$E$3,2,0),0)+IFERROR(VLOOKUP($J10,'Idea prioritization list'!$D$1:$E$3,2,0),0) -> 0
B11: 2.2 Does your organization actively try to promote employees of the gender that is under-represented in top management positions? | C11: ='Assessment answers'!B14 -> 0 | D11: =IF(C11>=3,"Your scored well in this area. Focus your efforts on other problem areas.",IF(AND(C11<3,C11>=2),"You scored below average in this area. We suggest you work on this problem area. Please fill in columns H-J",IF(AND(C11<2,C11>0),"You scored low in this area. We strongly suggest you work on this problem area. Please fill in columns H-J",IF(C11=0,"This area is not applicable for your venture.","")))) -> This area is not applicable for your venture. | E11: 2. Gender-balanced promotion and retention | F11: The organization does not do any specific effort to ensure equal gender representation in top management positions, nor has objectives to do so | G11: Create a robust process to encourage and facilitate the promotion of employees of the under-represented gender in top management positions (e.g. allow for flexibility, objective promotions policies) | K11: =IFERROR(VLOOKUP($I11,'Idea prioritization list'!$D$1:$E$3,2,0),0)+IFERROR(VLOOKUP($H11,'Idea prioritization list'!$D$1:$E$3,2,0),0)+IFERROR(VLOOKUP($J11,'Idea prioritization list'!$D$1:$E$3,2,0),0) -> 0
B12: 3.1 Does your organization provide the same salary for employees of all genders at the same level of responsibility? | C12: ='Assessment answers'!B16 -> 0 | D12: =IF(C12>=3,"Your scored well in this area. Focus your efforts on other problem areas.",IF(AND(C12<3,C12>=2),"You scored below average in this area. We suggest you work on this problem area. Please fill in columns H-J",IF(AND(C12<2,C12>0),"You scored low in this area. We strongly suggest you work on this problem area. Please fill in columns H-J",IF(C12=0,"This area is not applicable for your venture.","")))) -> This area is not applicable for your venture. | E12: 3. Gender sensitive HR policies and practices | F12: Salaries are negotiated on a case by case basis, regardless of gender | G12: Create a process to ensure that employees at equivalent level of responsibility have the same salary regardless of gender, at every level of the organization | K12: =IFERROR(VLOOKUP($I12,'Idea prioritization list'!$D$1:$E$3,2,0),0)+IFERROR(VLOOKUP($H12,'Idea prioritization list'!$D$1:$E$3,2,0),0)+IFERROR(VLOOKUP($J12,'Idea prioritization list'!$D$1:$E$3,2,0),0) -> 0
B13: 3.2 Does your organization provide transparency on salary levels and gender pay gap ratio? | C13: ='Assessment answers'!B17 -> 0 | D13: =IF(C13>=3,"Your scored well in this area. Focus your efforts on other problem areas.",IF(AND(C13<3,C13>=2),"You scored below average in this area. We suggest you work on this problem area. Please fill in columns H-J",IF(AND(C13<2,C13>0),"You scored low in this area. We strongly suggest you work on this problem area. Please fill in columns H-J",IF(C13=0,"This area is not applicable for your venture.","")))) -> This area is not applicable for your venture. | E13: 3. Gender sensitive HR policies and practices | F13: There is no transparency on the salary levels of employees | G13: Communicate transparently on salary levels, disaggregated by gender, and discuss salary policies with the team to ensure that there is no discrimination based on gender (or perception thereof) | K13: =IFERROR(VLOOKUP($I13,'Idea prioritization list'!$D$1:$E$3,2,0),0)+IFERROR(VLOOKUP($H13,'Idea prioritization list'!$D$1:$E$3,2,0),0)+IFERROR(VLOOKUP($J13,'Idea prioritization list'!$D$1:$E$3,2,0),0) -> 0
B14: 3.3 Does your organization ensure clear and objective criteria for salary increases and promotions, taking into account differences between gender in approaching these discussions/ negotiations? | C14: ='Assessment answers'!B18 -> 0 | D14: =IF(C14>=3,"Your scored well in this area. Focus your efforts on other problem areas.",IF(AND(C14<3,C14>=2),"You scored below average in this area. We suggest you work on this problem area. Please fill in columns H-J",IF(AND(C14<2,C14>0),"You scored low in this area. We strongly suggest you work on this problem area. Please fill in columns H-J",IF(C14=0,"This area is not applicable for your venture.","")))) -> This area is not applicable for your venture. | E14: 3. Gender sensitive HR policies and practices | F14: There are no clear and objective criteria for salary increases and promotions taking into account gender dynamics | G14: Communicate transparently about what level of salary can be expected for various levels of responsibility, and offer salary increases based on objective, well-defined criteria. Salary increases are discussed in a gender-diverse committee. If applicable, employees (especially women) are made aware of their tendency to be less vocal about their demands | K14: =IFERROR(VLOOKUP($I14,'Idea prioritization list'!$D$1:$E$3,2,0),0)+IFERROR(VLOOKUP($H14,'Idea prioritization list'!$D$1:$E$3,2,0),0)+IFERROR(VLOOKUP($J14,'Idea prioritization list'!$D$1:$E$3,2,0),0) -> 0
B15: 3.4 Does your organization deliver feedback in a gender-differentiated way based on gender-related specific needs and preferences? | C15: ='Assessment answers'!B19 -> 0 | D15: =IF(C15>=3,"Your scored well in this area. Focus your efforts on other problem areas.",IF(AND(C15<3,C15>=2),"You scored below average in this area. We suggest you work on this problem area. Please fill in columns H-J",IF(AND(C15<2,C15>0),"You scored low in this area. We strongly suggest you work on this problem area. Please fill in columns H-J",IF(C15=0,"This area is not applicable for your venture.","")))) -> This area is not applicable for your venture. | E15: 3. Gender sensitive HR policies and practices | F15: Feedback is given in the same way to men and women, not taking into account gender-related specific needs and preferences | G15: All supervisors are trained to deliver feedback in a gender-differentiated way, depending on the employees' gender (e.g. using strength-focused feedback with more unsecure employees) | K15: =IFERROR(VLOOKUP($I15,'Idea prioritization list'!$D$1:$E$3,2,0),0)+IFERROR(VLOOKUP($H15,'Idea prioritization list'!$D$1:$E$3,2,0),0)+IFERROR(VLOOKUP($J15,'Idea prioritization list'!$D$1:$E$3,2,0),0) -> 0
B16: 3.5 Does your organization provide working conditions that take into account the specific needs of (expecting) parents and caregivers? | C16: ='Assessment answers'!B20 -> 0 | D16: =IF(C16>=3,"Your scored well in this area. Focus your efforts on other problem areas.",IF(AND(C16<3,C16>=2),"You scored below average in this area. We suggest you work on this problem area. Please fill in columns H-J",IF(AND(C16<2,C16>0),"You scored low in this area. We strongly suggest you work on this problem area. Please fill in columns H-J",IF(C16=0,"This area is not applicable for your venture.","")))) -> This area is not applicable for your venture. | E16: 3. Gender sensitive HR policies and practices | F16: (Expecting) parents and caregivers have the same working conditions as everyone else | G16: Create robust initiatives to facilitate working conditions for (expecting) parents and caregivers in addition to part-time work, remote work, and flexible working hours. For example, offer breastfeeding rooms, on-site day care, additional personal time off for caregiving responsibilities, etc. | K16: =IFERROR(VLOOKUP($I16,'Idea prioritization list'!$D$1:$E$3,2,0),0)+IFERROR(VLOOKUP($H16,'Idea prioritization list'!$D$1:$E$3,2,0),0)+IFERROR(VLOOKUP($J16,'Idea prioritization list'!$D$1:$E$3,2,0),0) -> 0
B17: 3.6 Does your organization have a paid parental leave policy? | C17: ='Assessment answers'!B21 -> 0 | D17: =IF(C17>=3,"Your scored well in this area. Focus your efforts on other problem areas.",IF(AND(C17<3,C17>=2),"You scored below average in this area. We suggest you work on this problem area. Please fill in columns H-J",IF(AND(C17<2,C17>0),"You scored low in this area. We strongly suggest you work on this problem area. Please fill in columns H-J",IF(C17=0,"This area is not applicable for your venture.","")))) -> This area is not applicable for your venture. | E17: 3. Gender sensitive HR policies and practices | F17: The organization only offers unpaid maternity leave for new mothers | G17: Provide paid parental leave that goes beyond what is mandated by law (i.e. for a longer period and/or at a higher pay), with equal conditions for both biological and non-biological mothers and fathers, and actively encourage fathers to take advantage of such policy to the same extent as mothers | K17: =IFERROR(VLOOKUP($I17,'Idea prioritization list'!$D$1:$E$3,2,0),0)+IFERROR(VLOOKUP($H17,'Idea prioritization list'!$D$1:$E$3,2,0),0)+IFERROR(VLOOKUP($J17,'Idea prioritization list'!$D$1:$E$3,2,0),0) -> 0
B18: 3.7 Does your organization have policies to prevent and address sexual harassment (e.g. where/ how to report, consequences, etc.)? | C18: ='Assessment answers'!B22 -> 0 | D18: =IF(C18>=3,"Your scored well in this area. Focus your efforts on other problem areas.",IF(AND(C18<3,C18>=2),"You scored below average in this area. We suggest you work on this problem area. Please fill in columns H-J",IF(AND(C18<2,C18>0),"You scored low in this area. We strongly suggest you work on this problem area. Please fill in columns H-J",IF(C18=0,"This area is not applicable for your venture.","")))) -> This area is not applicable for your venture. | E18: 3. Gender sensitive HR policies and practices | F18: There are no policies on sexual harassment | G18: Design a policy against sexual harassment that includes a specific process/channel to report cases to a dedicated and knowledgeable person (e.g. ombudsman, mediator), who is available for employees who want to discuss any type of situation, maintaining confidentiality. The process to handle cases is also clearly defined | K18: =IFERROR(VLOOKUP($I18,'Idea prioritization list'!$D$1:$E$3,2,0),0)+IFERROR(VLOOKUP($H18,'Idea prioritization list'!$D$1:$E$3,2,0),0)+IFERROR(VLOOKUP($J18,'Idea prioritization list'!$D$1:$E$3,2,0),0) -> 0
B19: 3.8 Does your organization offer gender bias trainings to staff and leadership (i.e. for everyone to understand that they have a bias and how to address or mitigate it)? | C19: ='Assessment answers'!B23 -> 0 | D19: =IF(C19>=3,"Your scored well in this area. Focus your efforts on other problem areas.",IF(AND(C19<3,C19>=2),"You scored below average in this area. We suggest you work on this problem area. Please fill in columns H-J",IF(AND(C19<2,C19>0),"You scored low in this area. We strongly suggest you work on this problem area. Please fill in columns H-J",IF(C19=0,"This area is not applicable for your venture.","")))) -> This area is not applicable for your venture. | E19: 3. Gender sensitive HR policies and practices | F19: The team is unaware of its own gender bias and/or how to mitigate it | G19: Offer a mandatory gender training for employees across all functions and seniority levels | K19: =IFERROR(VLOOKUP($I19,'Idea prioritization list'!$D$1:$E$3,2,0),0)+IFERROR(VLOOKUP($H19,'Idea prioritization list'!$D$1:$E$3,2,0),0)+IFERROR(VLOOKUP($J19,'Idea prioritization list'!$D$1:$E$3,2,0),0) -> 0
B20: 4.1 What proportion (%) of your organization's Board of Advisors (or equivalent) members are women? | C20: ='Assessment answers'!B25 -> 0 | D20: =IF(C20>=3,"Your scored well in this area. Focus your efforts on other problem areas.",IF(AND(C20<3,C20>=2),"You scored below average in this area. We suggest you work on this problem area. Please fill in columns H-J",IF(AND(C20<2,C20>0),"You scored low in this area. We strongly suggest you work on this problem area. Please fill in columns H-J",IF(C20=0,"This area is not applicable for your venture.","")))) -> This area is not applicable for your venture. | E20: 4. Board of Advisors' diversity | F20: One gender is under-represented in the Board of Advisors (or equivalent) | G20: Create a robust process to search and enrol members of the under-represented gender on the Board of Advisors (or equivalent) (e.g. expanding the pool of candidates to non-traditional profiles, pitch adjusted to what candidates of the under-represented gender value) | K20: =IFERROR(VLOOKUP($I20,'Idea prioritization list'!$D$1:$E$3,2,0),0)+IFERROR(VLOOKUP($H20,'Idea prioritization list'!$D$1:$E$3,2,0),0)+IFERROR(VLOOKUP($J20,'Idea prioritization list'!$D$1:$E$3,2,0),0) -> 0
B21: 4.2 Does your organization actively try to add members of the gender that is under-represented on the Board of Advisors (or equivalent)? | C21: ='Assessment answers'!B26 -> 0 | D21: =IF(C21>=3,"Your scored well in this area. Focus your efforts on other problem areas.",IF(AND(C21<3,C21>=2),"You scored below average in this area. We suggest you work on this problem area. Please fill in columns H-J",IF(AND(C21<2,C21>0),"You scored low in this area. We strongly suggest you work on this problem area. Please fill in columns H-J",IF(C21=0,"This area is not applicable for your venture.","")))) -> This area is not applicable for your venture. | E21: 4. Board of Advisors' diversity | F21: The organization does not do any specific effort to ensure equal gender representation on the Board of Advisors (or equivalent), nor have objectives to do so | G21: Create a robust process to search and enrol members of the under-represented gender on the Board of Advisors (or equivalent) (e.g. expanding the pool of candidates to non-traditional profiles, pitch adjusted to what candidates of the under-represented gender value) | K21: =IFERROR(VLOOKUP($I21,'Idea prioritization list'!$D$1:$E$3,2,0),0)+IFERROR(VLOOKUP($H21,'Idea prioritization list'!$D$1:$E$3,2,0),0)+IFERROR(VLOOKUP($J21,'Idea prioritization list'!$D$1:$E$3,2,0),0) -> 0
B22: 5.1 Does your organization have internal DEI (diversity, equity and inclusion) targets, as well as processes in place to regularly track and report on those to staff, management and funders? | C22: ='Assessment answers'!B28 -> 0 | D22: =IF(C22>=3,"Your scored well in this area. Focus your efforts on other problem areas.",IF(AND(C22<3,C22>=2),"You scored below average in this area. We suggest you work on this problem area. Please fill in columns H-J",IF(AND(C22<2,C22>0),"You scored low in this area. We strongly suggest you work on this problem area. Please fill in columns H-J",IF(C22=0,"This area is not applicable for your venture.","")))) -> This area is not applicable for your venture. | E22: 5. Gender-related internal target setting and reporting | F22: The organization has not set internal DEI targets | G22: Set detailed internal DEI targets (e.g. gender-disaggregated employee satisfaction) and systematically track and report on them to staff, management and funders) | K22: =IFERROR(VLOOKUP($I22,'Idea prioritization list'!$D$1:$E$3,2,0),0)+IFERROR(VLOOKUP($H22,'Idea prioritization list'!$D$1:$E$3,2,0),0)+IFERROR(VLOOKUP($J22,'Idea prioritization list'!$D$1:$E$3,2,0),0) -> 0
B23: 6.1 Does your organization's mission statement or strategic plan include an explicit focus on sectors that benefit women in particular (e.g. healthcare and care services, education and consumer services)? | C23: ='Assessment answers'!B30 -> 0 | D23: =IF(C23>=3,"Your scored well in this area. Focus your efforts on other problem areas.",IF(AND(C23<3,C23>=2),"You scored below average in this area. We suggest you work on this problem area. Please fill in columns H-J",IF(AND(C23<2,C23>0),"You scored low in this area. We strongly suggest you work on this problem area. Please fill in columns H-J",IF(C23=0,"This area is not applicable for your venture.","")))) -> This area is not applicable for your venture. | E23: 6. Gender-inclusive strategic focus/positioning | F23: The organization's mission statement or strategic plan do not include any specific focus on sectors that benefit women | G23: Target exclusively sectors that benefit women in particular, and communicate explicitly about it, through the mission statement, strategic plan and other public/formal communications | K23: =IFERROR(VLOOKUP($I23,'Idea prioritization list'!$D$1:$E$3,2,0),0)+IFERROR(VLOOKUP($H23,'Idea prioritization list'!$D$1:$E$3,2,0),0)+IFERROR(VLOOKUP($J23,'Idea prioritization list'!$D$1:$E$3,2,0),0) -> 0
B24: 6.2 Does your organization's mission statement or strategic plan include an explicit focus on promoting gender diversity in your venture portfolio (in terms of characteristics of ventures, such as gender of leadership and staff)? | C24: ='Assessment answers'!B31 -> 0 | D24: =IF(C24>=3,"Your scored well in this area. Focus your efforts on other problem areas.",IF(AND(C24<3,C24>=2),"You scored below average in this area. We suggest you work on this problem area. Please fill in columns H-J",IF(AND(C24<2,C24>0),"You scored low in this area. We strongly suggest you work on this problem area. Please fill in columns H-J",IF(C24=0,"This area is not applicable for your venture.","")))) -> This area is not applicable for your venture. | E24: 6. Gender-inclusive strategic focus/positioning | F24: The organization's mission statement or strategic plan do not include an explicit focus on promoting gender diversity in the investment portfolio | G24: Target exclusively ventures that have a high staff and leadership gender diversity (i.e. with a minimum of 30% of founders and/or senior managers of each gender) and communicate explicitly about it, through the mission statement, strategic plan and/or other public/formal communications | K24: =IFERROR(VLOOKUP($I24,'Idea prioritization list'!$D$1:$E$3,2,0),0)+IFERROR(VLOOKUP($H24,'Idea prioritization list'!$D$1:$E$3,2,0),0)+IFERROR(VLOOKUP($J24,'Idea prioritization list'!$D$1:$E$3,2,0),0) -> 0
B25: 6.3 Does your organization's mission statement or strategic plan includes an explicit focus on ventures that promote gender equity among their end beneficiries (e.g. offering products and services that drive gender equity or enhance the well-being of women/girls)? | C25: ='Assessment answers'!B32 -> 0 | D25: =IF(C25>=3,"Your scored well in this area. Focus your efforts on other problem areas.",IF(AND(C25<3,C25>=2),"You scored below average in this area. We suggest you work on this problem area. Please fill in columns H-J",IF(AND(C25<2,C25>0),"You scored low in this area. We strongly suggest you work on this problem area. Please fill in columns H-J",IF(C25=0,"This area is not applicable for your venture.","")))) -> This area is not applicable for your venture. | E25: 6. Gender-inclusive strategic focus/positioning | F25: The organization's mission statement or strategic pan do not include an explicit focus on promoting gender equity among the end beneficiaries of the investees | G25: Target exclusively ventures that promote gender equity among their end beneficiaries and communicate explicitly about it, through the mission statement, strategic plan and/or other public/formal communications | K25: =IFERROR(VLOOKUP($I25,'Idea prioritization list'!$D$1:$E$3,2,0),0)+IFERROR(VLOOKUP($H25,'Idea prioritization list'!$D$1:$E$3,2,0),0)+IFERROR(VLOOKUP($J25,'Idea prioritization list'!$D$1:$E$3,2,0),0) -> 0
B26: 7.1 What percentage of your organization's funders have a focus on funding organizations/ programs contributing to gender equity? | C26: ='Assessment answers'!B34 -> 0 | D26: =IF(C26>=3,"Your scored well in this area. Focus your efforts on other problem areas.",IF(AND(C26<3,C26>=2),"You scored below average in this area. We suggest you work on this problem area. Please fill in columns H-J",IF(AND(C26<2,C26>0),"You scored low in this area. We strongly suggest you work on this problem area. Please fill in columns H-J",IF(C26=0,"This area is not applicable for your venture.","")))) -> This area is not applicable for your venture. | E26: 7. Gender-focused fundraising | F26: None or vast minority of the organization's funders have a focus on funding organizations/ programs contributing to gender equity | G26: Create a robust process to find funders that have a focus on funding organizations/ programs contributing to gender equity, attract them and support them in the selection process | K26: =IFERROR(VLOOKUP($I26,'Idea prioritization list'!$D$1:$E$3,2,0),0)+IFERROR(VLOOKUP($H26,'Idea prioritization list'!$D$1:$E$3,2,0),0)+IFERROR(VLOOKUP($J26,'Idea prioritization list'!$D$1:$E$3,2,0),0) -> 0
B27: 7.2 Does your organization actively try to get funding from funders that have a focus on funding organizations/ programs contributing to gender equity? | C27: ='Assessment answers'!B35 -> 0 | D27: =IF(C27>=3,"Your scored well in this area. Focus your efforts on other problem areas.",IF(AND(C27<3,C27>=2),"You scored below average in this area. We suggest you work on this problem area. Please fill in columns H-J",IF(AND(C27<2,C27>0),"You scored low in this area. We strongly suggest you work on this problem area. Please fill in columns H-J",IF(C27=0,"This area is not applicable for your venture.","")))) -> This area is not applicable for your venture. | E27: 7. Gender-focused fundraising | F27: The organization does not get funding from funders that have a focus on funding organizations/ programs contributing to gender equity | G27: Mostly or exclusively get funding from funders that have a focus on funding organizations/ programs contributing to gender equity and prioritize it in the fundraising strategy | K27: =IFERROR(VLOOKUP($I27,'Idea prioritization list'!$D$1:$E$3,2,0),0)+IFERROR(VLOOKUP($H27,'Idea prioritization list'!$D$1:$E$3,2,0),0)+IFERROR(VLOOKUP($J27,'Idea prioritization list'!$D$1:$E$3,2,0),0) -> 0
B28: 8.1 Does your organization have targets related to gender diversity in your venture portfolio (in terms of characteristics of ventures, such as gender of leadership and staff), and report on them to staff, management and funders? | C28: ='Assessment answers'!B37 -> 0 | D28: =IF(C28>=3,"Your scored well in this area. Focus your efforts on other problem areas.",IF(AND(C28<3,C28>=2),"You scored below average in this area. We suggest you work on this problem area. Please fill in columns H-J",IF(AND(C28<2,C28>0),"You scored low in this area. We strongly suggest you work on this problem area. Please fill in columns H-J",IF(C28=0,"This area is not applicable for your venture.","")))) -> This area is not applicable for your venture. | E28: 8. Gender-related target setting and reporting to funders | F28: The organization has not set targets related to gender diversity in the venture portfolio | G28: Set detailed targets related to gender diversity in the venture portfolio (e.g. % of ventures with at least 30% of founders and/or senior managers of each gender and % of ventures that promote gender-sensitive HR policies) and systematically track and report on them | K28: =IFERROR(VLOOKUP($I28,'Idea prioritization list'!$D$1:$E$3,2,0),0)+IFERROR(VLOOKUP($H28,'Idea prioritization list'!$D$1:$E$3,2,0),0)+IFERROR(VLOOKUP($J28,'Idea prioritization list'!$D$1:$E$3,2,0),0) -> 0
B29: 8.2 Does your organization have targets related to gender equity among the end beneficiaries of ventures in your portfolio, and report on them to staff, management and funders? | C29: ='Assessment answers'!B38 -> 0 | D29: =IF(C29>=3,"Your scored well in this area. Focus your efforts on other problem areas.",IF(AND(C29<3,C29>=2),"You scored below average in this area. We suggest you work on this problem area. Please fill in columns H-J",IF(AND(C29<2,C29>0),"You scored low in this area. We strongly suggest you work on this problem area. Please fill in columns H-J",IF(C29=0,"This area is not applicable for your venture.","")))) -> This area is not applicable for your venture. | E29: 8. Gender-related target setting and reporting to funders | F29: The organization has not set targets related to gender equity for the end beneficiaries of ventures in the portfolio | G29: Set detailed targets related to gender equity for the end beneficiaries of ventures in the portfolio (e.g. number of women sales agents who reported having gained higher financial autonomy) and systematically track and report on them | K29: =IFERROR(VLOOKUP($I29,'Idea prioritization list'!$D$1:$E$3,2,0),0)+IFERROR(VLOOKUP($H29,'Idea prioritization list'!$D$1:$E$3,2,0),0)+IFERROR(VLOOKUP($J29,'Idea prioritization list'!$D$1:$E$3,2,0),0) -> 0
B30: 9.1 If your organization offers programs for both men-led and women-led companies, does it have gender-differentiated communication materials for seeking new program pipeline? | C30: ='Assessment answers'!B40 -> 0 | D30: =IF(C30>=3,"Your scored well in this area. Focus your efforts on other problem areas.",IF(AND(C30<3,C30>=2),"You scored below average in this area. We suggest you work on this problem area. Please fill in columns H-J",IF(AND(C30<2,C30>0),"You scored low in this area. We strongly suggest you work on this problem area. Please fill in columns H-J",IF(C30=0,"This area is not applicable for your venture.","")))) -> This area is not applicable for your venture. | E30: 9. Gender-inclusive pipeline identification | F30: The majority of the organization's communication materials are targeted at either men-led or women-led ventures | G30: Always consider differences in needs and characteristics of men-led and women-led ventures when creating communication materials. When applicable, develop differentiated strategies to communicate to women-led/men-led ventures (e.g. adapting message, channels and visuals) | K30: =IFERROR(VLOOKUP($I30,'Idea prioritization list'!$D$1:$E$3,2,0),0)+IFERROR(VLOOKUP($H30,'Idea prioritization list'!$D$1:$E$3,2,0),0)+IFERROR(VLOOKUP($J30,'Idea prioritization list'!$D$1:$E$3,2,0),0) -> 0
B31: 9.2 What is the percentage of women-led ventures (i.e. where women represent at least 50% of top leadership) in your organization's program pipeline? | C31: ='Assessment answers'!B41 -> 0 | D31: =IF(C31>=3,"Your scored well in this area. Focus your efforts on other problem areas.",IF(AND(C31<3,C31>=2),"You scored below average in this area. We suggest you work on this problem area. Please fill in columns H-J",IF(AND(C31<2,C31>0),"You scored low in this area. We strongly suggest you work on this problem area. Please fill in columns H-J",IF(C31=0,"This area is not applicable for your venture.","")))) -> This area is not applicable for your venture. | E31: 9. Gender-inclusive pipeline identification | F31: One gender is under-represented among the leadership of ventures in the organization's program pipeline | G31: Have a robust process to seek new program pipeline in a way that would drive a more gender-diverse and/or gender-focused venture portfolio (e.g. by working with source partners that can refer gender-balanced pipeline, or by conducting research in platforms for women entrepreneurs) | K31: =IFERROR(VLOOKUP($I31,'Idea prioritization list'!$D$1:$E$3,2,0),0)+IFERROR(VLOOKUP($H31,'Idea prioritization list'!$D$1:$E$3,2,0),0)+IFERROR(VLOOKUP($J31,'Idea prioritization list'!$D$1:$E$3,2,0),0) -> 0
B32: 9.3 Does your organization seek new program pipeline in way that would drive a more gender-diverse and/or gender-focused venture portfolio? | C32: ='Assessment answers'!B42 -> 0 | D32: =IF(C32>=3,"Your scored well in this area. Focus your efforts on other problem areas.",IF(AND(C32<3,C32>=2),"You scored below average in this area. We suggest you work on this problem area. Please fill in columns H-J",IF(AND(C32<2,C32>0),"You scored low in this area. We strongly suggest you work on this problem area. Please fill in columns H-J",IF(C32=0,"This area is not applicable for your venture.","")))) -> This area is not applicable for your venture. | E32: 9. Gender-inclusive pipeline identification | F32: The organization does not make any specific effort to have a more gender-diverse and/or gender-focused venture portfolio, nor have objectives to do so | G32: Have a robust process to seek new program pipeline in a way that would drive a more gender-diverse and/or gender-focused venture portfolio (e.g. by working with source partners that can refer gender-balanced pipeline, or by conducting research in platforms for women entrepreneurs) | K32: =IFERROR(VLOOKUP($I32,'Idea prioritization list'!$D$1:$E$3,2,0),0)+IFERROR(VLOOKUP($H32,'Idea prioritization list'!$D$1:$E$3,2,0),0)+IFERROR(VLOOKUP($J32,'Idea prioritization list'!$D$1:$E$3,2,0),0) -> 0
B33: 10.1 When pre-selecting potential ventures for your programs, does your organization have processes in place to ensure that you give equal opportunities to men-led and women-led ventures? | C33: ='Assessment answers'!B44 -> 0 | D33: =IF(C33>=3,"Your scored well in this area. Focus your efforts on other problem areas.",IF(AND(C33<3,C33>=2),"You scored below average in this area. We suggest you work on this problem area. Please fill in columns H-J",IF(AND(C33<2,C33>0),"You scored low in this area. We strongly suggest you work on this problem area. Please fill in columns H-J",IF(C33=0,"This area is not applicable for your venture.","")))) -> This area is not applicable for your venture. | E33: 10. Gender-inclusive pipeline pre-selection | F33: The organization does not have specific processes in place to ensure equal opportunities in the pre-selection process | G33: Have several initiatives to ensure that ventures are given equal opportunities in the pre-selection process: use gender-blind documentation, have a gender-balanced pre-selection committee, and all staff involved in pipeline pre-selection has undergone unconscious bias training | K33: =IFERROR(VLOOKUP($I33,'Idea prioritization list'!$D$1:$E$3,2,0),0)+IFERROR(VLOOKUP($H33,'Idea prioritization list'!$D$1:$E$3,2,0),0)+IFERROR(VLOOKUP($J33,'Idea prioritization list'!$D$1:$E$3,2,0),0) -> 0
B34: 11.1 Does your organization have processes in place to ensure that you give equal opportunities to men-led and women-led companies in the due diligence process? | C34: ='Assessment answers'!B46 -> 0 | D34: =IF(C34>=3,"Your scored well in this area. Focus your efforts on other problem areas.",IF(AND(C34<3,C34>=2),"You scored below average in this area. We suggest you work on this problem area. Please fill in columns H-J",IF(AND(C34<2,C34>0),"You scored low in this area. We strongly suggest you work on this problem area. Please fill in columns H-J",IF(C34=0,"This area is not applicable for your venture.","")))) -> This area is not applicable for your venture. | E34: 11. Gender-sensitive due diligence | F34: The organization does not have specific processes in place to reduce the gender bias in the due diligence process | G34: Train the due diligence staff on unconscious gender bias and ensure that the due diligence questions are calibrated in the same way for both genders (e.g. by tracking the balance between "promotion" questions (focused on growth potential) and "prevention" questions (focused on risks)) | K34: =IFERROR(VLOOKUP($I34,'Idea prioritization list'!$D$1:$E$3,2,0),0)+IFERROR(VLOOKUP($H34,'Idea prioritization list'!$D$1:$E$3,2,0),0)+IFERROR(VLOOKUP($J34,'Idea prioritization list'!$D$1:$E$3,2,0),0) -> 0
B35: 11.2 When conducting due diligence of pre-selected potential investees, does your organization look at gender-related information and data (e.g. gender representation in leadership/ staff/ end beneficiaries, adoption of gender-inclusive practices, etc.)? | C35: ='Assessment answers'!B47 -> 0 | D35: =IF(C35>=3,"Your scored well in this area. Focus your efforts on other problem areas.",IF(AND(C35<3,C35>=2),"You scored below average in this area. We suggest you work on this problem area. Please fill in columns H-J",IF(AND(C35<2,C35>0),"You scored low in this area. We strongly suggest you work on this problem area. Please fill in columns H-J",IF(C35=0,"This area is not applicable for your venture.","")))) -> This area is not applicable for your venture. | E35: 11. Gender-sensitive due diligence | F35: The organization does not look at gender-related information and data when conducting due diligence | G35: Systematically look at detailed gender-related information and data (e.g. % of women employees in team and management, gender-inclusive impact with end beneficiaries) when conducting due diligence, and integrate this information in all due diligence documents, templates and reports | K35: =IFERROR(VLOOKUP($I35,'Idea prioritization list'!$D$1:$E$3,2,0),0)+IFERROR(VLOOKUP($H35,'Idea prioritization list'!$D$1:$E$3,2,0),0)+IFERROR(VLOOKUP($J35,'Idea prioritization list'!$D$1:$E$3,2,0),0) -> 0
B36: 12.1 Do the members of the Selection Committee take into account gender-related information and criteria to select ventures? | C36: ='Assessment answers'!B49 -> 0 | D36: =IF(C36>=3,"Your scored well in this area. Focus your efforts on other problem areas.",IF(AND(C36<3,C36>=2),"You scored below average in this area. We suggest you work on this problem area. Please fill in columns H-J",IF(AND(C36<2,C36>0),"You scored low in this area. We strongly suggest you work on this problem area. Please fill in columns H-J",IF(C36=0,"This area is not applicable for your venture.","")))) -> This area is not applicable for your venture. | E36: 12. Gender-sensitive venture selection | F36: The members of the organization's Selection Committee do not use any gender-related information and criteria to select ventures | G36: The members of the Selection Committee systematically take into account detailed gender-related information and criteria (e.g. % of women employees in team and management, gender-inclusive impact with end users) to select ventures, and have to report on each criteria | K36: =IFERROR(VLOOKUP($I36,'Idea prioritization list'!$D$1:$E$3,2,0),0)+IFERROR(VLOOKUP($H36,'Idea prioritization list'!$D$1:$E$3,2,0),0)+IFERROR(VLOOKUP($J36,'Idea prioritization list'!$D$1:$E$3,2,0),0) -> 0
B37: 12.2 What proportion (%) of the members of the Selection Committee with decision-making power are women? | C37: ='Assessment answers'!B50 -> 0 | D37: =IF(C37>=3,"Your scored well in this area. Focus your efforts on other problem areas.",IF(AND(C37<3,C37>=2),"You scored below average in this area. We suggest you work on this problem area. Please fill in columns H-J",IF(AND(C37<2,C37>0),"You scored low in this area. We strongly suggest you work on this problem area. Please fill in columns H-J",IF(C37=0,"This area is not applicable for your venture.","")))) -> This area is not applicable for your venture. | E37: 12. Gender-sensitive venture selection | F37: One gender is under-represented in the organization's Selection Committee | G37: Create a robust process to find Selection Committee members with decision-making power of the under-represented gender, attract them and support them during the selection process | K37: =IFERROR(VLOOKUP($I37,'Idea prioritization list'!$D$1:$E$3,2,0),0)+IFERROR(VLOOKUP($H37,'Idea prioritization list'!$D$1:$E$3,2,0),0)+IFERROR(VLOOKUP($J37,'Idea prioritization list'!$D$1:$E$3,2,0),0) -> 0
B38: 12.3 Does your organization offer gender bias training to the members of the Selection Committee, to create awareness of how gender biases affect selection decisions and how to address/mitigate them? | C38: ='Assessment answers'!B51 -> 0 | D38: =IF(C38>=3,"Your scored well in this area. Focus your efforts on other problem areas.",IF(AND(C38<3,C38>=2),"You scored below average in this area. We suggest you work on this problem area. Please fill in columns H-J",IF(AND(C38<2,C38>0),"You scored low in this area. We strongly suggest you work on this problem area. Please fill in columns H-J",IF(C38=0,"This area is not applicable for your venture.","")))) -> This area is not applicable for your venture. | E38: 12. Gender-sensitive venture selection | F38: The organization does not offer gender bias training to the members of the Selection Committee | G38: Offer a mandatory gender bias training to the members of the Selection Committee and discuss regularly about gender bias in relation to selection decisions | K38: =IFERROR(VLOOKUP($I38,'Idea prioritization list'!$D$1:$E$3,2,0),0)+IFERROR(VLOOKUP($H38,'Idea prioritization list'!$D$1:$E$3,2,0),0)+IFERROR(VLOOKUP($J38,'Idea prioritization list'!$D$1:$E$3,2,0),0) -> 0
B39: 12.4 What is the percentage of women-led ventures (i.e. where women represent at least 50% of top leadership) in your organization's program portfolio? | C39: ='Assessment answers'!B52 -> 0 | D39: =IF(C39>=3,"Your scored well in this area. Focus your efforts on other problem areas.",IF(AND(C39<3,C39>=2),"You scored below average in this area. We suggest you work on this problem area. Please fill in columns H-J",IF(AND(C39<2,C39>0),"You scored low in this area. We strongly suggest you work on this problem area. Please fill in columns H-J",IF(C39=0,"This area is not applicable for your venture.","")))) -> This area is not applicable for your venture. | E39: 12. Gender-sensitive venture selection | F39: One gender is under-represented among the leadership of ventures within the portfolio | G39: Take into account detailed gender-related information and criteria, and give high relevance to such information and criteria to select program participants
B40: 13.1 Does your organization integrate a gender perspective in defining the content and curriculum of your programs (e.g. including topics that are specific to the needs of entrepreneurs of a certain gender, e.g. risk-taking, growth mindset for women entrepreneurs, work-life balance for mothers/fathers)? | C40: ='Assessment answers'!B54 -> 0 | D40: =IF(C40>=3,"Your scored well in this area. Focus your efforts on other problem areas.",IF(AND(C40<3,C40>=2),"You scored below average in this area. We suggest you work on this problem area. Please fill in columns H-J",IF(AND(C40<2,C40>0),"You scored low in this area. We strongly suggest you work on this problem area. Please fill in columns H-J",IF(C40=0,"This area is not applicable for your venture.","")))) -> This area is not applicable for your venture. | E40: 13. Gender-sensitive program content design | F40: The organization does not take gender into account in defining the content and curriculum of the programs | G40: Have robust processes in place to ensure that the content and curriculum of all programs is defined with a gender perspective, including having a gender-balanced curriculum design team and selecting topics that are specific to the needs of entrepreneurs of a certain gender (e.g. risk-taking and growth mindsets for women entrepreneurs, work-life balance for mothers/fathers) | K40: =IFERROR(VLOOKUP($I40,'Idea prioritization list'!$D$1:$E$3,2,0),0)+IFERROR(VLOOKUP($H40,'Idea prioritization list'!$D$1:$E$3,2,0),0)+IFERROR(VLOOKUP($J40,'Idea prioritization list'!$D$1:$E$3,2,0),0) -> 0
