Workbook
Name TypeIntervention: [1]Lists!$B$57:$B$59

Sheet M2 -Herramienta de evaluación
B1: HERRAMIENTA DE EVALUACIÓN DE LA INTEGRACIÓN DE LA PERSPECTIVA DE GÉNERO
B2: Objetivo: Esta evaluación le ayudará a comprender el nivel de integración de la perspectiva de género en su organización y le permitirá descubrir áreas de mejora. Instrucciones: 1) Hay 10 secciones en esta evaluación, que cubren 3 áreas principales de la organización: i) diversidad del personal y del liderazgo, ii) producto o servicio con perspectiva de género, y iii) diversidad y equidad en la cadena de suministro. 2) Para cada pregunta, hay 5 u 8 respuestas posibles para elegir. Elija la opción que mejor refleje la situación de su organización o, si considera que ninguna de las opciones es aplicable a su organización, elija "No aplicable". 3) Para seleccionar una respuesta, introduzca una "X" manualmente o utilizando el menú desplegable: Por favor, seleccione únicamente una respuesta 4) Una vez que haya respondido a todas las preguntas, diríjase a la página "M2 - Resultados de la evaluación" para consultar el nivel actual de integración de la perspectiva de género en su organización y detectar las áreas que podrían necesitar mejoras. Nota: La palabra "mujeres" se utiliza para designar a las personas que se identifican como mujeres, y la palabra "hombres" para designar a las personas que se identifican como hombres.
C4: DIVERSIDAD DEL PERSONAL Y DEL LIDERAZGO
B5: Sección 1: Contratación equilibrada entre géneros
C8: 1.1 ¿Qué proporción (%) de los/as empleados/as de su organización son mujeres?
E10: 0-15%
E11: 15-30%
E12: 30-45%
E13: 45-55%
E14: 55-70%
E15: 70-85%
E16: 85%-100%
E17: NA
C19: Question points: | E19: =IF(OR(C10="X",C16="X"),1,IF(OR(C11="X",C15="X"),2,IF(OR(C12="X",C14="X"),3,IF(C13="X",4,0)))) -> 0
C21: 1.2 ¿Emplea su organización a mujeres/hombres en roles más allá de los “estereotipados”? (p.ej., roles donde se asume que las mujeres son solidarias y los hombres competitivos, lo que resulta en una sobrerrepresentación de mujeres en puestos administrativos y de hombres en puestos de ventas)
E23: En nuestro equipo (casi) no hay mujeres/hombres en general
E24: Las mujeres de nuestro equipo están mayormente empleadas en roles ocupados principalmente por mujeres (p. ej., administración, comunicación, RRHH, etc.), mientras que los hombres trabajan principalmente en roles ocupados mayoritariamente por hombres (p. ej., trabajos técnicos, labores manuales, ventas, etc.)
E25: Nuestro equipo tiene una buena representación de mujeres/hombres en roles no estereotipados, pero principalmente en posiciones junior
E26: Nuestro equipo tiene una buena representación de mujeres/hombres en diferentes niveles jerárquicos y tipos de trabajo
E27: NA
C29: Question points: | E29: =IF(C23="X",1,IF(C24="X",2,IF(C25="X",3,IF(C26="X",4,0)))) -> 0
C31: 1.3 ¿Intenta su organización reclutar activamente empleados/as del género que está subrepresentado en su equipo?
E33: No realizamos ningún esfuerzo específico para garantizar la representación equitativa de género en nuestro equipo, ni tenemos objetivos para ello
E34: Nos gustaría mejorar la representación equitativa de género en nuestro equipo, pero no tenemos iniciativas específicas para garantizarla. Nuestro material de contratación está diseñado para comunicarse con candidatos/as de todos los géneros (p. ej., el texto y los elementos visuales se refieren tanto a hombres como a mujeres)
E35: Buscamos activamente candidatos/as del género subrepresentado en nuestro equipo, promoviendo las oportunidades de forma que les resulten atractivas (p. ej., destacando elementos que típicamente valora el género subrepresentado, p. ej. para las mujeres, el ambiente de trabajo, la flexibilidad, los beneficios para las madres trabajadoras, etc.)
E36: Contamos con un proceso sólido para encontrar candidatos/as del género subrepresentado en nuestro equipo (p. ej., organizando eventos de contratación dirigidos a candidatos/as del género subrepresentado, promoviendo vacantes a través de canales no tradicionales, ampliando nuestra reserva de candidatos/as a perfiles no tradicionales), atraerlos/as (p. ej., presentando un discurso promocional ajustado a lo que valora el género subrepresentado) y apoyarlos/as durante el proceso de contratación
E37: NA
C39: Question points: | E39: =IF(C33="X",1,IF(C34="X",2,IF(C35="X",3,IF(C36="X",4,0)))) -> 0
C41: 1.4 ¿Cuenta su organización con procesos que garanticen la igualdad de oportunidades para los/as candidatos/as de todos los géneros como reclutador/a?
E43: No tenemos procesos específicos para garantizar la igualdad de oportunidades en nuestro proceso de contratación
E44: Somos conscientes de los prejuicios de género y tratamos de ser justos en nuestro proceso de contratación
E45: Tenemos varias iniciativas para garantizar que los/as candidatos/as tengan las mismas oportunidades en nuestro proceso de contratación. Utilizamos CV ciegos (es decir, eliminamos el nombre y la foto) y nuestros/as reclutadores/as han recibido formación sobre prejuicios de género inconscientes
E46: Tenemos varias iniciativas para garantizar que los/as candidatos/as tengan las mismas oportunidades en nuestro proceso de contratación. Utilizamos CV ciegos, nuestros/as reclutadores/as han recibido formación sobre prejuicios de género inconscientes, y contamos con un proceso en el que los/as candidatos/as preseleccionados/as son debatidos/as por un comité formado por profesionales de género diverso
E47: NA
C49: Question points: | E49: =IF(C43="X",1,IF(C44="X",2,IF(C45="X",3,IF(C46="X",4,0)))) -> 0
C51: 1.5 ¿Qué proporción (%) de la alta dirección de su organización está compuesta por mujeres?
E53: 0-15%
E54: 15-30%
E55: 30-45%
E56: 45-55%
...

Sheet M2 - Resultados evaluación
B1: TABLA DE RESULTADOS
B2: Instrucciones para leer sus resultados: 1) Tiene un resultado por sección y un resultado total, que es la media de sus puntuaciones en cada sección. La escala va de 1 (bajo) a 4 (alto). 2) Ahora que tiene sus resultados, vaya a la página «M2 - Priorización de ideas» para ver todas las iniciativas potenciales de integración de la perspectiva de género que se pueden aplicar en su organización y priorizarlas. 3) También puede ir a la página «M2 - Biblioteca de recursos» para obtener más ideas sobre cómo mejorar la integración de la perspectiva de género en su organización.
B4: Área | D4: Sección | E4: Resultado
B5: Diversidad del personal y del liderazgo | D5: ='M2 -Herramienta de evaluación'!B5 -> Sección 1: Contratación equilibrada entre géneros | E5: =IFERROR(AVERAGEIF('Assessment answers'!B7:B12,"<>0"),"NA") -> NA
D6: ='M2 -Herramienta de evaluación'!C75 -> Sección 2: Promoción y retención equilibradas entre géneros | E6: =IFERROR(AVERAGEIF('Assessment answers'!B14:B16,"<>0"),"NA") -> NA
D7: ='M2 -Herramienta de evaluación'!C109 -> Sección 3: Políticas y prácticas de RRHH con perspectiva de género | E7: =IFERROR(AVERAGEIF('Assessment answers'!B18:B28,"<>0"),"NA") -> NA
D8: ='M2 -Herramienta de evaluación'!C223 -> Sección 4: Diversidad en el Consejo de administración | E8: =IFERROR(AVERAGEIF('Assessment answers'!B30:B31,"<>0"),"NA") -> NA
B9: Producto o servicio con perspectiva de género | D9: ='M2 -Herramienta de evaluación'!C250 -> Sección 5: Diseño de productos y estudio de mercado con perspectiva de género | E9: =IFERROR(AVERAGEIF('Assessment answers'!B33:B35,"<>0"),"NA") -> NA
D10: ='M2 -Herramienta de evaluación'!C284 -> Sección 6: Marketing y comunicación con perspectiva de género | E10: =IFERROR(AVERAGEIF('Assessment answers'!B37:B40,"<>0"),"NA") -> NA
D11: ='M2 -Herramienta de evaluación'!C328 -> Sección 7: Diversidad en los equipos de distribución y ventas | E11: =IFERROR(AVERAGEIF('Assessment answers'!B42:B44,"<>0"),"NA") -> NA
D12: ='M2 -Herramienta de evaluación'!C365 -> Sección 8: Atención al cliente con perspectiva de género | E12: =IFERROR(AVERAGEIF('Assessment answers'!B46,"<>0"),"NA") -> NA
B13: Diversidad y equidad en la cadena de suministro | D13: ='M2 -Herramienta de evaluación'!C379 -> Sección 9: Selección de proveedores/as estratégicos/as con perspectiva de género | E13: =IFERROR(AVERAGEIF('Assessment answers'!B48:B51,"<>0"),"NA") -> NA
D14: ='M2 -Herramienta de evaluación'!C426 -> Sección 10: Formación de los/as proveedores/as estratégicos/as con perspectiva de género | E14: =IFERROR(AVERAGEIF('Assessment answers'!B53:B54,"<>0"),"NA") -> NA
D15: Total | E15: =IFERROR(AVERAGEIF(E5:E14,"<>0"),"NA") -> NA

Sheet Assessment answers
B2: RESPUESTAS
B3: X
B5: RANGOS PARA MEDIA
A6: Sub-sección | B6: Sección 1 | C6: =IF(B6=0,"NA",B6) -> Sección 1
A7: 1.1 | B7: ='M2 -Herramienta de evaluación'!E19 -> 0 | C7: =IF(B7=0,"NA",B7) -> NA
A8: 1.2 | B8: ='M2 -Herramienta de evaluación'!E29 -> 0 | C8: =IF(B8=0,"NA",B8) -> NA
A9: 1.3 | B9: ='M2 -Herramienta de evaluación'!E39 -> 0 | C9: =IF(B9=0,"NA",B9) -> NA
A10: 1.4 | B10: ='M2 -Herramienta de evaluación'!E49 -> 0 | C10: =IF(B10=0,"NA",B10) -> NA
A11: 1.5 | B11: ='M2 -Herramienta de evaluación'!E62 -> 0 | C11: =IF(B11=0,"NA",B11) -> NA
A12: 1.6 | B12: ='M2 -Herramienta de evaluación'!E72 -> 0 | C12: =IF(B12=0,"NA",B12) -> NA
A13: - | B13: Sección 2 | C13: =IF(B13=0,"NA",B13) -> Sección 2
A14: 2.1 | B14: ='M2 -Herramienta de evaluación'!E86 -> 0 | C14: =IF(B14=0,"NA",B14) -> NA
A15: 2.2 | B15: ='M2 -Herramienta de evaluación'!E96 -> 0 | C15: =IF(B15=0,"NA",B15) -> NA
A16: 2.3 | B16: ='M2 -Herramienta de evaluación'!E106 -> 0 | C16: =IF(B16=0,"NA",B16) -> NA
A17: - | B17: Sección 3 | C17: =IF(B17=0,"NA",B17) -> Sección 3
A18: 3.1 | B18: ='M2 -Herramienta de evaluación'!E120 -> 0 | C18: =IF(B18=0,"NA",B18) -> NA
A19: 3.2 | B19: ='M2 -Herramienta de evaluación'!E130 -> 0 | C19: =IF(B19=0,"NA",B19) -> NA
A20: 3.3 | B20: ='M2 -Herramienta de evaluación'!E140 -> 0 | C20: =IF(B20=0,"NA",B20) -> NA
A21: 3.4 | B21: ='M2 -Herramienta de evaluación'!E150 -> 0 | C21: =IF(B21=0,"NA",B21) -> NA
A22: 3.5 | B22: ='M2 -Herramienta de evaluación'!E160 -> 0 | C22: =IF(B22=0,"NA",B22) -> NA
A23: 3.6 | B23: ='M2 -Herramienta de evaluación'!E170 -> 0 | C23: =IF(B23=0,"NA",B23) -> NA
A24: 3.7 | B24: ='M2 -Herramienta de evaluación'!E180 -> 0 | C24: =IF(B24=0,"NA",B24) -> NA
A25: 3.8 | B25: ='M2 -Herramienta de evaluación'!E190 -> 0 | C25: =IF(B25=0,"NA",B25) -> NA
A26: 3.9 | B26: ='M2 -Herramienta de evaluación'!E200 -> 0 | C26: =IF(B26=0,"NA",B26) -> NA
A27: 3.1* | B27: ='M2 -Herramienta de evaluación'!E210 -> 0 | C27: =IF(B27=0,"NA",B27) -> NA
A28: 3.11 | B28: ='M2 -Herramienta de evaluación'!E220 -> 0 | C28: =IF(B28=0,"NA",B28) -> NA
A29: - | B29: Sección 4 | C29: =IF(B29=0,"NA",B29) -> Sección 4
A30: 4.1 | B30: ='M2 -Herramienta de evaluación'!E237 -> 0 | C30: =IF(B30=0,"NA",B30) -> NA
A31: 4.2 | B31: ='M2 -Herramienta de evaluación'!E247 -> 0 | C31: =IF(B31=0,"NA",B31) -> NA
A32: - | B32: Sección 5 | C32: =IF(B32=0,"NA",B32) -> Sección 5
A33: 5.1 | B33: ='M2 -Herramienta de evaluación'!E261 -> 0 | C33: =IF(B33=0,"NA",B33) -> NA
A34: 5.2 | B34: ='M2 -Herramienta de evaluación'!E271 -> 0 | C34: =IF(B34=0,"NA",B34) -> NA
A35: 5.3 | B35: ='M2 -Herramienta de evaluación'!E281 -> 0 | C35: =IF(B35=0,"NA",B35) -> NA
A36: - | B36: Sección 6 | C36: =IF(B36=0,"NA",B36) -> Sección 6
A37: 6.1 | B37: ='M2 -Herramienta de evaluación'!E295 -> 0 | C37: =IF(B37=0,"NA",B37) -> NA
A38: 6.2 | B38: ='M2 -Herramienta de evaluación'!E305 -> 0 | C38: =IF(B38=0,"NA",B38) -> NA
A39: 6.3 | B39: ='M2 -Herramienta de evaluación'!E315 -> 0 | C39: =IF(B39=0,"NA",B39) -> NA
A40: 6.4 | B40: ='M2 -Herramienta de evaluación'!E325 -> 0 | C40: =IF(B40=0,"NA",B40) -> NA
A41: - | B41: Sección 7 | C41: =IF(B41=0,"NA",B41) -> Sección 7
A42: 7.1 | B42: ='M2 -Herramienta de evaluación'!E342 -> 0 | C42: =IF(B42=0,"NA",B42) -> NA
...

Sheet M2- Herramienta de priorización
D1: HERRAMIENTA DE PRIORIZACIÓN DE IDEAS
D2: Objetivo: Determinar las áreas que requieren una atención inmediata en términos de integración de la perspectiva de género. Instrucciones: 1) Revise sus puntuaciones para cada pregunta de la herramienta de evaluación en la columna D. La puntuación puede ser baja, por debajo de la media o alta. Las preguntas que no se aplican a su organización aparecen como 'no aplicable'. 2) Para las puntuaciones baja y por debajo de la media, consulte las brechas relacionados y las posibles soluciones para su organización. 3) Una vez que las haya leído todas, evalúe su impacto empresarial, social y viabilidad. La valoración puede ser baja, media o alta. 4) Identifique las áreas que tienen un mayor nivel de prioridad en la columna K. La prioridad alta aparece en verde oscuro, la media en naranja y la baja en rojo. 5) En la columna L, explique cómo evaluó la iniciativa (en términos de impacto empresarial, impacto social y viabilidad) y por qué decidió priorizarla o no priorizarla. Por ejemplo, aclare por qué no priorizó iniciativas en áreas donde tienes brechas importantes, señalando factores como limitaciones debidas al contexto organizacional específico, altos costos, complejidad, etc. Nota: La palabra "mujeres" se utiliza para designar a las personas que se identifican como mujeres, y la palabra "hombres" para designar a las personas que se identifican como hombres. La columna M es para uso exclusivo de LeFil.
B4: Pregunta | C4: Resultado | D4: Resultado de la evaluación | E4: Área de oportunidad | F4: Descripción de la brecha | G4: Descripción de la solución | H4: Impacto empresarial: aumento de ingresos, reducción de costes, ayuda a la recaudación de fondos, etc. | I4: Impacto social: promueve la igualdad y la equidad de género | J4: Viabilidad | K4: Nivel de prioridad | L4: Por favor, explica tu calificación y por qué decidiste priorizar —o no priorizar— la iniciativa. | M4: Comentarios del taller previo de LeFil | N4: Discusión durante el taller y recomendación posterior al taller
B5: 1.1 ¿Qué proporción (%) de los/as empleados/as de su organización son mujeres? | C5: ='Assessment answers'!B7 -> 0 | D5: =IF(C5>=3,"Ha obtenido una buena puntuación en esta área. Centre sus esfuerzos en otras áreas problemáticas.",IF(AND(C5<3,C5>=2),"Ha obtenido una puntuación por debajo de la media en esta área. Le sugerimos que trabaje en esta área problemática. Rellene las columnas H-J",IF(AND(C5<2,C5>0),"Ha obtenido una puntuación baja en esta área. Le recomendamos encarecidamente que trabaje en esta área problemática. Rellene las columnas H-J",IF(C5=0,"Esta área no es aplicable a su empresa","")))) -> Esta área no es aplicable a su empresa | E5: 1. Contratación equilibrada entre géneros | F5: Un género está subrepresentado en el equipo | G5: Crear un proceso sólido para encontrar candidatos/as del género subrepresentado en el equipo (p. ej., organizando actos de contratación dirigidos a candidatos/as del género subrepresentado, promocionando puestos a través de canales no tradicionales, ampliando la reserva de candidatos a perfiles no tradicionales), atraerlos/as (p. ej., con un discurso promocional ajustado a lo que valoran los candidatos/as del género subrepresentado) y apoyarlos/as en el proceso de contratación | K5: =IFERROR(VLOOKUP($I5,'Idea prioritization list'!$D$1:$E$3,2,0),0)+IFERROR(VLOOKUP($H5,'Idea prioritization list'!$D$1:$E$3,2,0),0)+IFERROR(VLOOKUP($J5,'Idea prioritization list'!$D$1:$E$3,2,0),0) -> 0
B6: 1.2 ¿Emplea su organización a mujeres/hombres en roles más allá de los “estereotipados”? (p.ej., roles donde se asume que las mujeres son solidarias y los hombres competitivos, lo que resulta en una sobrerrepresentación de mujeres en puestos administrativos y de hombres en puestos de ventas) | C6: ='Assessment answers'!B8 -> 0 | D6: =IF(C6>=3,"Ha obtenido una buena puntuación en esta área. Centre sus esfuerzos en otras áreas problemáticas.",IF(AND(C6<3,C6>=2),"Ha obtenido una puntuación por debajo de la media en esta área. Le sugerimos que trabaje en esta área problemática. Rellene las columnas H-J",IF(AND(C6<2,C6>0),"Ha obtenido una puntuación baja en esta área. Le recomendamos encarecidamente que trabaje en esta área problemática. Rellene las columnas H-J",IF(C6=0,"Esta área no es aplicable a su empresa.","")))) -> Esta área no es aplicable a su empresa. | E6: 1. Contratación equilibrada entre géneros | F6: Las mujeres y/o los hombres ocupan roles estereotipados (p. ej., se espera que las mujeres sean solidarias y que los hombres sean competitivos, por lo que las mujeres están sobrerrepresentadas en puestos administrativos y los hombres en puestos de ventas) | G6: Crear un proceso de contratación sólido para encontrar, atraer y apoyar a candidatos/as del género subrepresentado en todos los niveles jerárquicos y tipos de trabajo (p. ej.: seleccionar a hombres para puestos de secretaría o a mujeres para puestos de trabajo de campo) | K6: =IFERROR(VLOOKUP($I6,'Idea prioritization list'!$D$1:$E$3,2,0),0)+IFERROR(VLOOKUP($H6,'Idea prioritization list'!$D$1:$E$3,2,0),0)+IFERROR(VLOOKUP($J6,'Idea prioritization list'!$D$1:$E$3,2,0),0) -> 0
B7: 1.3 ¿Intenta su organización reclutar activamente empleados/as del género que está subrepresentado en su equipo? | C7: ='Assessment answers'!B9 -> 0 | D7: =IF(C7>=3,"Ha obtenido una buena puntuación en esta área. Centre sus esfuerzos en otras áreas problemáticas.",IF(AND(C7<3,C7>=2),"Ha obtenido una puntuación por debajo de la media en esta área. Le sugerimos que trabaje en esta área problemática. Rellene las columnas H-J",IF(AND(C7<2,C7>0),"Ha obtenido una puntuación baja en esta área. Le recomendamos encarecidamente que trabaje en esta área problemática. Rellene las columnas H-J",IF(C7=0,"Esta área no es aplicable a su empresa.","")))) -> Esta área no es aplicable a su empresa. | E7: 1. Contratación equilibrada entre géneros | F7: La organización no intenta contratar empleados/as del género que está subrepresentado en el equipo | G7: Crear un proceso sólido para encontrar candidatos/as del género subrepresentado en el equipo (p. ej., organizando actos de contratación dirigidos a candidatos/as del género subrepresentado, promocionando puestos a través de canales no tradicionales, ampliando la reserva de candidatos/as a perfiles no tradicionales), atraerlos/as (p. ej., con un discurso promocional ajustado a lo que valoran los candidatos/as del género subrepresentado) y apoyarlos/as en el proceso de contratación | K7: =IFERROR(VLOOKUP($I7,'Idea prioritization list'!$D$1:$E$3,2,0),0)+IFERROR(VLOOKUP($H7,'Idea prioritization list'!$D$1:$E$3,2,0),0)+IFERROR(VLOOKUP($J7,'Idea prioritization list'!$D$1:$E$3,2,0),0) -> 0
B8: 1.4 ¿Cuenta su organización con procesos que garanticen la igualdad de oportunidades para los/as candidatos/as de todos los géneros como reclutador/a? | C8: ='Assessment answers'!B10 -> 0 | D8: =IF(C8>=3,"Ha obtenido una buena puntuación en esta área. Centre sus esfuerzos en otras áreas problemáticas.",IF(AND(C8<3,C8>=2),"Ha obtenido una puntuación por debajo de la media en esta área. Le sugerimos que trabaje en esta área problemática. Rellene las columnas H-J",IF(AND(C8<2,C8>0),"Ha obtenido una puntuación baja en esta área. Le recomendamos encarecidamente que trabaje en esta área problemática. Rellene las columnas H-J",IF(C8=0,"Esta área no es aplicable a su empresa.","")))) -> Esta área no es aplicable a su empresa. | E8: 1. Contratación equilibrada entre géneros | F8: La organización no dispone de procesos para garantizar la igualdad de oportunidades a los/as candidatos/as de todos los géneros como reclutador/a | G8: Diseñar iniciativas para garantizar que los/as candidatos/as tengan las mismas oportunidades en el proceso de contratación. Utilice CV ciegos, forme a los/as responsables de la contratación sobre los prejuicios de género inconscientes y cree un proceso en el que los/as candidatos/as preseleccionados/as sean debatidos/as por un comité formado por profesionales de género diverso | K8: =IFERROR(VLOOKUP($I8,'Idea prioritization list'!$D$1:$E$3,2,0),0)+IFERROR(VLOOKUP($H8,'Idea prioritization list'!$D$1:$E$3,2,0),0)+IFERROR(VLOOKUP($J8,'Idea prioritization list'!$D$1:$E$3,2,0),0) -> 0
B9: 1.5 ¿Qué proporción (%) de la alta dirección de su organización está compuesta por mujeres? | C9: ='Assessment answers'!B11 -> 0 | D9: =IF(C9>=3,"Ha obtenido una buena puntuación en esta área. Centre sus esfuerzos en otras áreas problemáticas.",IF(AND(C9<3,C9>=2),"Ha obtenido una puntuación por debajo de la media en esta área. Le sugerimos que trabaje en esta área problemática. Rellene las columnas H-J",IF(AND(C9<2,C9>0),"Ha obtenido una puntuación baja en esta área. Le recomendamos encarecidamente que trabaje en esta área problemática. Rellene las columnas H-J",IF(C9=0,"Esta área no es aplicable a su empresa.","")))) -> Esta área no es aplicable a su empresa. | E9: 1. Contratación equilibrada entre géneros | F9: Un género está subrepresentado en el equipo directivo | G9: Crear un proceso sólido para encontrar candidatos/as del género subrepresentado en el equipo directivo (p. ej., organizando actos de contratación dirigidos a candidatos/as del género subrepresentado, promocionando puestos a través de canales no tradicionales, ampliando la reserva de candidatos/as a perfiles no tradicionales), atraerlos/as (p. ej., con un discurso promocional ajustado a lo que valoran los candidatos/as del género subrepresentado) y apoyarlos/as en el proceso de contratación | K9: =IFERROR(VLOOKUP($I9,'Idea prioritization list'!$D$1:$E$3,2,0),0)+IFERROR(VLOOKUP($H9,'Idea prioritization list'!$D$1:$E$3,2,0),0)+IFERROR(VLOOKUP($J9,'Idea prioritization list'!$D$1:$E$3,2,0),0) -> 0
B10: 1.6 ¿Intenta su organización reclutar activamente a gerentes del género que está subrepresentado en los puestos de alta dirección? | C10: ='Assessment answers'!B12 -> 0 | D10: =IF(C10>=3,"Ha obtenido una buena puntuación en esta área. Centre sus esfuerzos en otras áreas problemáticas.",IF(AND(C10<3,C10>=2),"Ha obtenido una puntuación por debajo de la media en esta área. Le sugerimos que trabaje en esta área problemática. Rellene las columnas H-J",IF(AND(C10<2,C10>0),"Ha obtenido una puntuación baja en esta área. Le recomendamos encarecidamente que trabaje en esta área problemática. Rellene las columnas H-J",IF(C10=0,"Esta área no es aplicable a su empresa.","")))) -> Esta área no es aplicable a su empresa. | E10: 1. Contratación equilibrada entre géneros | F10: La organización no intenta contratar directivos/as del género subrepresentado en los puestos de alta dirección | G10: Crear un proceso sólido para encontrar candidatos/as del género subrepresentado en puestos de alta dirección (p. ej., organizando actos de contratación dirigidos a candidatos/as del género subrepresentado, promocionando puestos a través de canales no tradicionales, ampliando la reserva de candidatos/as a perfiles no tradicionales), atraerlos/as (p. ej., con un discurso promocional ajustado a lo que valoran los candidatos/as del género subrepresentado) y apoyarlos/as en el proceso de contratación | K10: =IFERROR(VLOOKUP($I10,'Idea prioritization list'!$D$1:$E$3,2,0),0)+IFERROR(VLOOKUP($H10,'Idea prioritization list'!$D$1:$E$3,2,0),0)+IFERROR(VLOOKUP($J10,'Idea prioritization list'!$D$1:$E$3,2,0),0) -> 0
B11: 2.1 Por lo general, ¿avanzan los/as empleados/as de todos los géneros en su carrera al mismo ritmo en su organización? | C11: ='Assessment answers'!B14 -> 0 | D11: =IF(C11>=3,"Ha obtenido una buena puntuación en esta área. Centre sus esfuerzos en otras áreas problemáticas.",IF(AND(C11<3,C11>=2),"Ha obtenido una puntuación por debajo de la media en esta área. Le sugerimos que trabaje en esta área problemática. Rellene las columnas H-J",IF(AND(C11<2,C11>0),"Ha obtenido una puntuación baja en esta área. Le recomendamos encarecidamente que trabaje en esta área problemática. Rellene las columnas H-J",IF(C11=0,"Esta área no es aplicable a su empresa.","")))) -> Esta área no es aplicable a su empresa. | E11: 2. Promoción y retención equilibradas entre géneros | F11: La organización no mide el ritmo de progresión profesional | G11: Medir y abordar con frecuencia el ritmo de progresión profesional por género y garantizar que todos/as los/as empleados/as de todos los géneros progresen al mismo ritmo | K11: =IFERROR(VLOOKUP($I11,'Idea prioritization list'!$D$1:$E$3,2,0),0)+IFERROR(VLOOKUP($H11,'Idea prioritization list'!$D$1:$E$3,2,0),0)+IFERROR(VLOOKUP($J11,'Idea prioritization list'!$D$1:$E$3,2,0),0) -> 0
B12: 2.2 ¿Intenta su organización promocionar activamente a empleados/as del género que está subrepresentado en los puestos de alta dirección? | C12: ='Assessment answers'!B15 -> 0 | D12: =IF(C12>=3,"Ha obtenido una buena puntuación en esta área. Centre sus esfuerzos en otras áreas problemáticas.",IF(AND(C12<3,C12>=2),"Ha obtenido una puntuación por debajo de la media en esta área. Le sugerimos que trabaje en esta área problemática. Rellene las columnas H-J",IF(AND(C12<2,C12>0),"Ha obtenido una puntuación baja en esta área. Le recomendamos encarecidamente que trabaje en esta área problemática. Rellene las columnas H-J",IF(C12=0,"Esta área no es aplicable a su empresa.","")))) -> Esta área no es aplicable a su empresa. | E12: 2. Promoción y retención equilibradas entre géneros | F12: La organización no hace ningún esfuerzo específico para garantizar la igualdad de representación de género en los puestos de alta dirección, ni tiene objetivos para ello | G12: Crear un proceso sólido para fomentar y facilitar la promoción de empleados/as del género subrepresentado en puestos de alta dirección (p. ej., permitir la flexibilidad, políticas de promoción objetivas) | K12: =IFERROR(VLOOKUP($I12,'Idea prioritization list'!$D$1:$E$3,2,0),0)+IFERROR(VLOOKUP($H12,'Idea prioritization list'!$D$1:$E$3,2,0),0)+IFERROR(VLOOKUP($J12,'Idea prioritization list'!$D$1:$E$3,2,0),0) -> 0
B13: 2.3 ¿Ofrece su organización programas de mentoría de mujer a mujer o de hombre a hombre? | C13: ='Assessment answers'!B16 -> 0 | D13: =IF(C13>=3,"Ha obtenido una buena puntuación en esta área. Centre sus esfuerzos en otras áreas problemáticas.",IF(AND(C13<3,C13>=2),"Ha obtenido una puntuación por debajo de la media en esta área. Le sugerimos que trabaje en esta área problemática. Rellene las columnas H-J",IF(AND(C13<2,C13>0),"Ha obtenido una puntuación baja en esta área. Le recomendamos encarecidamente que trabaje en esta área problemática. Rellene las columnas H-J",IF(C13=0,"Esta área no es aplicable a su empresa.","")))) -> Esta área no es aplicable a su empresa. | E13: 2. Promoción y retención equilibradas entre géneros | F13: La organización no ofrece tutorías específicas de género | G13: Ofrecer programas específico de mentoría de mujer a mujer o de hombre a hombre para empleados/as | K13: =IFERROR(VLOOKUP($I13,'Idea prioritization list'!$D$1:$E$3,2,0),0)+IFERROR(VLOOKUP($H13,'Idea prioritization list'!$D$1:$E$3,2,0),0)+IFERROR(VLOOKUP($J13,'Idea prioritization list'!$D$1:$E$3,2,0),0) -> 0
B14: 3.1 ¿Ofrece su organización el mismo salario a empleados/as de todos los géneros con el mismo nivel de responsabilidad? | C14: ='Assessment answers'!B18 -> 0 | D14: =IF(C14>=3,"Ha obtenido una buena puntuación en esta área. Centre sus esfuerzos en otras áreas problemáticas.",IF(AND(C14<3,C14>=2),"Ha obtenido una puntuación por debajo de la media en esta área. Le sugerimos que trabaje en esta área problemática. Rellene las columnas H-J",IF(AND(C14<2,C14>0),"Ha obtenido una puntuación baja en esta área. Le recomendamos encarecidamente que trabaje en esta área problemática. Rellene las columnas H-J",IF(C14=0,"Esta área no es aplicable a su empresa.","")))) -> Esta área no es aplicable a su empresa. | E14: 3. Políticas y prácticas de RRHH con perspectiva de género | F14: Los salarios se negocian caso por caso, independientemente del género | G14: Crear un proceso para garantizar que los empleados con un nivel de responsabilidad equivalente tengan el mismo salario, independientemente de su género, en todos los niveles de la organización | K14: =IFERROR(VLOOKUP($I14,'Idea prioritization list'!$D$1:$E$3,2,0),0)+IFERROR(VLOOKUP($H14,'Idea prioritization list'!$D$1:$E$3,2,0),0)+IFERROR(VLOOKUP($J14,'Idea prioritization list'!$D$1:$E$3,2,0),0) -> 0
B15: 3.2 ¿Proporciona su organización transparencia sobre los niveles salariales y la ratio de la brecha salarial de género? | C15: ='Assessment answers'!B19 -> 0 | D15: =IF(C15>=3,"Ha obtenido una buena puntuación en esta área. Centre sus esfuerzos en otras áreas problemáticas.",IF(AND(C15<3,C15>=2),"Ha obtenido una puntuación por debajo de la media en esta área. Le sugerimos que trabaje en esta área problemática. Rellene las columnas H-J",IF(AND(C15<2,C15>0),"Ha obtenido una puntuación baja en esta área. Le recomendamos encarecidamente que trabaje en esta área problemática. Rellene las columnas H-J",IF(C15=0,"Esta área no es aplicable a su empresa.","")))) -> Esta área no es aplicable a su empresa. | E15: 3. Políticas y prácticas de RRHH con perspectiva de género | F15: No hay transparencia sobre los niveles salariales de los/as empleados/as | G15: Comunicar de forma transparente los niveles salariales, desglosados por género, y debatir las políticas salariales con el equipo para garantizar que no haya discriminación por razón de género (o percepción de la misma) | K15: =IFERROR(VLOOKUP($I15,'Idea prioritization list'!$D$1:$E$3,2,0),0)+IFERROR(VLOOKUP($H15,'Idea prioritization list'!$D$1:$E$3,2,0),0)+IFERROR(VLOOKUP($J15,'Idea prioritization list'!$D$1:$E$3,2,0),0) -> 0
B16: 3.3 ¿Garantiza su organización criterios claros y objetivos para los aumentos salariales y los ascensos, teniendo en cuenta las diferencias entre géneros a la hora de abordar estas discusiones/negociaciones? | C16: ='Assessment answers'!B20 -> 0 | D16: =IF(C16>=3,"Ha obtenido una buena puntuación en esta área. Centre sus esfuerzos en otras áreas problemáticas.",IF(AND(C16<3,C16>=2),"Ha obtenido una puntuación por debajo de la media en esta área. Le sugerimos que trabaje en esta área problemática. Rellene las columnas H-J",IF(AND(C16<2,C16>0),"Ha obtenido una puntuación baja en esta área. Le recomendamos encarecidamente que trabaje en esta área problemática. Rellene las columnas H-J",IF(C16=0,"Esta área no es aplicable a su empresa.","")))) -> Esta área no es aplicable a su empresa. | E16: 3. Políticas y prácticas de RRHH con perspectiva de género | F16: No existen criterios claros y objetivos para los aumentos salariales y los ascensos que tengan en cuenta la dinámica de género | G16: Comunicar con transparencia qué nivel salarial cabe esperar para los distintos niveles de responsabilidad, y ofrecer aumentos salariales basados en criterios objetivos y bien definidos. Los aumentos salariales se debaten en un comité con diversidad de género. Si procede, sensibilizar a los empleados/as (especialmente a las mujeres) sobre su tendencia a ser menos expresivos/as sobre sus demandas | K16: =IFERROR(VLOOKUP($I16,'Idea prioritization list'!$D$1:$E$3,2,0),0)+IFERROR(VLOOKUP($H16,'Idea prioritization list'!$D$1:$E$3,2,0),0)+IFERROR(VLOOKUP($J16,'Idea prioritization list'!$D$1:$E$3,2,0),0) -> 0
B17: 3.4 ¿Dispone su organización de una política de baja parental retribuida? | C17: ='Assessment answers'!B21 -> 0 | D17: =IF(C17>=3,"Ha obtenido una buena puntuación en esta área. Centre sus esfuerzos en otras áreas problemáticas.",IF(AND(C17<3,C17>=2),"Ha obtenido una puntuación por debajo de la media en esta área. Le sugerimos que trabaje en esta área problemática. Rellene las columnas H-J",IF(AND(C17<2,C17>0),"Ha obtenido una puntuación baja en esta área. Le recomendamos encarecidamente que trabaje en esta área problemática. Rellene las columnas H-J",IF(C17=0,"Esta área no es aplicable a su empresa.","")))) -> Esta área no es aplicable a su empresa. | E17: 3. Políticas y prácticas de RRHH con perspectiva de género | F17: La organización sólo ofrece permisos de maternidad no retribuidos a las nuevas madres | G17: Proporcionar un permiso parental retribuido que vaya más allá de lo establecido por la ley (es decir, durante un periodo más largo y/o con una mayor remuneración), en igualdad de condiciones para madres y padres biológicos y no biológicos, y animar activamente a los padres a beneficiarse de dicha política en la misma medida que las madres | K17: =IFERROR(VLOOKUP($I17,'Idea prioritization list'!$D$1:$E$3,2,0),0)+IFERROR(VLOOKUP($H17,'Idea prioritization list'!$D$1:$E$3,2,0),0)+IFERROR(VLOOKUP($J17,'Idea prioritization list'!$D$1:$E$3,2,0),0) -> 0
B18: 3.5 ¿Ofrece su organización condiciones laborales que tengan en cuenta las necesidades específicas de las madres, los padres y las mujeres embarazadas que trabajan? | C18: ='Assessment answers'!B22 -> 0 | D18: =IF(C18>=3,"Ha obtenido una buena puntuación en esta área. Centre sus esfuerzos en otras áreas problemáticas.",IF(AND(C18<3,C18>=2),"Ha obtenido una puntuación por debajo de la media en esta área. Le sugerimos que trabaje en esta área problemática. Rellene las columnas H-J",IF(AND(C18<2,C18>0),"Ha obtenido una puntuación baja en esta área. Le recomendamos encarecidamente que trabaje en esta área problemática. Rellene las columnas H-J",IF(C18=0,"Esta área no es aplicable a su empresa.","")))) -> Esta área no es aplicable a su empresa. | E18: 3. Políticas y prácticas de RRHH con perspectiva de género | F18: Los/as (futuros/as) padres, madres y cuidadores/as tienen las mismas condiciones laborales que los demás | G18: Crear iniciativas sólidas para facilitar las condiciones de trabajo de los/as (futuros/as) padres, madres y cuidadores/as, además del trabajo a tiempo parcial, el trabajo a distancia y los horarios flexibles. Por ejemplo, ofrecer salas de lactancia, guarderías in situ, tiempo libre personal adicional para responsabilidades de cuidado, etc. | K18: =IFERROR(VLOOKUP($I18,'Idea prioritization list'!$D$1:$E$3,2,0),0)+IFERROR(VLOOKUP($H18,'Idea prioritization list'!$D$1:$E$3,2,0),0)+IFERROR(VLOOKUP($J18,'Idea prioritization list'!$D$1:$E$3,2,0),0) -> 0
B19: 3.6 ¿Permite generalmente su organización el trabajo a tiempo parcial tanto para mujeres como para hombres? | C19: ='Assessment answers'!B23 -> 0 | D19: =IF(C19>=3,"Ha obtenido una buena puntuación en esta área. Centre sus esfuerzos en otras áreas problemáticas.",IF(AND(C19<3,C19>=2),"Ha obtenido una puntuación por debajo de la media en esta área. Le sugerimos que trabaje en esta área problemática. Rellene las columnas H-J",IF(AND(C19<2,C19>0),"Ha obtenido una puntuación baja en esta área. Le recomendamos encarecidamente que trabaje en esta área problemática. Rellene las columnas H-J",IF(C19=0,"Esta área no es aplicable a su empresa.","")))) -> Esta área no es aplicable a su empresa. | E19: 3. Políticas y prácticas de RRHH con perspectiva de género | F19: No se permite la jornada parcial | G19: Permitir el trabajo a tiempo parcial a todos los/as empleados/as, independientemente de su género o situación personal | K19: =IFERROR(VLOOKUP($I19,'Idea prioritization list'!$D$1:$E$3,2,0),0)+IFERROR(VLOOKUP($H19,'Idea prioritization list'!$D$1:$E$3,2,0),0)+IFERROR(VLOOKUP($J19,'Idea prioritization list'!$D$1:$E$3,2,0),0) -> 0
B20: 3.7 ¿Ofrece su organización flexibilidad para trabajar a distancia (excluida la normativa COVID-19)? | C20: ='Assessment answers'!B24 -> 0 | D20: =IF(C20>=3,"Ha obtenido una buena puntuación en esta área. Centre sus esfuerzos en otras áreas problemáticas.",IF(AND(C20<3,C20>=2),"Ha obtenido una puntuación por debajo de la media en esta área. Le sugerimos que trabaje en esta área problemática. Rellene las columnas H-J",IF(AND(C20<2,C20>0),"Ha obtenido una puntuación baja en esta área. Le recomendamos encarecidamente que trabaje en esta área problemática. Rellene las columnas H-J",IF(C20=0,"Esta área no es aplicable a su empresa.","")))) -> Esta área no es aplicable a su empresa. | E20: 3. Políticas y prácticas de RRHH con perspectiva de género | F20: No se permite el trabajo a distancia | G20: Animar a los/as empleados/as a trabajar a distancia siempre que sea necesario y/o permitir el trabajo a distancia al menos 1 día a la semana | K20: =IFERROR(VLOOKUP($I20,'Idea prioritization list'!$D$1:$E$3,2,0),0)+IFERROR(VLOOKUP($H20,'Idea prioritization list'!$D$1:$E$3,2,0),0)+IFERROR(VLOOKUP($J20,'Idea prioritization list'!$D$1:$E$3,2,0),0) -> 0
B21: 3.8 ¿Dispone su organización de políticas para prevenir y abordar el acoso sexual? (p. ej., dónde/cómo denunciar, consecuencias, etc.) | C21: ='Assessment answers'!B25 -> 0 | D21: =IF(C21>=3,"Ha obtenido una buena puntuación en esta área. Centre sus esfuerzos en otras áreas problemáticas.",IF(AND(C21<3,C21>=2),"Ha obtenido una puntuación por debajo de la media en esta área. Le sugerimos que trabaje en esta área problemática. Rellene las columnas H-J",IF(AND(C21<2,C21>0),"Ha obtenido una puntuación baja en esta área. Le recomendamos encarecidamente que trabaje en esta área problemática. Rellene las columnas H-J",IF(C21=0,"Esta área no es aplicable a su empresa.","")))) -> Esta área no es aplicable a su empresa. | E21: 3. Políticas y prácticas de RRHH con perspectiva de género | F21: No existen políticas sobre acoso sexual | G21: Diseñar una política contra el acoso sexual que incluye un proceso/canal específico para denunciar los casos a una persona especializada y con conocimientos (p. ej., un defensor del pueblo, un mediador), que está a disposición de los/as empleados/as que quieran hablar de cualquier tipo de situación, manteniendo la confidencialidad. El proceso para tratar los casos también está claramente definido | K21: =IFERROR(VLOOKUP($I21,'Idea prioritization list'!$D$1:$E$3,2,0),0)+IFERROR(VLOOKUP($H21,'Idea prioritization list'!$D$1:$E$3,2,0),0)+IFERROR(VLOOKUP($J21,'Idea prioritization list'!$D$1:$E$3,2,0),0) -> 0
B22: 3.9 ¿Ofrece su organización formación sobre sesgos de género a los/as empleados/as y a la dirección (es decir, para que todos/as comprendan que tienen sesgos y cómo abordarlos o mitigarlos)? | C22: ='Assessment answers'!B26 -> 0 | D22: =IF(C22>=3,"Ha obtenido una buena puntuación en esta área. Centre sus esfuerzos en otras áreas problemáticas.",IF(AND(C22<3,C22>=2),"Ha obtenido una puntuación por debajo de la media en esta área. Le sugerimos que trabaje en esta área problemática. Rellene las columnas H-J",IF(AND(C22<2,C22>0),"Ha obtenido una puntuación baja en esta área. Le recomendamos encarecidamente que trabaje en esta área problemática. Rellene las columnas H-J",IF(C22=0,"Esta área no es aplicable a su empresa.","")))) -> Esta área no es aplicable a su empresa. | E22: 3. Políticas y prácticas de RRHH con perspectiva de género | F22: El equipo no es consciente de sus propios prejuicios de género y/o de cómo mitigarlo | G22: Orecer una formación obligatoria para los/as empleados/as de todas las funciones y niveles jerárquicos | K22: =IFERROR(VLOOKUP($I22,'Idea prioritization list'!$D$1:$E$3,2,0),0)+IFERROR(VLOOKUP($H22,'Idea prioritization list'!$D$1:$E$3,2,0),0)+IFERROR(VLOOKUP($J22,'Idea prioritization list'!$D$1:$E$3,2,0),0) -> 0
B23: 3.10 ¿Proporciona su organización "feedback" de manera diferenciada según el género, teniendo en cuenta las necesidades y preferencias específicas relacionadas con el género? | C23: ='Assessment answers'!B27 -> 0 | D23: =IF(C23>=3,"Ha obtenido una buena puntuación en esta área. Centre sus esfuerzos en otras áreas problemáticas.",IF(AND(C23<3,C23>=2),"Ha obtenido una puntuación por debajo de la media en esta área. Le sugerimos que trabaje en esta área problemática. Rellene las columnas H-J",IF(AND(C23<2,C23>0),"Ha obtenido una puntuación baja en esta área. Le recomendamos encarecidamente que trabaje en esta área problemática. Rellene las columnas H-J",IF(C23=0,"Esta área no es aplicable a su empresa.","")))) -> Esta área no es aplicable a su empresa. | E23: 3. Políticas y prácticas de RRHH con perspectiva de género | F23: El "feedback" se proporciona de la misma manera a hombres y mujeres, sin tener en cuenta las necesidades y preferencias específicas de cada género | G23: Todos/as los/as supervisores/as están formados/as para ofrecer "feedback" diferenciado en función del género de los/as empleados/as (p. ej. utilizando "feedback" centrado en los puntos fuertes con los/as empleados/as más inseguros/as) | K23: =IFERROR(VLOOKUP($I23,'Idea prioritization list'!$D$1:$E$3,2,0),0)+IFERROR(VLOOKUP($H23,'Idea prioritization list'!$D$1:$E$3,2,0),0)+IFERROR(VLOOKUP($J23,'Idea prioritization list'!$D$1:$E$3,2,0),0) -> 0
B24: 3.11 ¿Recoge su organización datos desglosados por género relativos a los recursos humanos, los analiza y actúa en consecuencia? | C24: ='Assessment answers'!B28 -> 0 | D24: =IF(C24>=3,"Ha obtenido una buena puntuación en esta área. Centre sus esfuerzos en otras áreas problemáticas.",IF(AND(C24<3,C24>=2),"Ha obtenido una puntuación por debajo de la media en esta área. Le sugerimos que trabaje en esta área problemática. Rellene las columnas H-J",IF(AND(C24<2,C24>0),"Ha obtenido una puntuación baja en esta área. Le recomendamos encarecidamente que trabaje en esta área problemática. Rellene las columnas H-J",IF(C24=0,"Esta área no es aplicable a su empresa.","")))) -> Esta área no es aplicable a su empresa. | E24: 3. Políticas y prácticas de RRHH con perspectiva de género | F24: La organización no recopila, analiza y/o actúa a partir de datos desglosados por género relacionados con los recursos humanos | G24: Recopilar y analizar sistemáticamente datos desglosados por género relativos a todos los procedimientos de recursos humanos, con vistas a mejorar el lugar de trabajo para todos/as los/as empleados/as | K24: =IFERROR(VLOOKUP($I24,'Idea prioritization list'!$D$1:$E$3,2,0),0)+IFERROR(VLOOKUP($H24,'Idea prioritization list'!$D$1:$E$3,2,0),0)+IFERROR(VLOOKUP($J24,'Idea prioritization list'!$D$1:$E$3,2,0),0) -> 0
B25: 4.1 ¿Qué proporción (%) de los miembros del Consejo de administración de su organización son mujeres? | C25: ='Assessment answers'!B30 -> 0 | D25: =IF(C25>=3,"Ha obtenido una buena puntuación en esta área. Centre sus esfuerzos en otras áreas problemáticas.",IF(AND(C25<3,C25>=2),"Ha obtenido una puntuación por debajo de la media en esta área. Le sugerimos que trabaje en esta área problemática. Rellene las columnas H-J",IF(AND(C25<2,C25>0),"Ha obtenido una puntuación baja en esta área. Le recomendamos encarecidamente que trabaje en esta área problemática. Rellene las columnas H-J",IF(C25=0,"Esta área no es aplicable a su empresa.","")))) -> Esta área no es aplicable a su empresa. | E25: 4. Diversidad en el Consejo de administración | F25: Un género está subrepresentado en el Consejo de administración | G25: Crear un proceso sólido para buscar e incorporar miembros del género subrepresentado en el Consejo (p. ej. ampliando la reserva de candidatos/as a perfiles no tradicionales, presentando un discurso promocional ajustado a lo que valor a el género subrepresentado) | K25: =IFERROR(VLOOKUP($I25,'Idea prioritization list'!$D$1:$E$3,2,0),0)+IFERROR(VLOOKUP($H25,'Idea prioritization list'!$D$1:$E$3,2,0),0)+IFERROR(VLOOKUP($J25,'Idea prioritization list'!$D$1:$E$3,2,0),0) -> 0
B26: 4.2 ¿Trata su organización de incorporar activamente miembros del género subrepresentado en el Consejo? | C26: ='Assessment answers'!B31 -> 0 | D26: =IF(C26>=3,"Ha obtenido una buena puntuación en esta área. Centre sus esfuerzos en otras áreas problemáticas.",IF(AND(C26<3,C26>=2),"Ha obtenido una puntuación por debajo de la media en esta área. Le sugerimos que trabaje en esta área problemática. Rellene las columnas H-J",IF(AND(C26<2,C26>0),"Ha obtenido una puntuación baja en esta área. Le recomendamos encarecidamente que trabaje en esta área problemática. Rellene las columnas H-J",IF(C26=0,"Esta área no es aplicable a su empresa.","")))) -> Esta área no es aplicable a su empresa. | E26: 4. Diversidad en el Consejo de administración | F26: La organización no realiza ningún esfuerzo específico para garantizar la representación equitativa de género en el Consejo de administración, ni tiene objetivos para ello | G26: Crear un proceso sólido para buscar e incorporar miembros del género subrepresentado en el Consejo (p. ej. ampliando la reserva de candidatos/as a perfiles no tradicionales, presentando un discurso promocional ajustado a lo que valor a el género subrepresentado) | K26: =IFERROR(VLOOKUP($I26,'Idea prioritization list'!$D$1:$E$3,2,0),0)+IFERROR(VLOOKUP($H26,'Idea prioritization list'!$D$1:$E$3,2,0),0)+IFERROR(VLOOKUP($J26,'Idea prioritization list'!$D$1:$E$3,2,0),0) -> 0
B27: 5.1 ¿Realiza su organización estudios sobre los/as clientes/as para conocer sus preferencias y necesidades desglosadas por género? | C27: ='Assessment answers'!B33 -> 0 | D27: =IF(C27>=3,"Ha obtenido una buena puntuación en esta área. Centre sus esfuerzos en otras áreas problemáticas.",IF(AND(C27<3,C27>=2),"Ha obtenido una puntuación por debajo de la media en esta área. Le sugerimos que trabaje en esta área problemática. Rellene las columnas H-J",IF(AND(C27<2,C27>0),"Ha obtenido una puntuación baja en esta área. Le recomendamos encarecidamente que trabaje en esta área problemática. Rellene las columnas H-J",IF(C27=0,"Esta área no es aplicable a su empresa.","")))) -> Esta área no es aplicable a su empresa. | E27: 5. Diseño de productos y estudios de mercado con perspectiva de género | F27: La organización no realiza estudios sobre los/as clientes/as para conocer sus preferencias y necesidades de forma desglosada por género | G27: Investigar sistemáticamente a los/as clientes/as para conocer sus necesidades y preferencias desglosadas por género en todos los productos/servicios | K27: =IFERROR(VLOOKUP($I27,'Idea prioritization list'!$D$1:$E$3,2,0),0)+IFERROR(VLOOKUP($H27,'Idea prioritization list'!$D$1:$E$3,2,0),0)+IFERROR(VLOOKUP($J27,'Idea prioritization list'!$D$1:$E$3,2,0),0) -> 0
B28: 5.2 ¿Tiene en cuenta su organización los aspectos relacionados con el género en el desarrollo de sus principales productos/servicios? | C28: ='Assessment answers'!B34 -> 0 | D28: =IF(C28>=3,"Ha obtenido una buena puntuación en esta área. Centre sus esfuerzos en otras áreas problemáticas.",IF(AND(C28<3,C28>=2),"Ha obtenido una puntuación por debajo de la media en esta área. Le sugerimos que trabaje en esta área problemática. Rellene las columnas H-J",IF(AND(C28<2,C28>0),"Ha obtenido una puntuación baja en esta área. Le recomendamos encarecidamente que trabaje en esta área problemática. Rellene las columnas H-J",IF(C28=0,"Esta área no es aplicable a su empresa.","")))) -> Esta área no es aplicable a su empresa. | E28: 5. Diseño de productos y estudios de mercado con perspectiva de género | F28: La organización no tiene en cuenta los aspectos relacionados con el género en el desarrollo del producto o servicio principal | G28: Integrar sistemáticamente las necesidades y preferencias específicas de mujeres y hombres en el desarrollo de la gama de productos, buscando nuevas oportunidades de mercado no aprovechadas | K28: =IFERROR(VLOOKUP($I28,'Idea prioritization list'!$D$1:$E$3,2,0),0)+IFERROR(VLOOKUP($H28,'Idea prioritization list'!$D$1:$E$3,2,0),0)+IFERROR(VLOOKUP($J28,'Idea prioritization list'!$D$1:$E$3,2,0),0) -> 0
B29: 5.3 ¿Personaliza su organización las características de sus productos/servicios para responder a las necesidades específicas de las mujeres/hombres? (p. ej., cambiar la talla, el color, las condiciones) | C29: ='Assessment answers'!B35 -> 0 | D29: =IF(C29>=3,"Ha obtenido una buena puntuación en esta área. Centre sus esfuerzos en otras áreas problemáticas.",IF(AND(C29<3,C29>=2),"Ha obtenido una puntuación por debajo de la media en esta área. Le sugerimos que trabaje en esta área problemática. Rellene las columnas H-J",IF(AND(C29<2,C29>0),"Ha obtenido una puntuación baja en esta área. Le recomendamos encarecidamente que trabaje en esta área problemática. Rellene las columnas H-J",IF(C29=0,"Esta área no es aplicable a su empresa.","")))) -> Esta área no es aplicable a su empresa. | E29: 5. Diseño de productos y estudios de mercado con perspectiva de género | F29: La organización no personaliza las características de los productos/servicios para responder a las necesidades específicas de las mujeres/hombres (p. ej., cambiar la talla, el color, las condiciones) | G29: Integrar sistemáticamente las necesidades y preferencias específicas de mujeres y hombres en el desarrollo de la gama de productos, buscando nuevas oportunidades de mercado no aprovechadas | K29: =IFERROR(VLOOKUP($I29,'Idea prioritization list'!$D$1:$E$3,2,0),0)+IFERROR(VLOOKUP($H29,'Idea prioritization list'!$D$1:$E$3,2,0),0)+IFERROR(VLOOKUP($J29,'Idea prioritization list'!$D$1:$E$3,2,0),0) -> 0
B30: 6.1 ¿Los materiales de marketing de su organización están sesgados por género (p.ej., dirigidos mayormente a un género o reforzando estereotipos de género tradicionales)? | C30: ='Assessment answers'!B37 -> 0 | D30: =IF(C30>=3,"Ha obtenido una buena puntuación en esta área. Centre sus esfuerzos en otras áreas problemáticas.",IF(AND(C30<3,C30>=2),"Ha obtenido una puntuación por debajo de la media en esta área. Le sugerimos que trabaje en esta área problemática. Rellene las columnas H-J",IF(AND(C30<2,C30>0),"Ha obtenido una puntuación baja en esta área. Le recomendamos encarecidamente que trabaje en esta área problemática. Rellene las columnas H-J",IF(C30=0,"Esta área no es aplicable a su empresa.","")))) -> Esta área no es aplicable a su empresa. | E30: 6. Marketing y comunicación con perspectiva de género | F30: La organización no es consciente de cómo su material de marketing podría tener prejuicios de género | G30: Intentar conscientemente contrarrestar los estereotipos de género y apelar a una amplia gama de aspiraciones y estilos de vida en los materiales de marketing | K30: =IFERROR(VLOOKUP($I30,'Idea prioritization list'!$D$1:$E$3,2,0),0)+IFERROR(VLOOKUP($H30,'Idea prioritization list'!$D$1:$E$3,2,0),0)+IFERROR(VLOOKUP($J30,'Idea prioritization list'!$D$1:$E$3,2,0),0) -> 0
B31: 6.2 Si su organización se dirige a clientes/as de todos los géneros, ¿dispone de materiales de marketing diferenciados por género? (p.ej. diferentes mensajes de marketing que reflejen las diferentes razones de compra entre mujeres y hombres) | C31: ='Assessment answers'!B38 -> 0 | D31: =IF(C31>=3,"Ha obtenido una buena puntuación en esta área. Centre sus esfuerzos en otras áreas problemáticas.",IF(AND(C31<3,C31>=2),"Ha obtenido una puntuación por debajo de la media en esta área. Le sugerimos que trabaje en esta área problemática. Rellene las columnas H-J",IF(AND(C31<2,C31>0),"Ha obtenido una puntuación baja en esta área. Le recomendamos encarecidamente que trabaje en esta área problemática. Rellene las columnas H-J",IF(C31=0,"Esta área no es aplicable a su empresa.","")))) -> Esta área no es aplicable a su empresa. | E31: 6. Marketing y comunicación con perspectiva de género | F31: Aunque la organización tiene clientes/as de todos los géneros, el marketing se dirige principalmente a uno de ellos | G31: Tener en cuenta los hábitos de compra y las preferencias de hombres y mujeres a la hora de crear materiales de marketing. Cuando proceda, desarrollar estrategias de marketing diferenciadas para atraer a mujeres y hombres (p. ej., adaptando el mensaje, los canales y los elementos visuales) | K31: =IFERROR(VLOOKUP($I31,'Idea prioritization list'!$D$1:$E$3,2,0),0)+IFERROR(VLOOKUP($H31,'Idea prioritization list'!$D$1:$E$3,2,0),0)+IFERROR(VLOOKUP($J31,'Idea prioritization list'!$D$1:$E$3,2,0),0) -> 0
B32: 6.3 Si su organización se dirige a clientes/as de todos los géneros, ¿dispone de una estrategia de ventas diferenciada por género? (p. ej., diferentes lugares/enfoques, puntos de venta diferenciados) | C32: ='Assessment answers'!B39 -> 0 | D32: =IF(C32>=3,"Ha obtenido una buena puntuación en esta área. Centre sus esfuerzos en otras áreas problemáticas.",IF(AND(C32<3,C32>=2),"Ha obtenido una puntuación por debajo de la media en esta área. Le sugerimos que trabaje en esta área problemática. Rellene las columnas H-J",IF(AND(C32<2,C32>0),"Ha obtenido una puntuación baja en esta área. Le recomendamos encarecidamente que trabaje en esta área problemática. Rellene las columnas H-J",IF(C32=0,"Esta área no es aplicable a su empresa.","")))) -> Esta área no es aplicable a su empresa. | E32: 6. Marketing y comunicación con perspectiva de género | F32: Aunque la organización tiene clientes/as de todos los géneros, las ventas se dirigen principalmente a uno de ellos | G32: Tener en cuenta los hábitos de compra y las preferencias de hombres y mujeres a la hora de crear materiales de marketing. Cuando proceda, desarrollar estrategias de marketing diferenciadas para atraer a mujeres y hombres (p. ej., adaptando el mensaje, los canales y los elementos visuales) | K32: =IFERROR(VLOOKUP($I32,'Idea prioritization list'!$D$1:$E$3,2,0),0)+IFERROR(VLOOKUP($H32,'Idea prioritization list'!$D$1:$E$3,2,0),0)+IFERROR(VLOOKUP($J32,'Idea prioritization list'!$D$1:$E$3,2,0),0) -> 0
B33: 6.4 Si su organización se dirige a clientes/as de todos los géneros, ¿recoge, analiza y actúa sobre el impacto de su negocio de forma desglosada por género? | C33: ='Assessment answers'!B40 -> 0 | D33: =IF(C33>=3,"Ha obtenido una buena puntuación en esta área. Centre sus esfuerzos en otras áreas problemáticas.",IF(AND(C33<3,C33>=2),"Ha obtenido una puntuación por debajo de la media en esta área. Le sugerimos que trabaje en esta área problemática. Rellene las columnas H-J",IF(AND(C33<2,C33>0),"Ha obtenido una puntuación baja en esta área. Le recomendamos encarecidamente que trabaje en esta área problemática. Rellene las columnas H-J",IF(C33=0,"Esta área no es aplicable a su empresa.","")))) -> Esta área no es aplicable a su empresa. | E33: 6. Marketing y comunicación con perspectiva de género | F33: Aunque la organización tiene clientes/as de todos los géneros, no recopila, analiza ni actúa sobre el impacto de la actividad empresarial de forma desglosada por género | G33: Recopilar y analizar sistemáticamente datos desglosados por género en los estudios de mercado y de impacto empresarial, con vistas a mejorar el producto/servicio para todos/as los/as clientes/as | K33: =IFERROR(VLOOKUP($I33,'Idea prioritization list'!$D$1:$E$3,2,0),0)+IFERROR(VLOOKUP($H33,'Idea prioritization list'!$D$1:$E$3,2,0),0)+IFERROR(VLOOKUP($J33,'Idea prioritization list'!$D$1:$E$3,2,0),0) -> 0
B34: 7.1 ¿Qué proporción (%) del personal de ventas de su organización (tanto agentes de ventas internos/as como subcontratados/intermediarios/as) son mujeres? | C34: ='Assessment answers'!B42 -> 0 | D34: =IF(C34>=3,"Ha obtenido una buena puntuación en esta área. Centre sus esfuerzos en otras áreas problemáticas.",IF(AND(C34<3,C34>=2),"Ha obtenido una puntuación por debajo de la media en esta área. Le sugerimos que trabaje en esta área problemática. Rellene las columnas H-J",IF(AND(C34<2,C34>0),"Ha obtenido una puntuación baja en esta área. Le recomendamos encarecidamente que trabaje en esta área problemática. Rellene las columnas H-J",IF(C34=0,"Esta área no es aplicable a su empresa.","")))) -> Esta área no es aplicable a su empresa. | E34: 7. Diversidad en los equipos de distribución y ventas | F34: Un género está subrepresentado en el equipo de ventas | G34: Crear un sólido proceso para contratar a comerciales del género subrepresentado en el personal de ventas (p. ej., enfoques de inscripción innovadores, ampliación de la reserva de candidatos/as a perfiles no tradicionales), y esforzarse constantemente por retenerlos/as | K34: =IFERROR(VLOOKUP($I34,'Idea prioritization list'!$D$1:$E$3,2,0),0)+IFERROR(VLOOKUP($H34,'Idea prioritization list'!$D$1:$E$3,2,0),0)+IFERROR(VLOOKUP($J34,'Idea prioritization list'!$D$1:$E$3,2,0),0) -> 0
B35: 7.2 ¿Trata su organización activamente de contratar y retener a comerciales del género subrepresentado en su personal de ventas? | C35: ='Assessment answers'!B43 -> 0 | D35: =IF(C35>=3,"Ha obtenido una buena puntuación en esta área. Centre sus esfuerzos en otras áreas problemáticas.",IF(AND(C35<3,C35>=2),"Ha obtenido una puntuación por debajo de la media en esta área. Le sugerimos que trabaje en esta área problemática. Rellene las columnas H-J",IF(AND(C35<2,C35>0),"Ha obtenido una puntuación baja en esta área. Le recomendamos encarecidamente que trabaje en esta área problemática. Rellene las columnas H-J",IF(C35=0,"Esta área no es aplicable a su empresa.","")))) -> Esta área no es aplicable a su empresa. | E35: 7. Diversidad en los equipos de distribución y ventas | F35: La organización no hace ningún esfuerzo específico para garantizar la representación equitativa de género en el personal de ventas, ni tiene objetivos para ello | G35: Crear un sólido proceso para contratar a comerciales del género subrepresentado en el personal de ventas (p. ej., enfoques de inscripción innovadores, ampliación de la reserva de candidatos/as a perfiles no tradicionales), y esforzarse constantemente por retenerlos/as | K35: =IFERROR(VLOOKUP($I35,'Idea prioritization list'!$D$1:$E$3,2,0),0)+IFERROR(VLOOKUP($H35,'Idea prioritization list'!$D$1:$E$3,2,0),0)+IFERROR(VLOOKUP($J35,'Idea prioritization list'!$D$1:$E$3,2,0),0) -> 0
B36: 7.3 ¿Dispone su organización de políticas especiales para garantizar que los comerciales puedan realizar su trabajo de forma segura y productiva teniendo en cuenta las cuestiones específicas de género? (p.ej. transporte nocturno, políticas de gestión de efectivo) | C36: ='Assessment answers'!B44 -> 0 | D36: =IF(C36>=3,"Ha obtenido una buena puntuación en esta área. Centre sus esfuerzos en otras áreas problemáticas.",IF(AND(C36<3,C36>=2),"Ha obtenido una puntuación por debajo de la media en esta área. Le sugerimos que trabaje en esta área problemática. Rellene las columnas H-J",IF(AND(C36<2,C36>0),"Ha obtenido una puntuación baja en esta área. Le recomendamos encarecidamente que trabaje en esta área problemática. Rellene las columnas H-J",IF(C36=0,"Esta área no es aplicable a su empresa.","")))) -> Esta área no es aplicable a su empresa. | E36: 7. Diversidad en los equipos de distribución y ventas | F36: No existen políticas que garanticen que los comerciales puedan desempeñar su trabajo de forma segura y productiva teniendo en cuenta las cuestiones específicas de género | G36: Diseñar un sólido proceso para garantizar la productividad y la seguridad del personal de ventas teniendo en cuenta las cuestiones específicas de género, y tratar de mejorar sus condiciones de trabajo basándose en continuos comentarios y sugerencias | K36: =IFERROR(VLOOKUP($I36,'Idea prioritization list'!$D$1:$E$3,2,0),0)+IFERROR(VLOOKUP($H36,'Idea prioritization list'!$D$1:$E$3,2,0),0)+IFERROR(VLOOKUP($J36,'Idea prioritization list'!$D$1:$E$3,2,0),0) -> 0
B37: 8.1 ¿Recoge su organización datos de clientes/as desglosados por género (p. ej. satisfacción del cliente por género), los analiza y actúa en consecuencia para comprender y atender mejor a sus clientes/as? | C37: ='Assessment answers'!B46 -> 0 | D37: =IF(C37>=3,"Ha obtenido una buena puntuación en esta área. Centre sus esfuerzos en otras áreas problemáticas.",IF(AND(C37<3,C37>=2),"Ha obtenido una puntuación por debajo de la media en esta área. Le sugerimos que trabaje en esta área problemática. Rellene las columnas H-J",IF(AND(C37<2,C37>0),"Ha obtenido una puntuación baja en esta área. Le recomendamos encarecidamente que trabaje en esta área problemática. Rellene las columnas H-J",IF(C37=0,"Esta área no es aplicable a su empresa.","")))) -> Esta área no es aplicable a su empresa. | E37: 8. Atención al cliente con perspectiva de género | F37: Los datos de los/as clientes/as de la organización no están desglosados por género | G37: Recopilar y analizar sistemáticamente datos de clientes/as desglosados por género, con vistas a ofrecer un mejor servicio al cliente | K37: =IFERROR(VLOOKUP($I37,'Idea prioritization list'!$D$1:$E$3,2,0),0)+IFERROR(VLOOKUP($H37,'Idea prioritization list'!$D$1:$E$3,2,0),0)+IFERROR(VLOOKUP($J37,'Idea prioritization list'!$D$1:$E$3,2,0),0) -> 0
